BEGIN:VCALENDAR
VERSION:2.0
PRODID:-//American Surf and Turf - ECPv6.15.18//NONSGML v1.0//EN
CALSCALE:GREGORIAN
METHOD:PUBLISH
X-ORIGINAL-URL:https://fishhugger.com
X-WR-CALDESC:Events for American Surf and Turf
REFRESH-INTERVAL;VALUE=DURATION:PT1H
X-Robots-Tag:noindex
X-PUBLISHED-TTL:PT1H
BEGIN:VTIMEZONE
TZID:America/Phoenix
BEGIN:STANDARD
TZOFFSETFROM:-0700
TZOFFSETTO:-0700
TZNAME:MST
DTSTART:20250101T000000
END:STANDARD
END:VTIMEZONE
BEGIN:VEVENT
DTSTART;TZID=America/Phoenix:20260301T090000
DTEND;TZID=America/Phoenix:20260301T130000
DTSTAMP:20260419T223559
CREATED:20260115T171416Z
LAST-MODIFIED:20260115T171416Z
UID:3325-1772355600-1772370000@fishhugger.com
SUMMARY:Ahwatukee Farmers Market-Phoenix AZ-Sunday
DESCRIPTION:Sundays 9am-1pm at Ahwatukee Swim & Tennis Center (4700 E Warner Rd\, Phoenix 85044). Wild Alaska Salmon\, New Mexico Grass-Finished Beef\, New Mexico Natural Pork\, Arizona Raw Honey and so much more! Ask for the FishHuggers!
URL:https://fishhugger.com/event/ahwatukee-farmers-market-phoenix-az-sunday-29/
LOCATION:Ahwatukee Farmers Market\, 4700 E Warner Rd\, Phoenix\, AZ\, 85044\, United States
CATEGORIES:Markets
ATTACH;FMTTYPE=image/jpeg:https://fishhugger.com/wp-content/uploads/2025/01/IMG_4723.jpg
END:VEVENT
BEGIN:VEVENT
DTSTART;TZID=America/Phoenix:20260307T080000
DTEND;TZID=America/Phoenix:20260307T120000
DTSTAMP:20260419T223559
CREATED:20260115T171304Z
LAST-MODIFIED:20260115T171304Z
UID:3319-1772870400-1772884800@fishhugger.com
SUMMARY:Roadrunner Park Farmers Market-Phoenix AZ-Saturday
DESCRIPTION:Saturdays 8am-12pm at Roadrunner Park (3502 E Cactus Rd\, Phoenix 85032). Alaska Wild Salmon\, New Mexico Grass-Finished Beef\, New Mexico Natural Pork\, Arizona Local Raw Honey and so much more! Ask for the FishHuggers!
URL:https://fishhugger.com/event/roadrunner-park-farmers-market-phoenix-az-saturday-32/
LOCATION:Roadrunner Park Farmers Market\, 3502 E Cactus Rd\, Phoenxi\, AZ\, 85032\, United States
CATEGORIES:Markets
ATTACH;FMTTYPE=image/jpeg:https://fishhugger.com/wp-content/uploads/2024/10/IMG_2014-3.jpg
END:VEVENT
BEGIN:VEVENT
DTSTART;TZID=America/Phoenix:20260308T090000
DTEND;TZID=America/Phoenix:20260308T130000
DTSTAMP:20260419T223559
CREATED:20260115T171435Z
LAST-MODIFIED:20260115T171435Z
UID:3327-1772960400-1772974800@fishhugger.com
SUMMARY:Ahwatukee Farmers Market-Phoenix AZ-Sunday
DESCRIPTION:Sundays 9am-1pm at Ahwatukee Swim & Tennis Center (4700 E Warner Rd\, Phoenix 85044). Wild Alaska Salmon\, New Mexico Grass-Finished Beef\, New Mexico Natural Pork\, Arizona Raw Honey and so much more! Ask for the FishHuggers!
URL:https://fishhugger.com/event/ahwatukee-farmers-market-phoenix-az-sunday-30/
LOCATION:Ahwatukee Farmers Market\, 4700 E Warner Rd\, Phoenix\, AZ\, 85044\, United States
CATEGORIES:Markets
ATTACH;FMTTYPE=image/jpeg:https://fishhugger.com/wp-content/uploads/2025/01/IMG_4723.jpg
END:VEVENT
BEGIN:VEVENT
DTSTART;TZID=America/Phoenix:20260314T080000
DTEND;TZID=America/Phoenix:20260314T120000
DTSTAMP:20260419T223559
CREATED:20260305T202944Z
LAST-MODIFIED:20260305T202944Z
UID:3358-1773475200-1773489600@fishhugger.com
SUMMARY:Roadrunner Park Farmers Market-Phoenix AZ-Saturday
DESCRIPTION:Saturdays 8am-12pm at Roadrunner Park (3502 E Cactus Rd\, Phoenix 85032). Alaska Wild Salmon\, New Mexico Grass-Finished Beef\, New Mexico Natural Pork\, Arizona Local Raw Honey and so much more! Ask for the FishHuggers!
URL:https://fishhugger.com/event/roadrunner-park-farmers-market-phoenix-az-saturday-33/
LOCATION:Roadrunner Park Farmers Market\, 3502 E Cactus Rd\, Phoenxi\, AZ\, 85032\, United States
CATEGORIES:Markets
ATTACH;FMTTYPE=image/jpeg:https://fishhugger.com/wp-content/uploads/2024/10/IMG_2014-3.jpg
END:VEVENT
BEGIN:VEVENT
DTSTART;TZID=America/Phoenix:20260315T090000
DTEND;TZID=America/Phoenix:20260315T130000
DTSTAMP:20260419T223559
CREATED:20260305T203136Z
LAST-MODIFIED:20260305T203136Z
UID:3366-1773565200-1773579600@fishhugger.com
SUMMARY:Ahwatukee Farmers Market-Phoenix AZ-Sunday
DESCRIPTION:Sundays 9am-1pm at Ahwatukee Swim & Tennis Center (4700 E Warner Rd\, Phoenix 85044). Wild Alaska Salmon\, New Mexico Grass-Finished Beef\, New Mexico Natural Pork\, Arizona Raw Honey and so much more! Ask for the FishHuggers!
URL:https://fishhugger.com/event/ahwatukee-farmers-market-phoenix-az-sunday-31/
LOCATION:Ahwatukee Farmers Market\, 4700 E Warner Rd\, Phoenix\, AZ\, 85044\, United States
CATEGORIES:Markets
ATTACH;FMTTYPE=image/jpeg:https://fishhugger.com/wp-content/uploads/2025/01/IMG_4723.jpg
END:VEVENT
BEGIN:VEVENT
DTSTART;TZID=America/Phoenix:20260321T080000
DTEND;TZID=America/Phoenix:20260321T110000
DTSTAMP:20260419T223559
CREATED:20260305T203007Z
LAST-MODIFIED:20260317T165652Z
UID:3360-1774080000-1774090800@fishhugger.com
SUMMARY:Roadrunner Park Farmers Market-Phoenix AZ-Saturday
DESCRIPTION:Saturdays 8am-12pm at Roadrunner Park (3502 E Cactus Rd\, Phoenix 85032). Alaska Wild Salmon\, New Mexico Grass-Finished Beef\, New Mexico Natural Pork\, Arizona Local Raw Honey and so much more! Ask for the FishHuggers! **Amended hours this Saturday due to extreme heat**
URL:https://fishhugger.com/event/roadrunner-park-farmers-market-phoenix-az-saturday-34/
LOCATION:Roadrunner Park Farmers Market\, 3502 E Cactus Rd\, Phoenxi\, AZ\, 85032\, United States
CATEGORIES:Markets
ATTACH;FMTTYPE=image/jpeg:https://fishhugger.com/wp-content/uploads/2024/10/IMG_2014-3.jpg
END:VEVENT
BEGIN:VEVENT
DTSTART;VALUE=DATE:20260322
DTEND;VALUE=DATE:20260323
DTSTAMP:20260419T223559
CREATED:20260305T202908Z
LAST-MODIFIED:20260305T202908Z
UID:3356-1774137600-1774223999@fishhugger.com
SUMMARY:NO MARKET in Ahwatukee Today
DESCRIPTION:Due to an annual event scheduled by the Ahwatukee HOA\, the farmers market will not be held today. Catch us back next Sunday\, March 29!
URL:https://fishhugger.com/event/no-market-in-ahwatukee-today-2/
LOCATION:NM
CATEGORIES:Markets
END:VEVENT
BEGIN:VEVENT
DTSTART;TZID=America/Phoenix:20260328T080000
DTEND;TZID=America/Phoenix:20260328T120000
DTSTAMP:20260419T223559
CREATED:20260305T203029Z
LAST-MODIFIED:20260305T203029Z
UID:3362-1774684800-1774699200@fishhugger.com
SUMMARY:Roadrunner Park Farmers Market-Phoenix AZ-Saturday
DESCRIPTION:Saturdays 8am-12pm at Roadrunner Park (3502 E Cactus Rd\, Phoenix 85032). Alaska Wild Salmon\, New Mexico Grass-Finished Beef\, New Mexico Natural Pork\, Arizona Local Raw Honey and so much more! Ask for the FishHuggers!
URL:https://fishhugger.com/event/roadrunner-park-farmers-market-phoenix-az-saturday-35/
LOCATION:Roadrunner Park Farmers Market\, 3502 E Cactus Rd\, Phoenxi\, AZ\, 85032\, United States
CATEGORIES:Markets
ATTACH;FMTTYPE=image/jpeg:https://fishhugger.com/wp-content/uploads/2024/10/IMG_2014-3.jpg
END:VEVENT
BEGIN:VEVENT
DTSTART;TZID=America/Phoenix:20260329T090000
DTEND;TZID=America/Phoenix:20260329T130000
DTSTAMP:20260419T223559
CREATED:20260305T203205Z
LAST-MODIFIED:20260305T203205Z
UID:3368-1774774800-1774789200@fishhugger.com
SUMMARY:Ahwatukee Farmers Market-Phoenix AZ-Sunday
DESCRIPTION:Sundays 9am-1pm at Ahwatukee Swim & Tennis Center (4700 E Warner Rd\, Phoenix 85044). Wild Alaska Salmon\, New Mexico Grass-Finished Beef\, New Mexico Natural Pork\, Arizona Raw Honey and so much more! Ask for the FishHuggers!
URL:https://fishhugger.com/event/ahwatukee-farmers-market-phoenix-az-sunday-32/
LOCATION:Ahwatukee Farmers Market\, 4700 E Warner Rd\, Phoenix\, AZ\, 85044\, United States
CATEGORIES:Markets
ATTACH;FMTTYPE=image/jpeg:https://fishhugger.com/wp-content/uploads/2025/01/IMG_4723.jpg
END:VEVENT
END:VCALENDAR