BEGIN:VCALENDAR
VERSION:2.0
PRODID:-//American Surf and Turf - ECPv6.15.18//NONSGML v1.0//EN
CALSCALE:GREGORIAN
METHOD:PUBLISH
X-WR-CALNAME:American Surf and Turf
X-ORIGINAL-URL:https://fishhugger.com
X-WR-CALDESC:Events for American Surf and Turf
REFRESH-INTERVAL;VALUE=DURATION:PT1H
X-Robots-Tag:noindex
X-PUBLISHED-TTL:PT1H
BEGIN:VTIMEZONE
TZID:America/Phoenix
BEGIN:STANDARD
TZOFFSETFROM:-0700
TZOFFSETTO:-0700
TZNAME:MST
DTSTART:20240101T000000
END:STANDARD
END:VTIMEZONE
BEGIN:VEVENT
DTSTART;TZID=America/Phoenix:20251004T080000
DTEND;TZID=America/Phoenix:20251004T110000
DTSTAMP:20260422T053526
CREATED:20250923T222050Z
LAST-MODIFIED:20250923T222050Z
UID:3148-1759564800-1759575600@fishhugger.com
SUMMARY:Los Ranchos Growers Market-Albuquerque NM-Saturday
DESCRIPTION:Saturdays 8am-11am\, 6718 Rio Grande Blvd NW\, Los Ranchos NM 87107. Alaska Wild Salmon & Seafood\, New Mexico Grassfed-Grassfinished Beef\, New Mexico Pork\, New Mexico Local Raw Honey\, and so much more! Ask for the FishHugger Family.
URL:https://fishhugger.com/event/los-ranchos-growers-market-albuquerque-nm-saturday-21/
LOCATION:Los Ranchos Growers Market\, 6718 Rio Grande Blvd NW\, Los Ranchos\, NM\, 87107
CATEGORIES:Markets
ATTACH;FMTTYPE=image/jpeg:https://fishhugger.com/wp-content/uploads/2021/05/LRFave-e1623434707736.jpg
END:VEVENT
BEGIN:VEVENT
DTSTART;TZID=America/Phoenix:20251011T080000
DTEND;TZID=America/Phoenix:20251011T110000
DTSTAMP:20260422T053526
CREATED:20250923T222110Z
LAST-MODIFIED:20250923T222110Z
UID:3150-1760169600-1760180400@fishhugger.com
SUMMARY:Los Ranchos Growers Market-Albuquerque NM-Saturday
DESCRIPTION:Saturdays 8am-11am\, 6718 Rio Grande Blvd NW\, Los Ranchos NM 87107. Alaska Wild Salmon & Seafood\, New Mexico Grassfed-Grassfinished Beef\, New Mexico Pork\, New Mexico Local Raw Honey\, and so much more! Ask for the FishHugger Family.
URL:https://fishhugger.com/event/los-ranchos-growers-market-albuquerque-nm-saturday-22/
LOCATION:Los Ranchos Growers Market\, 6718 Rio Grande Blvd NW\, Los Ranchos\, NM\, 87107
CATEGORIES:Markets
ATTACH;FMTTYPE=image/jpeg:https://fishhugger.com/wp-content/uploads/2021/05/LRFave-e1623434707736.jpg
END:VEVENT
BEGIN:VEVENT
DTSTART;TZID=America/Phoenix:20251018T080000
DTEND;TZID=America/Phoenix:20251018T110000
DTSTAMP:20260422T053526
CREATED:20250923T222129Z
LAST-MODIFIED:20250923T222129Z
UID:3152-1760774400-1760785200@fishhugger.com
SUMMARY:Los Ranchos Growers Market-Albuquerque NM-Saturday
DESCRIPTION:Saturdays 8am-11am\, 6718 Rio Grande Blvd NW\, Los Ranchos NM 87107. Alaska Wild Salmon & Seafood\, New Mexico Grassfed-Grassfinished Beef\, New Mexico Pork\, New Mexico Local Raw Honey\, and so much more! Ask for the FishHugger Family.
URL:https://fishhugger.com/event/los-ranchos-growers-market-albuquerque-nm-saturday-23/
LOCATION:Los Ranchos Growers Market\, 6718 Rio Grande Blvd NW\, Los Ranchos\, NM\, 87107
CATEGORIES:Markets
ATTACH;FMTTYPE=image/jpeg:https://fishhugger.com/wp-content/uploads/2021/05/LRFave-e1623434707736.jpg
END:VEVENT
END:VCALENDAR