BEGIN:VCALENDAR
VERSION:2.0
PRODID:-//American Surf and Turf - ECPv6.15.18//NONSGML v1.0//EN
CALSCALE:GREGORIAN
METHOD:PUBLISH
X-WR-CALNAME:American Surf and Turf
X-ORIGINAL-URL:https://fishhugger.com
X-WR-CALDESC:Events for American Surf and Turf
REFRESH-INTERVAL;VALUE=DURATION:PT1H
X-Robots-Tag:noindex
X-PUBLISHED-TTL:PT1H
BEGIN:VTIMEZONE
TZID:America/Phoenix
BEGIN:STANDARD
TZOFFSETFROM:-0700
TZOFFSETTO:-0700
TZNAME:MST
DTSTART:20240101T000000
END:STANDARD
END:VTIMEZONE
BEGIN:VEVENT
DTSTART;TZID=America/Phoenix:20250802T080000
DTEND;TZID=America/Phoenix:20250802T110000
DTSTAMP:20260422T080357
CREATED:20250723T163609Z
LAST-MODIFIED:20250723T163609Z
UID:3076-1754121600-1754132400@fishhugger.com
SUMMARY:Los Ranchos Growers Market-Albuquerque NM-Saturday
DESCRIPTION:Saturdays 8am-11am\, 6718 Rio Grande Blvd NW\, Los Ranchos NM 87107. Alaska Wild Salmon & Seafood\, New Mexico Grassfed-Grassfinished Beef\, New Mexico Pork\, New Mexico Local Raw Honey\, and so much more! Ask for the FishHugger Family.
URL:https://fishhugger.com/event/los-ranchos-growers-market-albuquerque-nm-saturday-12/
LOCATION:Los Ranchos Growers Market\, 6718 Rio Grande Blvd NW\, Los Ranchos\, NM\, 87107
CATEGORIES:Markets
ATTACH;FMTTYPE=image/jpeg:https://fishhugger.com/wp-content/uploads/2021/05/LRFave-e1623434707736.jpg
END:VEVENT
BEGIN:VEVENT
DTSTART;TZID=America/Phoenix:20250805T080000
DTEND;TZID=America/Phoenix:20250805T200000
DTSTAMP:20260422T080357
CREATED:20250723T190013Z
LAST-MODIFIED:20250723T190013Z
UID:3105-1754380800-1754424000@fishhugger.com
SUMMARY:Phoenix August 5&6 - Please Order!
DESCRIPTION:Hello FishHuggers! We’re making a quick trip to Phoenix for those who order in advance. Orders will be picked up at our home (near Thomas Rd & 44th St – address provided upon order) on Tuesday\, August 5 and Wednesday\, August 6. Please place your order via email  by 11:59pm on Saturday\, August 2. We offer several bundle and stock up options on our current price list. Many consumers are best satisfied with a custom order\, it’s a great way to eat what you want when you want it. Should you need assistance determining your freezer needs\, please contact us\, we’re here to help. Payment will be accepted at the time of pick up.
URL:https://fishhugger.com/event/phoenix-august-56-please-order/
LOCATION:Fishhugger Central (Phoenix)
CATEGORIES:Markets
ATTACH;FMTTYPE=image/jpeg:https://fishhugger.com/wp-content/uploads/2020/06/AZFlag.jpg
ORGANIZER;CN="Kenny & Brenna":MAILTO:info@fishhugger.com
END:VEVENT
BEGIN:VEVENT
DTSTART;TZID=America/Phoenix:20250806T080000
DTEND;TZID=America/Phoenix:20250806T200000
DTSTAMP:20260422T080357
CREATED:20250723T190042Z
LAST-MODIFIED:20250723T190042Z
UID:3107-1754467200-1754510400@fishhugger.com
SUMMARY:Phoenix August 5&6 - Please Order!
DESCRIPTION:Hello FishHuggers! We’re making a quick trip to Phoenix for those who order in advance. Orders will be picked up at our home (near Thomas Rd & 44th St – address provided upon order) on Tuesday\, August 5 and Wednesday\, August 6. Please place your order via email  by 11:59pm on Saturday\, August 2. We offer several bundle and stock up options on our current price list. Many consumers are best satisfied with a custom order\, it’s a great way to eat what you want when you want it. Should you need assistance determining your freezer needs\, please contact us\, we’re here to help. Payment will be accepted at the time of pick up.
URL:https://fishhugger.com/event/phoenix-august-56-please-order-2/
LOCATION:Fishhugger Central (Phoenix)
CATEGORIES:Markets
ATTACH;FMTTYPE=image/jpeg:https://fishhugger.com/wp-content/uploads/2020/06/AZFlag.jpg
ORGANIZER;CN="Kenny & Brenna":MAILTO:info@fishhugger.com
END:VEVENT
BEGIN:VEVENT
DTSTART;TZID=America/Phoenix:20250809T080000
DTEND;TZID=America/Phoenix:20250809T110000
DTSTAMP:20260422T080357
CREATED:20250723T163630Z
LAST-MODIFIED:20250723T163630Z
UID:3078-1754726400-1754737200@fishhugger.com
SUMMARY:Los Ranchos Growers Market-Albuquerque NM-Saturday
DESCRIPTION:Saturdays 8am-11am\, 6718 Rio Grande Blvd NW\, Los Ranchos NM 87107. Alaska Wild Salmon & Seafood\, New Mexico Grassfed-Grassfinished Beef\, New Mexico Pork\, New Mexico Local Raw Honey\, and so much more! Ask for the FishHugger Family.
URL:https://fishhugger.com/event/los-ranchos-growers-market-albuquerque-nm-saturday-13/
LOCATION:Los Ranchos Growers Market\, 6718 Rio Grande Blvd NW\, Los Ranchos\, NM\, 87107
CATEGORIES:Markets
ATTACH;FMTTYPE=image/jpeg:https://fishhugger.com/wp-content/uploads/2021/05/LRFave-e1623434707736.jpg
END:VEVENT
BEGIN:VEVENT
DTSTART;TZID=America/Phoenix:20250816T080000
DTEND;TZID=America/Phoenix:20250816T110000
DTSTAMP:20260422T080357
CREATED:20250723T163656Z
LAST-MODIFIED:20250723T163656Z
UID:3080-1755331200-1755342000@fishhugger.com
SUMMARY:Los Ranchos Growers Market-Albuquerque NM-Saturday
DESCRIPTION:Saturdays 8am-11am\, 6718 Rio Grande Blvd NW\, Los Ranchos NM 87107. Alaska Wild Salmon & Seafood\, New Mexico Grassfed-Grassfinished Beef\, New Mexico Pork\, New Mexico Local Raw Honey\, and so much more! Ask for the FishHugger Family.
URL:https://fishhugger.com/event/los-ranchos-growers-market-albuquerque-nm-saturday-14/
LOCATION:Los Ranchos Growers Market\, 6718 Rio Grande Blvd NW\, Los Ranchos\, NM\, 87107
CATEGORIES:Markets
ATTACH;FMTTYPE=image/jpeg:https://fishhugger.com/wp-content/uploads/2021/05/LRFave-e1623434707736.jpg
END:VEVENT
BEGIN:VEVENT
DTSTART;TZID=America/Phoenix:20250823T080000
DTEND;TZID=America/Phoenix:20250823T110000
DTSTAMP:20260422T080357
CREATED:20250723T163727Z
LAST-MODIFIED:20250723T163727Z
UID:3082-1755936000-1755946800@fishhugger.com
SUMMARY:Los Ranchos Growers Market-Albuquerque NM-Saturday
DESCRIPTION:Saturdays 8am-11am\, 6718 Rio Grande Blvd NW\, Los Ranchos NM 87107. Alaska Wild Salmon & Seafood\, New Mexico Grassfed-Grassfinished Beef\, New Mexico Pork\, New Mexico Local Raw Honey\, and so much more! Ask for the FishHugger Family.
URL:https://fishhugger.com/event/los-ranchos-growers-market-albuquerque-nm-saturday-15/
LOCATION:Los Ranchos Growers Market\, 6718 Rio Grande Blvd NW\, Los Ranchos\, NM\, 87107
CATEGORIES:Markets
ATTACH;FMTTYPE=image/jpeg:https://fishhugger.com/wp-content/uploads/2021/05/LRFave-e1623434707736.jpg
END:VEVENT
BEGIN:VEVENT
DTSTART;TZID=America/Phoenix:20250830T080000
DTEND;TZID=America/Phoenix:20250830T110000
DTSTAMP:20260422T080357
CREATED:20250723T163751Z
LAST-MODIFIED:20250723T163751Z
UID:3084-1756540800-1756551600@fishhugger.com
SUMMARY:Los Ranchos Growers Market-Albuquerque NM-Saturday
DESCRIPTION:Saturdays 8am-11am\, 6718 Rio Grande Blvd NW\, Los Ranchos NM 87107. Alaska Wild Salmon & Seafood\, New Mexico Grassfed-Grassfinished Beef\, New Mexico Pork\, New Mexico Local Raw Honey\, and so much more! Ask for the FishHugger Family.
URL:https://fishhugger.com/event/los-ranchos-growers-market-albuquerque-nm-saturday-16/
LOCATION:Los Ranchos Growers Market\, 6718 Rio Grande Blvd NW\, Los Ranchos\, NM\, 87107
CATEGORIES:Markets
ATTACH;FMTTYPE=image/jpeg:https://fishhugger.com/wp-content/uploads/2021/05/LRFave-e1623434707736.jpg
END:VEVENT
END:VCALENDAR