BEGIN:VCALENDAR
VERSION:2.0
PRODID:-//American Surf and Turf - ECPv6.15.18//NONSGML v1.0//EN
CALSCALE:GREGORIAN
METHOD:PUBLISH
X-ORIGINAL-URL:https://fishhugger.com
X-WR-CALDESC:Events for American Surf and Turf
REFRESH-INTERVAL;VALUE=DURATION:PT1H
X-Robots-Tag:noindex
X-PUBLISHED-TTL:PT1H
BEGIN:VTIMEZONE
TZID:America/Phoenix
BEGIN:STANDARD
TZOFFSETFROM:-0700
TZOFFSETTO:-0700
TZNAME:MST
DTSTART:20230101T000000
END:STANDARD
END:VTIMEZONE
BEGIN:VEVENT
DTSTART;TZID=America/Phoenix:20240706T080000
DTEND;TZID=America/Phoenix:20240706T110000
DTSTAMP:20260421T034104
CREATED:20240524T154418Z
LAST-MODIFIED:20240524T154418Z
UID:2575-1720252800-1720263600@fishhugger.com
SUMMARY:Los Ranchos Growers Market-Albuquerque NM-July 6
DESCRIPTION:Saturdays 8am-11am\, 6718 Rio Grande Blvd NW\, Los Ranchos NM 87107. Alaska Wild Salmon & Seafood\, New Mexico Local Raw Honey\, New Mexico Pork and so much more! Ask for the FishHugger Family. \nWe have beef and pork harvest dates scheduled throughout the summer and early fall. We anticipate having a full inventory of New Mexico Grassfed-Grassfinished-GrassFAT Beef available around the middle to the end of July 2024. We welcome orders for quarter\, side or whole beef or pig. Please order or further inquire via email: info@fishhugger.com
URL:https://fishhugger.com/event/los-ranchos-growers-market-albuquerque-nm-july-6/
LOCATION:Los Ranchos Growers Market\, 6718 Rio Grande Blvd NW\, Los Ranchos\, NM\, 87107
CATEGORIES:Markets
ATTACH;FMTTYPE=image/jpeg:https://fishhugger.com/wp-content/uploads/2021/05/LRFave-e1623434707736.jpg
END:VEVENT
BEGIN:VEVENT
DTSTART;TZID=America/Phoenix:20240713T080000
DTEND;TZID=America/Phoenix:20240713T110000
DTSTAMP:20260421T034104
CREATED:20240709T132415Z
LAST-MODIFIED:20240709T132415Z
UID:2587-1720857600-1720868400@fishhugger.com
SUMMARY:Los Ranchos Growers Market-Albuquerque NM-July 13
DESCRIPTION:Saturdays 8am-11am\, 6718 Rio Grande Blvd NW\, Los Ranchos NM 87107. Alaska Wild Salmon & Seafood\, New Mexico Local Raw Honey\, New Mexico Pork and so much more! Ask for the FishHugger Family.
URL:https://fishhugger.com/event/los-ranchos-growers-market-albuquerque-nm-july-13/
LOCATION:Los Ranchos Growers Market\, 6718 Rio Grande Blvd NW\, Los Ranchos\, NM\, 87107
CATEGORIES:Markets
ATTACH;FMTTYPE=image/jpeg:https://fishhugger.com/wp-content/uploads/2021/05/LRFave-e1623434707736.jpg
END:VEVENT
BEGIN:VEVENT
DTSTART;TZID=America/Phoenix:20240717T080000
DTEND;TZID=America/Phoenix:20240717T203000
DTSTAMP:20260421T034104
CREATED:20240712T181158Z
LAST-MODIFIED:20240718T211531Z
UID:2608-1721203200-1721248200@fishhugger.com
SUMMARY:Phoenix July 17 - Please Order!
DESCRIPTION:Hello FishHuggers! We’re making a quick trip to Phoenix for those who order in advance. Orders will be picked up at our home (near Thomas Rd & 44th St – address provided upon order) on Wednesday\, July 17. Please place your order via email by 8:00am on Monday\, July 15. We offer several bundle and stock up options on our current ‘Price List’ Many consumers are best satisfied with a custom order\, it’s a great way to eat what you want when you want it. Should you need assistance determining your freezer needs\, please contact us\, we’re here to help. Payment will be accepted at the time of pick up. \nORDER BY EMAIL: info@fishhugger.com or CALL 602.286.9233 by 8:00am Monday\, July 15\, 2023
URL:https://fishhugger.com/event/phoenix-july-17-please-order/
LOCATION:Fishhugger Central (Phoenix)
CATEGORIES:Markets
ATTACH;FMTTYPE=image/jpeg:https://fishhugger.com/wp-content/uploads/2020/06/AZFlag.jpg
ORGANIZER;CN="Kenny & Brenna":MAILTO:info@fishhugger.com
END:VEVENT
BEGIN:VEVENT
DTSTART;TZID=America/Phoenix:20240720T080000
DTEND;TZID=America/Phoenix:20240720T110000
DTSTAMP:20260421T034104
CREATED:20240709T132512Z
LAST-MODIFIED:20240709T132512Z
UID:2589-1721462400-1721473200@fishhugger.com
SUMMARY:Los Ranchos Growers Market-Albuquerque NM-July 20
DESCRIPTION:Saturdays 8am-11am\, 6718 Rio Grande Blvd NW\, Los Ranchos NM 87107. Alaska Wild Salmon & Seafood\, New Mexico Grassfed-Grassfinished Beef\, New Mexico Pork\, New Mexico Local Raw Honey\, and so much more! Ask for the FishHugger Family.
URL:https://fishhugger.com/event/los-ranchos-growers-market-albuquerque-nm-july-20/
LOCATION:Los Ranchos Growers Market\, 6718 Rio Grande Blvd NW\, Los Ranchos\, NM\, 87107
CATEGORIES:Markets
ATTACH;FMTTYPE=image/jpeg:https://fishhugger.com/wp-content/uploads/2021/05/LRFave-e1623434707736.jpg
END:VEVENT
BEGIN:VEVENT
DTSTART;TZID=America/Phoenix:20240727T080000
DTEND;TZID=America/Phoenix:20240727T110000
DTSTAMP:20260421T034104
CREATED:20240709T132557Z
LAST-MODIFIED:20240709T132557Z
UID:2591-1722067200-1722078000@fishhugger.com
SUMMARY:Los Ranchos Growers Market-Albuquerque NM-July 27
DESCRIPTION:Saturdays 8am-11am\, 6718 Rio Grande Blvd NW\, Los Ranchos NM 87107. Alaska Wild Salmon & Seafood\, New Mexico Grassfed-Grassfinished Beef\, New Mexico Pork\, New Mexico Local Raw Honey\, and so much more! Ask for the FishHugger Family.
URL:https://fishhugger.com/event/los-ranchos-growers-market-albuquerque-nm-july-27/
LOCATION:Los Ranchos Growers Market\, 6718 Rio Grande Blvd NW\, Los Ranchos\, NM\, 87107
CATEGORIES:Markets
ATTACH;FMTTYPE=image/jpeg:https://fishhugger.com/wp-content/uploads/2021/05/LRFave-e1623434707736.jpg
END:VEVENT
END:VCALENDAR