BEGIN:VCALENDAR
VERSION:2.0
PRODID:-//American Surf and Turf - ECPv6.15.18//NONSGML v1.0//EN
CALSCALE:GREGORIAN
METHOD:PUBLISH
X-WR-CALNAME:American Surf and Turf
X-ORIGINAL-URL:https://fishhugger.com
X-WR-CALDESC:Events for American Surf and Turf
REFRESH-INTERVAL;VALUE=DURATION:PT1H
X-Robots-Tag:noindex
X-PUBLISHED-TTL:PT1H
BEGIN:VTIMEZONE
TZID:America/Phoenix
BEGIN:STANDARD
TZOFFSETFROM:-0700
TZOFFSETTO:-0700
TZNAME:MST
DTSTART:20230101T000000
END:STANDARD
END:VTIMEZONE
BEGIN:VEVENT
DTSTART;TZID=America/Phoenix:20240504T080000
DTEND;TZID=America/Phoenix:20240504T120000
DTSTAMP:20260421T060357
CREATED:20240426T211658Z
LAST-MODIFIED:20240426T211658Z
UID:2539-1714809600-1714824000@fishhugger.com
SUMMARY:Roadrunner Park Farmers Market-Phoenix AZ-May 4
DESCRIPTION:Saturdays 8am-12pm at Roadrunner Park (3502 E Cactus Rd\, Phoenix 85032). Alaska Wild Salmon\, New Mexico Grass-Finished Beef\, New Mexico Natural Pork\, Arizona Local Raw Honey and so much more! Ask for the FishHuggers!
URL:https://fishhugger.com/event/roadrunner-park-farmers-market-phoenix-az-may-4/
LOCATION:Roadrunner Park Farmers Market\, 3502 E Cactus Rd\, Phoenxi\, AZ\, 85032\, United States
CATEGORIES:Markets
ATTACH;FMTTYPE=image/jpeg:https://fishhugger.com/wp-content/uploads/2021/08/IMG_7835-scaled.jpg
END:VEVENT
BEGIN:VEVENT
DTSTART;TZID=America/Phoenix:20240505T090000
DTEND;TZID=America/Phoenix:20240505T130000
DTSTAMP:20260421T060357
CREATED:20240426T211747Z
LAST-MODIFIED:20240426T211747Z
UID:2543-1714899600-1714914000@fishhugger.com
SUMMARY:Ahwatukee Farmers Market-Phoenix AZ-May 5
DESCRIPTION:Sundays 9am-1pm at Ahwatukee Swim & Tennis Center (4700 E Warner Rd\, Phoenix 85044). Wild Alaska Salmon\, New Mexico Grass-Finished Beef\, New Mexico Natural Pork\, Arizona Raw Honey and so much more! Ask for the FishHuggers!
URL:https://fishhugger.com/event/ahwatukee-farmers-market-phoenix-az-may-5/
LOCATION:Ahwatukee Farmers Market\, 4700 E Warner Rd\, Phoenix\, AZ\, 85044\, United States
CATEGORIES:Markets
ATTACH;FMTTYPE=image/jpeg:https://fishhugger.com/wp-content/uploads/2022/01/IMG_8311-scaled.jpg
END:VEVENT
BEGIN:VEVENT
DTSTART;TZID=America/Phoenix:20240511T080000
DTEND;TZID=America/Phoenix:20240511T120000
DTSTAMP:20260421T060357
CREATED:20240426T211725Z
LAST-MODIFIED:20240426T211725Z
UID:2541-1715414400-1715428800@fishhugger.com
SUMMARY:Roadrunner Park Farmers Market-Phoenix AZ-May 11
DESCRIPTION:Saturdays 8am-12pm at Roadrunner Park (3502 E Cactus Rd\, Phoenix 85032). Alaska Wild Salmon\, New Mexico Grass-Finished Beef\, New Mexico Natural Pork\, Arizona Local Raw Honey and so much more! Ask for the FishHuggers!
URL:https://fishhugger.com/event/roadrunner-park-farmers-market-phoenix-az-may-11/
LOCATION:Roadrunner Park Farmers Market\, 3502 E Cactus Rd\, Phoenxi\, AZ\, 85032\, United States
CATEGORIES:Markets
ATTACH;FMTTYPE=image/jpeg:https://fishhugger.com/wp-content/uploads/2021/08/IMG_7835-scaled.jpg
END:VEVENT
BEGIN:VEVENT
DTSTART;TZID=America/Phoenix:20240512T090000
DTEND;TZID=America/Phoenix:20240512T130000
DTSTAMP:20260421T060357
CREATED:20240426T211810Z
LAST-MODIFIED:20240426T211810Z
UID:2545-1715504400-1715518800@fishhugger.com
SUMMARY:Ahwatukee Farmers Market-Phoenix AZ-May 12
DESCRIPTION:Sundays 9am-1pm at Ahwatukee Swim & Tennis Center (4700 E Warner Rd\, Phoenix 85044). Wild Alaska Salmon\, New Mexico Grass-Finished Beef\, New Mexico Natural Pork\, Arizona Raw Honey and so much more! Ask for the FishHuggers!
URL:https://fishhugger.com/event/ahwatukee-farmers-market-phoenix-az-may-12/
LOCATION:Ahwatukee Farmers Market\, 4700 E Warner Rd\, Phoenix\, AZ\, 85044\, United States
CATEGORIES:Markets
ATTACH;FMTTYPE=image/jpeg:https://fishhugger.com/wp-content/uploads/2022/01/IMG_8311-scaled.jpg
END:VEVENT
BEGIN:VEVENT
DTSTART;TZID=America/Phoenix:20240525T080000
DTEND;TZID=America/Phoenix:20240525T110000
DTSTAMP:20260421T060357
CREATED:20240426T211932Z
LAST-MODIFIED:20240426T211932Z
UID:2547-1716624000-1716634800@fishhugger.com
SUMMARY:Los Ranchos Growers Market-Albuquerque NM-May 25
DESCRIPTION:Saturdays 8am-11am\, 6718 Rio Grande Blvd NW\, Los Ranchos NM 87107. Alaska Wild Salmon & Seafood\, New Mexico Local Raw Honey\, New Mexico Grassfinished-GrassFAT Beef\, New Mexico Pork and so much more! Ask for the FishHugger Family.
URL:https://fishhugger.com/event/los-ranchos-growers-market-albuquerque-nm-may-25/
LOCATION:Los Ranchos Growers Market\, 6718 Rio Grande Blvd NW\, Los Ranchos\, NM\, 87107
CATEGORIES:Markets
ATTACH;FMTTYPE=image/jpeg:https://fishhugger.com/wp-content/uploads/2021/05/LRFave-e1623434707736.jpg
END:VEVENT
END:VCALENDAR