BEGIN:VCALENDAR
VERSION:2.0
PRODID:-//American Surf and Turf - ECPv6.15.18//NONSGML v1.0//EN
CALSCALE:GREGORIAN
METHOD:PUBLISH
X-ORIGINAL-URL:https://fishhugger.com
X-WR-CALDESC:Events for American Surf and Turf
REFRESH-INTERVAL;VALUE=DURATION:PT1H
X-Robots-Tag:noindex
X-PUBLISHED-TTL:PT1H
BEGIN:VTIMEZONE
TZID:America/Phoenix
BEGIN:STANDARD
TZOFFSETFROM:-0700
TZOFFSETTO:-0700
TZNAME:MST
DTSTART:20230101T000000
END:STANDARD
END:VTIMEZONE
BEGIN:VEVENT
DTSTART;TZID=America/Phoenix:20240406T080000
DTEND;TZID=America/Phoenix:20240406T120000
DTSTAMP:20260421T071510
CREATED:20240212T183308Z
LAST-MODIFIED:20240212T183308Z
UID:2477-1712390400-1712404800@fishhugger.com
SUMMARY:Roadrunner Park Farmers Market-Phoenix AZ-April 6
DESCRIPTION:Saturdays 8am-12pm at Roadrunner Park (3502 E Cactus Rd\, Phoenix 85032). Alaska Wild Salmon\, New Mexico Grass-Finished Beef\, New Mexico Natural Pork\, Arizona Local Raw Honey and so much more! Ask for the FishHuggers!
URL:https://fishhugger.com/event/roadrunner-park-farmers-market-phoenix-az-april-6/
LOCATION:Roadrunner Park Farmers Market\, 3502 E Cactus Rd\, Phoenxi\, AZ\, 85032\, United States
CATEGORIES:Markets
ATTACH;FMTTYPE=image/jpeg:https://fishhugger.com/wp-content/uploads/2021/08/IMG_7835-scaled.jpg
END:VEVENT
BEGIN:VEVENT
DTSTART;TZID=America/Phoenix:20240407T090000
DTEND;TZID=America/Phoenix:20240407T130000
DTSTAMP:20260421T071510
CREATED:20240212T183734Z
LAST-MODIFIED:20240212T183734Z
UID:2495-1712480400-1712494800@fishhugger.com
SUMMARY:Ahwatukee Farmers Market-Phoenix AZ-April 7
DESCRIPTION:Sundays 9am-1pm at Ahwatukee Swim & Tennis Center (4700 E Warner Rd\, Phoenix 85044). Wild Alaska Salmon\, New Mexico Grass-Finished Beef\, New Mexico Natural Pork\, Arizona Raw Honey and so much more! Ask for the FishHuggers!
URL:https://fishhugger.com/event/ahwatukee-farmers-market-phoenix-az-april-7/
LOCATION:Ahwatukee Farmers Market\, 4700 E Warner Rd\, Phoenix\, AZ\, 85044\, United States
CATEGORIES:Markets
ATTACH;FMTTYPE=image/jpeg:https://fishhugger.com/wp-content/uploads/2022/01/IMG_8311-scaled.jpg
END:VEVENT
BEGIN:VEVENT
DTSTART;TZID=America/Phoenix:20240413T080000
DTEND;TZID=America/Phoenix:20240413T120000
DTSTAMP:20260421T071510
CREATED:20240212T183333Z
LAST-MODIFIED:20240212T183333Z
UID:2479-1712995200-1713009600@fishhugger.com
SUMMARY:Roadrunner Park Farmers Market-Phoenix AZ-April 13
DESCRIPTION:Saturdays 8am-12pm at Roadrunner Park (3502 E Cactus Rd\, Phoenix 85032). Alaska Wild Salmon\, New Mexico Grass-Finished Beef\, New Mexico Natural Pork\, Arizona Local Raw Honey and so much more! Ask for the FishHuggers!
URL:https://fishhugger.com/event/roadrunner-park-farmers-market-phoenix-az-april-13/
LOCATION:Roadrunner Park Farmers Market\, 3502 E Cactus Rd\, Phoenxi\, AZ\, 85032\, United States
CATEGORIES:Markets
ATTACH;FMTTYPE=image/jpeg:https://fishhugger.com/wp-content/uploads/2021/08/IMG_7835-scaled.jpg
END:VEVENT
BEGIN:VEVENT
DTSTART;TZID=America/Phoenix:20240414T090000
DTEND;TZID=America/Phoenix:20240414T130000
DTSTAMP:20260421T071510
CREATED:20240212T183803Z
LAST-MODIFIED:20240212T183803Z
UID:2497-1713085200-1713099600@fishhugger.com
SUMMARY:Ahwatukee Farmers Market-Phoenix AZ-April 14
DESCRIPTION:Sundays 9am-1pm at Ahwatukee Swim & Tennis Center (4700 E Warner Rd\, Phoenix 85044). Wild Alaska Salmon\, New Mexico Grass-Finished Beef\, New Mexico Natural Pork\, Arizona Raw Honey and so much more! Ask for the FishHuggers!
URL:https://fishhugger.com/event/ahwatukee-farmers-market-phoenix-az-april-14/
LOCATION:Ahwatukee Farmers Market\, 4700 E Warner Rd\, Phoenix\, AZ\, 85044\, United States
CATEGORIES:Markets
ATTACH;FMTTYPE=image/jpeg:https://fishhugger.com/wp-content/uploads/2022/01/IMG_8311-scaled.jpg
END:VEVENT
BEGIN:VEVENT
DTSTART;TZID=America/Phoenix:20240420T080000
DTEND;TZID=America/Phoenix:20240420T120000
DTSTAMP:20260421T071510
CREATED:20240212T183357Z
LAST-MODIFIED:20240212T183357Z
UID:2481-1713600000-1713614400@fishhugger.com
SUMMARY:Roadrunner Park Farmers Market-Phoenix AZ-April 20
DESCRIPTION:Saturdays 8am-12pm at Roadrunner Park (3502 E Cactus Rd\, Phoenix 85032). Alaska Wild Salmon\, New Mexico Grass-Finished Beef\, New Mexico Natural Pork\, Arizona Local Raw Honey and so much more! Ask for the FishHuggers!
URL:https://fishhugger.com/event/roadrunner-park-farmers-market-phoenix-az-april-20/
LOCATION:Roadrunner Park Farmers Market\, 3502 E Cactus Rd\, Phoenxi\, AZ\, 85032\, United States
CATEGORIES:Markets
ATTACH;FMTTYPE=image/jpeg:https://fishhugger.com/wp-content/uploads/2021/08/IMG_7835-scaled.jpg
END:VEVENT
BEGIN:VEVENT
DTSTART;TZID=America/Phoenix:20240421T090000
DTEND;TZID=America/Phoenix:20240421T130000
DTSTAMP:20260421T071510
CREATED:20240212T183828Z
LAST-MODIFIED:20240212T183828Z
UID:2499-1713690000-1713704400@fishhugger.com
SUMMARY:Ahwatukee Farmers Market-Phoenix AZ-April 21
DESCRIPTION:Sundays 9am-1pm at Ahwatukee Swim & Tennis Center (4700 E Warner Rd\, Phoenix 85044). Wild Alaska Salmon\, New Mexico Grass-Finished Beef\, New Mexico Natural Pork\, Arizona Raw Honey and so much more! Ask for the FishHuggers!
URL:https://fishhugger.com/event/ahwatukee-farmers-market-phoenix-az-april-21/
LOCATION:Ahwatukee Farmers Market\, 4700 E Warner Rd\, Phoenix\, AZ\, 85044\, United States
CATEGORIES:Markets
ATTACH;FMTTYPE=image/jpeg:https://fishhugger.com/wp-content/uploads/2022/01/IMG_8311-scaled.jpg
END:VEVENT
BEGIN:VEVENT
DTSTART;TZID=America/Phoenix:20240427T080000
DTEND;TZID=America/Phoenix:20240427T120000
DTSTAMP:20260421T071510
CREATED:20240212T183424Z
LAST-MODIFIED:20240212T183424Z
UID:2483-1714204800-1714219200@fishhugger.com
SUMMARY:Roadrunner Park Farmers Market-Phoenix AZ-April 27
DESCRIPTION:Saturdays 8am-12pm at Roadrunner Park (3502 E Cactus Rd\, Phoenix 85032). Alaska Wild Salmon\, New Mexico Grass-Finished Beef\, New Mexico Natural Pork\, Arizona Local Raw Honey and so much more! Ask for the FishHuggers!
URL:https://fishhugger.com/event/roadrunner-park-farmers-market-phoenix-az-april-27/
LOCATION:Roadrunner Park Farmers Market\, 3502 E Cactus Rd\, Phoenxi\, AZ\, 85032\, United States
CATEGORIES:Markets
ATTACH;FMTTYPE=image/jpeg:https://fishhugger.com/wp-content/uploads/2021/08/IMG_7835-scaled.jpg
END:VEVENT
BEGIN:VEVENT
DTSTART;TZID=America/Phoenix:20240428T090000
DTEND;TZID=America/Phoenix:20240428T130000
DTSTAMP:20260421T071510
CREATED:20240212T183855Z
LAST-MODIFIED:20240212T183855Z
UID:2501-1714294800-1714309200@fishhugger.com
SUMMARY:Ahwatukee Farmers Market-Phoenix AZ-April 28
DESCRIPTION:Sundays 9am-1pm at Ahwatukee Swim & Tennis Center (4700 E Warner Rd\, Phoenix 85044). Wild Alaska Salmon\, New Mexico Grass-Finished Beef\, New Mexico Natural Pork\, Arizona Raw Honey and so much more! Ask for the FishHuggers!
URL:https://fishhugger.com/event/ahwatukee-farmers-market-phoenix-az-april-28/
LOCATION:Ahwatukee Farmers Market\, 4700 E Warner Rd\, Phoenix\, AZ\, 85044\, United States
CATEGORIES:Markets
ATTACH;FMTTYPE=image/jpeg:https://fishhugger.com/wp-content/uploads/2022/01/IMG_8311-scaled.jpg
END:VEVENT
END:VCALENDAR