BEGIN:VCALENDAR
VERSION:2.0
PRODID:-//American Surf and Turf - ECPv6.15.18//NONSGML v1.0//EN
CALSCALE:GREGORIAN
METHOD:PUBLISH
X-WR-CALNAME:American Surf and Turf
X-ORIGINAL-URL:https://fishhugger.com
X-WR-CALDESC:Events for American Surf and Turf
REFRESH-INTERVAL;VALUE=DURATION:PT1H
X-Robots-Tag:noindex
X-PUBLISHED-TTL:PT1H
BEGIN:VTIMEZONE
TZID:America/Phoenix
BEGIN:STANDARD
TZOFFSETFROM:-0700
TZOFFSETTO:-0700
TZNAME:MST
DTSTART:20210101T000000
END:STANDARD
END:VTIMEZONE
BEGIN:VEVENT
DTSTART;TZID=America/Phoenix:20220903T080000
DTEND;TZID=America/Phoenix:20220903T110000
DTSTAMP:20260422T040842
CREATED:20220824T213031Z
LAST-MODIFIED:20220824T213031Z
UID:1725-1662192000-1662202800@fishhugger.com
SUMMARY:Los Ranchos Growers Market-September 3
DESCRIPTION:Saturdays 8am-11am\, 6718 Rio Grande Blvd NW\, Los Ranchos NM 87107. Alaska Wild Salmon & Seafood\, New Mexico Local Raw Honey\, New Mexico Grassfinished-GrassFAT Beef\, New Mexico Pork and so much more! Ask for the FishHugger Family.
URL:https://fishhugger.com/event/los-ranchos-growers-market-september-3/
LOCATION:Los Ranchos Growers Market\, 6718 Rio Grande Blvd NW\, Los Ranchos\, NM\, 87107
CATEGORIES:Markets
ATTACH;FMTTYPE=image/jpeg:https://fishhugger.com/wp-content/uploads/2021/05/LRFave-e1623434707736.jpg
END:VEVENT
BEGIN:VEVENT
DTSTART;TZID=America/Phoenix:20220907T100000
DTEND;TZID=America/Phoenix:20220908T190000
DTSTAMP:20260422T040842
CREATED:20220822T154132Z
LAST-MODIFIED:20220822T154132Z
UID:1716-1662544800-1662663600@fishhugger.com
SUMMARY:Phoenix September 7&8 - Please Order!
DESCRIPTION:Hello FishHuggers! We’re making a quick trip to Phoenix for those who order in advance. Orders will be picked up at our home (near Thomas Rd & 44th St – address provided upon order) on Wednesday & Thursday\, September 7 & 8. Please place your order via email by Friday\, September 2. We offer several case or stock up options on our current ‘Price List’ Many consumers are best satisfied with a custom order\, it’s a great way to eat what you want when you want it. Should you need assistance determining your freezer needs\, please contact us\, we’re here to help. Payment will be accepted at the time of pick up. \nORDER BY EMAIL: info@fishhugger.com or CALL 602.286.9233 by Friday\, September 2\, 2022
URL:https://fishhugger.com/event/phoenix-september-78-please-order/
LOCATION:Fishhugger Central (Phoenix)
CATEGORIES:Markets
ATTACH;FMTTYPE=image/jpeg:https://fishhugger.com/wp-content/uploads/2020/06/AZFlag.jpg
ORGANIZER;CN="Kenny & Brenna":MAILTO:info@fishhugger.com
END:VEVENT
BEGIN:VEVENT
DTSTART;TZID=America/Phoenix:20220917T080000
DTEND;TZID=America/Phoenix:20220917T110000
DTSTAMP:20260422T040842
CREATED:20220812T172945Z
LAST-MODIFIED:20220812T172945Z
UID:1691-1663401600-1663412400@fishhugger.com
SUMMARY:Los Ranchos Growers Market-September 17
DESCRIPTION:Saturdays 8am-11am\, 6718 Rio Grande Blvd NW\, Los Ranchos NM 87107. Alaska Wild Salmon & Seafood\, New Mexico Local Raw Honey\, New Mexico Grassfinished-GrassFAT Beef\, New Mexico Pork and so much more! Ask for the FishHugger Family.
URL:https://fishhugger.com/event/los-ranchos-growers-market-september-17/
LOCATION:Los Ranchos Growers Market\, 6718 Rio Grande Blvd NW\, Los Ranchos\, NM\, 87107
CATEGORIES:Markets
ATTACH;FMTTYPE=image/jpeg:https://fishhugger.com/wp-content/uploads/2021/05/LRFave-e1623434707736.jpg
END:VEVENT
BEGIN:VEVENT
DTSTART;TZID=America/Phoenix:20220924T080000
DTEND;TZID=America/Phoenix:20220924T110000
DTSTAMP:20260422T040842
CREATED:20220812T173023Z
LAST-MODIFIED:20220812T173023Z
UID:1693-1664006400-1664017200@fishhugger.com
SUMMARY:Los Ranchos Growers Market-September 24
DESCRIPTION:Saturdays 8am-11am\, 6718 Rio Grande Blvd NW\, Los Ranchos NM 87107. Alaska Wild Salmon & Seafood\, New Mexico Local Raw Honey\, New Mexico Grassfinished-GrassFAT Beef\, New Mexico Pork and so much more! Ask for the FishHugger Family.
URL:https://fishhugger.com/event/los-ranchos-growers-market-september-24/
LOCATION:Los Ranchos Growers Market\, 6718 Rio Grande Blvd NW\, Los Ranchos\, NM\, 87107
CATEGORIES:Markets
ATTACH;FMTTYPE=image/jpeg:https://fishhugger.com/wp-content/uploads/2021/05/LRFave-e1623434707736.jpg
END:VEVENT
END:VCALENDAR