BEGIN:VCALENDAR
VERSION:2.0
PRODID:-//American Surf and Turf - ECPv6.15.18//NONSGML v1.0//EN
CALSCALE:GREGORIAN
METHOD:PUBLISH
X-WR-CALNAME:American Surf and Turf
X-ORIGINAL-URL:https://fishhugger.com
X-WR-CALDESC:Events for American Surf and Turf
REFRESH-INTERVAL;VALUE=DURATION:PT1H
X-Robots-Tag:noindex
X-PUBLISHED-TTL:PT1H
BEGIN:VTIMEZONE
TZID:America/Phoenix
BEGIN:STANDARD
TZOFFSETFROM:-0700
TZOFFSETTO:-0700
TZNAME:MST
DTSTART:20210101T000000
END:STANDARD
END:VTIMEZONE
BEGIN:VEVENT
DTSTART;TZID=America/Phoenix:20220806T080000
DTEND;TZID=America/Phoenix:20220806T110000
DTSTAMP:20260422T051605
CREATED:20220718T213024Z
LAST-MODIFIED:20220718T213024Z
UID:1682-1659772800-1659783600@fishhugger.com
SUMMARY:Los Ranchos Growers Market-August 6
DESCRIPTION:Saturdays 8am-11am\, 6718 Rio Grande Blvd NW\, Los Ranchos NM 87107. Alaska Wild Salmon & Seafood\, New Mexico Local Raw Honey\, New Mexico Pork and so much more! New Mexico Grassfed-Grassfinished Beef coming soon. Ask for the FishHugger Family.
URL:https://fishhugger.com/event/los-ranchos-growers-market-august-6/
LOCATION:Los Ranchos Growers Market\, 6718 Rio Grande Blvd NW\, Los Ranchos\, NM\, 87107
CATEGORIES:Markets
ATTACH;FMTTYPE=image/jpeg:https://fishhugger.com/wp-content/uploads/2021/05/LRFave-e1623434707736.jpg
END:VEVENT
BEGIN:VEVENT
DTSTART;TZID=America/Phoenix:20220813T080000
DTEND;TZID=America/Phoenix:20220813T110000
DTSTAMP:20260422T051605
CREATED:20220718T213058Z
LAST-MODIFIED:20220812T173219Z
UID:1684-1660377600-1660388400@fishhugger.com
SUMMARY:Los Ranchos Growers Market-August 13
DESCRIPTION:Saturdays 8am-11am\, 6718 Rio Grande Blvd NW\, Los Ranchos NM 87107. Alaska Wild Salmon & Seafood\, New Mexico Local Raw Honey\, New Mexico Grassfinished-GrassFAT Beef\, New Mexico Pork and so much more! Ask for the FishHugger Family.
URL:https://fishhugger.com/event/los-ranchos-growers-market-august-13/
LOCATION:Los Ranchos Growers Market\, 6718 Rio Grande Blvd NW\, Los Ranchos\, NM\, 87107
CATEGORIES:Markets
ATTACH;FMTTYPE=image/jpeg:https://fishhugger.com/wp-content/uploads/2021/05/LRFave-e1623434707736.jpg
END:VEVENT
BEGIN:VEVENT
DTSTART;TZID=America/Phoenix:20220820T080000
DTEND;TZID=America/Phoenix:20220820T110000
DTSTAMP:20260422T051605
CREATED:20220718T213130Z
LAST-MODIFIED:20220812T173256Z
UID:1686-1660982400-1660993200@fishhugger.com
SUMMARY:Los Ranchos Growers Market-August 20
DESCRIPTION:Saturdays 8am-11am\, 6718 Rio Grande Blvd NW\, Los Ranchos NM 87107. Alaska Wild Salmon & Seafood\, New Mexico Local Raw Honey\, New Mexico Grassfinished-GrassFAT Beef\, New Mexico Pork and so much more! Ask for the FishHugger Family.
URL:https://fishhugger.com/event/los-ranchos-growers-market-august-20/
LOCATION:Los Ranchos Growers Market\, 6718 Rio Grande Blvd NW\, Los Ranchos\, NM\, 87107
CATEGORIES:Markets
ATTACH;FMTTYPE=image/jpeg:https://fishhugger.com/wp-content/uploads/2021/05/LRFave-e1623434707736.jpg
END:VEVENT
BEGIN:VEVENT
DTSTART;TZID=America/Phoenix:20220827T080000
DTEND;TZID=America/Phoenix:20220827T110000
DTSTAMP:20260422T051605
CREATED:20220718T213158Z
LAST-MODIFIED:20220812T173336Z
UID:1688-1661587200-1661598000@fishhugger.com
SUMMARY:Los Ranchos Growers Market-August 27
DESCRIPTION:Saturdays 8am-11am\, 6718 Rio Grande Blvd NW\, Los Ranchos NM 87107. Alaska Wild Salmon & Seafood\, New Mexico Local Raw Honey\, New Mexico Grassfinished-GrassFAT Beef\, New Mexico Pork and so much more! Ask for the FishHugger Family.
URL:https://fishhugger.com/event/los-ranchos-growers-market-august-27/
LOCATION:Los Ranchos Growers Market\, 6718 Rio Grande Blvd NW\, Los Ranchos\, NM\, 87107
CATEGORIES:Markets
ATTACH;FMTTYPE=image/jpeg:https://fishhugger.com/wp-content/uploads/2021/05/LRFave-e1623434707736.jpg
END:VEVENT
END:VCALENDAR