BEGIN:VCALENDAR
VERSION:2.0
PRODID:-//American Surf and Turf - ECPv6.15.18//NONSGML v1.0//EN
CALSCALE:GREGORIAN
METHOD:PUBLISH
X-WR-CALNAME:American Surf and Turf
X-ORIGINAL-URL:https://fishhugger.com
X-WR-CALDESC:Events for American Surf and Turf
REFRESH-INTERVAL;VALUE=DURATION:PT1H
X-Robots-Tag:noindex
X-PUBLISHED-TTL:PT1H
BEGIN:VTIMEZONE
TZID:America/Phoenix
BEGIN:STANDARD
TZOFFSETFROM:-0700
TZOFFSETTO:-0700
TZNAME:MST
DTSTART:20200101T000000
END:STANDARD
END:VTIMEZONE
BEGIN:VEVENT
DTSTART;TZID=America/Phoenix:20211120T010000
DTEND;TZID=America/Phoenix:20211120T060000
DTSTAMP:20260422T153506
CREATED:20211019T040552Z
LAST-MODIFIED:20211025T014737Z
UID:1202-1637370000-1637388000@fishhugger.com
SUMMARY:Roadrunner Park Farmers Market-November 20
DESCRIPTION:Saturdays 8am-1pm at Roadrunner Park (3502 E Cactus Rd\, Phoenix 85032). Alaska Wild Salmon & Seafood\, New Mexico Pasture-Finished Beef\, New Mexico Pork\, Arizona Local Raw Honey and so much more! Ask for the FishHuggers!
URL:https://fishhugger.com/event/roadrunner-park-farmers-market-november-20/
LOCATION:Roadrunner Park Farmers Market\, 3502 E Cactus Rd\, Phoenxi\, AZ\, 85032\, United States
CATEGORIES:Markets
ATTACH;FMTTYPE=image/jpeg:https://fishhugger.com/wp-content/uploads/2021/08/IMG_7835-scaled.jpg
END:VEVENT
BEGIN:VEVENT
DTSTART;TZID=America/Phoenix:20211114T020000
DTEND;TZID=America/Phoenix:20211114T060000
DTSTAMP:20260422T153506
CREATED:20211019T041029Z
LAST-MODIFIED:20211019T041029Z
UID:1210-1636855200-1636869600@fishhugger.com
SUMMARY:Ahwatukee Farmers Market-November 14
DESCRIPTION:Sundays 9am-1pm at Ahwatukee Swim & Tennis Center (4700 E Warner Rd\, Phoenix 85044). Wild Alaska Salmon\, Local NM Grassfed-Grassfinished-GrassFAT Beef\, Arizona Raw Honey and so much more! Ask for the FishHuggers! \nTry our grass fed\, grass finished\, grass FAT Beef!
URL:https://fishhugger.com/event/ahwatukee-farmers-market-november-14/
LOCATION:Ahwatukee Farmers Market\, 4700 E Warner Rd\, Phoenix\, AZ\, 85044\, United States
CATEGORIES:Markets
END:VEVENT
BEGIN:VEVENT
DTSTART;TZID=America/Phoenix:20211113T010000
DTEND;TZID=America/Phoenix:20211113T060000
DTSTAMP:20260422T153506
CREATED:20211019T040514Z
LAST-MODIFIED:20211025T014702Z
UID:1200-1636765200-1636783200@fishhugger.com
SUMMARY:Roadrunner Park Farmers Market-November 13
DESCRIPTION:Saturdays 8am-1pm at Roadrunner Park (3502 E Cactus Rd\, Phoenix 85032). Alaska Wild Salmon & Seafood\, New Mexico Pasture-Finished Beef\, New Mexico Pork\, Arizona Local Raw Honey and so much more! Ask for the FishHuggers!
URL:https://fishhugger.com/event/roadrunner-park-farmers-market-november-13/
LOCATION:Roadrunner Park Farmers Market\, 3502 E Cactus Rd\, Phoenxi\, AZ\, 85032\, United States
CATEGORIES:Markets
ATTACH;FMTTYPE=image/jpeg:https://fishhugger.com/wp-content/uploads/2021/08/IMG_7835-scaled.jpg
END:VEVENT
BEGIN:VEVENT
DTSTART;TZID=America/Phoenix:20211107T020000
DTEND;TZID=America/Phoenix:20211107T060000
DTSTAMP:20260422T153506
CREATED:20211019T041004Z
LAST-MODIFIED:20211019T041004Z
UID:1208-1636250400-1636264800@fishhugger.com
SUMMARY:Ahwatukee Farmers Market-November 7
DESCRIPTION:Sundays 9am-1pm at Ahwatukee Swim & Tennis Center (4700 E Warner Rd\, Phoenix 85044). Wild Alaska Salmon\, Local NM Grassfed-Grassfinished-GrassFAT Beef\, Arizona Raw Honey and so much more! Ask for the FishHuggers! \nTry our grass fed\, grass finished\, grass FAT Beef!
URL:https://fishhugger.com/event/ahwatukee-farmers-market-november-7/
LOCATION:Ahwatukee Farmers Market\, 4700 E Warner Rd\, Phoenix\, AZ\, 85044\, United States
CATEGORIES:Markets
END:VEVENT
BEGIN:VEVENT
DTSTART;TZID=America/Phoenix:20211106T010000
DTEND;TZID=America/Phoenix:20211106T060000
DTSTAMP:20260422T153506
CREATED:20211019T040448Z
LAST-MODIFIED:20211025T014627Z
UID:1198-1636160400-1636178400@fishhugger.com
SUMMARY:Roadrunner Park Farmers Market-November 6
DESCRIPTION:Saturdays 8am-1pm at Roadrunner Park (3502 E Cactus Rd\, Phoenix 85032). Alaska Wild Salmon & Seafood\, New Mexico Pasture-Finished Beef\, New Mexico Pork\, Arizona Local Raw Honey and so much more! Ask for the FishHuggers!
URL:https://fishhugger.com/event/roadrunner-park-farmers-market-november-6/
LOCATION:Roadrunner Park Farmers Market\, 3502 E Cactus Rd\, Phoenxi\, AZ\, 85032\, United States
CATEGORIES:Markets
ATTACH;FMTTYPE=image/jpeg:https://fishhugger.com/wp-content/uploads/2021/08/IMG_7835-scaled.jpg
END:VEVENT
BEGIN:VEVENT
DTSTART;TZID=America/Phoenix:20211031T020000
DTEND;TZID=America/Phoenix:20211031T060000
DTSTAMP:20260422T153506
CREATED:20210805T020404Z
LAST-MODIFIED:20210805T020404Z
UID:1140-1635645600-1635660000@fishhugger.com
SUMMARY:Ahwatukee Farmers Market-October 31
DESCRIPTION:Sundays 9am-1pm at Ahwatukee Swim & Tennis Center (4700 E Warner Rd\, Phoenix 85044). Wild Alaska Salmon\, Local NM Grassfed-Grassfinished-GrassFAT Beef\, Arizona Raw Honey and so much more! Ask for the FishHuggers! \nTry our grass fed\, grass finished\, grass FAT Beef!
URL:https://fishhugger.com/event/ahwatukee-farmers-market-october-31/
LOCATION:Ahwatukee Farmers Market\, 4700 E Warner Rd\, Phoenix\, AZ\, 85044\, United States
CATEGORIES:Markets
END:VEVENT
BEGIN:VEVENT
DTSTART;TZID=America/Phoenix:20211030T010000
DTEND;TZID=America/Phoenix:20211030T060000
DTSTAMP:20260422T153506
CREATED:20210805T020254Z
LAST-MODIFIED:20211025T014414Z
UID:1137-1635555600-1635573600@fishhugger.com
SUMMARY:Roadrunner Park Farmers Market-October 30
DESCRIPTION:Saturdays 8am-1pm at Roadrunner Park (3502 E Cactus Rd\, Phoenix 85032). Alaska Wild Salmon & Seafood\, New Mexico Pasture-Finished Beef\, New Mexico Pork\, Arizona Local Raw Honey and so much more! Ask for the FishHuggers!
URL:https://fishhugger.com/event/roadrunner-park-farmers-market-october-30/
LOCATION:Roadrunner Park Farmers Market\, 3502 E Cactus Rd\, Phoenxi\, AZ\, 85032\, United States
CATEGORIES:Markets
ATTACH;FMTTYPE=image/jpeg:https://fishhugger.com/wp-content/uploads/2021/08/IMG_7835-scaled.jpg
END:VEVENT
BEGIN:VEVENT
DTSTART;TZID=America/Phoenix:20211024T020000
DTEND;TZID=America/Phoenix:20211024T060000
DTSTAMP:20260422T153506
CREATED:20210827T025554Z
LAST-MODIFIED:20211019T045601Z
UID:1147-1635040800-1635055200@fishhugger.com
SUMMARY:**MARKET CANCELLED** October 24
DESCRIPTION:The Ahwatukee HOA has cancelled today’s market due to a special weekend event at the location. Catch us back at Ahwatukee Farmers Market next Sunday\, October 31. Fall market hours are 9am-1pm.
URL:https://fishhugger.com/event/ahwatukee-farmers-market-october-24/
LOCATION:Ahwatukee Farmers Market\, 4700 E Warner Rd\, Phoenix\, AZ\, 85044\, United States
CATEGORIES:Markets
END:VEVENT
BEGIN:VEVENT
DTSTART;TZID=America/Phoenix:20211023T110000
DTEND;TZID=America/Phoenix:20211023T160000
DTSTAMP:20260422T153506
CREATED:20211019T053541Z
LAST-MODIFIED:20211019T231741Z
UID:1238-1634986800-1635004800@fishhugger.com
SUMMARY:Saturday Night Supper Club-October 23
DESCRIPTION:Happy autumn Fishhuggers! We’re so glad to be back in Arizona for most of the fall and winter. Please join us this Saturday\, October 23\, 2021 at our home (2031 N 47th St\, Phoenix 85008) from 6pm ’til ??? for a meet and greet with your fellow FishHuggers. We’ll be serving up something from the grill…probably grassfed beef burgers and wild sockeye salmon. You’re welcome (not required) to bring a side dish\, dessert\, snack or beverage to share if you feel so inclined. \nYou’re welcome to order in advance\, shop while you’re here\, or just drop in to say hello. \nWe look forward to seeing you! \nKenny & Brenna
URL:https://fishhugger.com/event/saturday-night-supper-club-october-23/
LOCATION:Fishhugger Central (Phoenix)
CATEGORIES:Markets
END:VEVENT
BEGIN:VEVENT
DTSTART;TZID=America/Phoenix:20211023T010000
DTEND;TZID=America/Phoenix:20211023T060000
DTSTAMP:20260422T153506
CREATED:20210827T025454Z
LAST-MODIFIED:20210827T025454Z
UID:1143-1634950800-1634968800@fishhugger.com
SUMMARY:Roadrunner Park Farmers Market-October 23
DESCRIPTION:Saturdays 8am-1pm at Roadrunner Park (3502 E Cactus Rd\, Phoenix 85032). Alaska Wild Salmon & Seafood\, New Mexico Pasture-Finished Beef\, New Mexico Pork\, Arizona Local Raw Honey and so much more! Ask for the FishHuggers!
URL:https://fishhugger.com/event/roadrunner-park-farmers-market-october-23/
LOCATION:Roadrunner Park Farmers Market\, 3502 E Cactus Rd\, Phoenxi\, AZ\, 85032\, United States
CATEGORIES:Markets
END:VEVENT
BEGIN:VEVENT
DTSTART;TZID=America/Phoenix:20211017T020000
DTEND;TZID=America/Phoenix:20211017T060000
DTSTAMP:20260422T153506
CREATED:20210827T025620Z
LAST-MODIFIED:20210827T025620Z
UID:1149-1634436000-1634450400@fishhugger.com
SUMMARY:Ahwatukee Farmers Market-October 17
DESCRIPTION:Sundays 9am-1pm at Ahwatukee Swim & Tennis Center (4700 E Warner Rd\, Phoenix 85044). Wild Alaska Salmon\, Local NM Grassfed-Grassfinished-GrassFAT Beef\, Arizona Raw Honey and so much more! Ask for the FishHuggers! \nTry our grass fed\, grass finished\, grass FAT Beef!
URL:https://fishhugger.com/event/ahwatukee-farmers-market-october-17/
LOCATION:Ahwatukee Farmers Market\, 4700 E Warner Rd\, Phoenix\, AZ\, 85044\, United States
CATEGORIES:Markets
END:VEVENT
BEGIN:VEVENT
DTSTART;TZID=America/Phoenix:20211016T010000
DTEND;TZID=America/Phoenix:20211016T060000
DTSTAMP:20260422T153506
CREATED:20210827T025520Z
LAST-MODIFIED:20210827T025520Z
UID:1145-1634346000-1634364000@fishhugger.com
SUMMARY:Roadrunner Park Farmers Market-October 16
DESCRIPTION:Saturdays 8am-1pm at Roadrunner Park (3502 E Cactus Rd\, Phoenix 85032). Alaska Wild Salmon & Seafood\, New Mexico Pasture-Finished Beef\, New Mexico Pork\, Arizona Local Raw Honey and so much more! Ask for the FishHuggers!
URL:https://fishhugger.com/event/roadrunner-park-farmers-market-october-16/
LOCATION:Roadrunner Park Farmers Market\, 3502 E Cactus Rd\, Phoenxi\, AZ\, 85032\, United States
CATEGORIES:Markets
END:VEVENT
BEGIN:VEVENT
DTSTART;TZID=America/Phoenix:20210925T010000
DTEND;TZID=America/Phoenix:20210925T040000
DTSTAMP:20260422T153506
CREATED:20210805T020127Z
LAST-MODIFIED:20210805T020127Z
UID:1135-1632531600-1632542400@fishhugger.com
SUMMARY:Los Ranchos Growers Market-September 25
DESCRIPTION:Saturdays 8am-11am\, 6718 Rio Grande Blvd NW\, Los Ranchos NM 87107. Alaska Wild Salmon\, New Mexico Pasture-Finished Beef and so much more!
URL:https://fishhugger.com/event/los-ranchos-growers-market-september-25/
LOCATION:Los Ranchos Growers Market\, 6718 Rio Grande Blvd NW\, Los Ranchos\, NM\, 87107
CATEGORIES:Markets
END:VEVENT
BEGIN:VEVENT
DTSTART;TZID=America/Phoenix:20210918T010000
DTEND;TZID=America/Phoenix:20210918T040000
DTSTAMP:20260422T153506
CREATED:20210805T020041Z
LAST-MODIFIED:20210805T020041Z
UID:1133-1631926800-1631937600@fishhugger.com
SUMMARY:Los Ranchos Growers Market-September 18
DESCRIPTION:Saturdays 8am-11am\, 6718 Rio Grande Blvd NW\, Los Ranchos NM 87107. Alaska Wild Salmon\, New Mexico Pasture-Finished Beef and so much more!
URL:https://fishhugger.com/event/los-ranchos-growers-market-september-18/
LOCATION:Los Ranchos Growers Market\, 6718 Rio Grande Blvd NW\, Los Ranchos\, NM\, 87107
CATEGORIES:Markets
END:VEVENT
BEGIN:VEVENT
DTSTART;TZID=America/Phoenix:20210911T010000
DTEND;TZID=America/Phoenix:20210911T040000
DTSTAMP:20260422T153506
CREATED:20210805T020006Z
LAST-MODIFIED:20210805T020006Z
UID:1131-1631322000-1631332800@fishhugger.com
SUMMARY:Los Ranchos Growers Market-September 11
DESCRIPTION:Saturdays 8am-11am\, 6718 Rio Grande Blvd NW\, Los Ranchos NM 87107. Alaska Wild Salmon\, New Mexico Pasture-Finished Beef and so much more!
URL:https://fishhugger.com/event/los-ranchos-growers-market-september-11/
LOCATION:Los Ranchos Growers Market\, 6718 Rio Grande Blvd NW\, Los Ranchos\, NM\, 87107
CATEGORIES:Markets
END:VEVENT
BEGIN:VEVENT
DTSTART;TZID=America/Phoenix:20210904T010000
DTEND;TZID=America/Phoenix:20210904T040000
DTSTAMP:20260422T153506
CREATED:20210805T015936Z
LAST-MODIFIED:20210805T015936Z
UID:1129-1630717200-1630728000@fishhugger.com
SUMMARY:Los Ranchos Growers Market-September 4
DESCRIPTION:Saturdays 8am-11am\, 6718 Rio Grande Blvd NW\, Los Ranchos NM 87107. Alaska Wild Salmon\, New Mexico Pasture-Finished Beef and so much more!
URL:https://fishhugger.com/event/los-ranchos-growers-market-september-4/
LOCATION:Los Ranchos Growers Market\, 6718 Rio Grande Blvd NW\, Los Ranchos\, NM\, 87107
CATEGORIES:Markets
END:VEVENT
BEGIN:VEVENT
DTSTART;TZID=America/Phoenix:20210828T010000
DTEND;TZID=America/Phoenix:20210828T040000
DTSTAMP:20260422T153506
CREATED:20210717T014355Z
LAST-MODIFIED:20210717T014355Z
UID:1110-1630112400-1630123200@fishhugger.com
SUMMARY:Los Ranchos Growers Market-August 28
DESCRIPTION:Saturdays 8am-11am\, 6718 Rio Grande Blvd NW\, Los Ranchos NM 87107. Alaska Wild Salmon\, New Mexico Pasture-Finished Beef and so much more!
URL:https://fishhugger.com/event/los-ranchos-growers-market-august-28/
LOCATION:Los Ranchos Growers Market\, 6718 Rio Grande Blvd NW\, Los Ranchos\, NM\, 87107
CATEGORIES:Markets
END:VEVENT
BEGIN:VEVENT
DTSTART;TZID=America/Phoenix:20210821T010000
DTEND;TZID=America/Phoenix:20210821T040000
DTSTAMP:20260422T153506
CREATED:20210717T014329Z
LAST-MODIFIED:20210717T014329Z
UID:1108-1629507600-1629518400@fishhugger.com
SUMMARY:Los Ranchos Growers Market-August 21
DESCRIPTION:Saturdays 8am-11am\, 6718 Rio Grande Blvd NW\, Los Ranchos NM 87107. Alaska Wild Salmon\, New Mexico Pasture-Finished Beef and so much more!
URL:https://fishhugger.com/event/los-ranchos-growers-market-august-21/
LOCATION:Los Ranchos Growers Market\, 6718 Rio Grande Blvd NW\, Los Ranchos\, NM\, 87107
CATEGORIES:Markets
END:VEVENT
BEGIN:VEVENT
DTSTART;TZID=America/Phoenix:20210814T010000
DTEND;TZID=America/Phoenix:20210814T040000
DTSTAMP:20260422T153506
CREATED:20210717T014302Z
LAST-MODIFIED:20210717T014302Z
UID:1106-1628902800-1628913600@fishhugger.com
SUMMARY:Los Ranchos Growers Market-August 14
DESCRIPTION:Saturdays 8am-11am\, 6718 Rio Grande Blvd NW\, Los Ranchos NM 87107. Alaska Wild Salmon\, New Mexico Pasture-Finished Beef and so much more!
URL:https://fishhugger.com/event/los-ranchos-growers-market-august-14/
LOCATION:Los Ranchos Growers Market\, 6718 Rio Grande Blvd NW\, Los Ranchos\, NM\, 87107
CATEGORIES:Markets
END:VEVENT
BEGIN:VEVENT
DTSTART;TZID=America/Phoenix:20210807T010000
DTEND;TZID=America/Phoenix:20210807T040000
DTSTAMP:20260422T153506
CREATED:20210717T014239Z
LAST-MODIFIED:20210717T014239Z
UID:1104-1628298000-1628308800@fishhugger.com
SUMMARY:Los Ranchos Growers Market-August 7
DESCRIPTION:Saturdays 8am-11am\, 6718 Rio Grande Blvd NW\, Los Ranchos NM 87107. Alaska Wild Salmon\, New Mexico Pasture-Finished Beef and so much more!
URL:https://fishhugger.com/event/los-ranchos-growers-market-august-7/
LOCATION:Los Ranchos Growers Market\, 6718 Rio Grande Blvd NW\, Los Ranchos\, NM\, 87107
CATEGORIES:Markets
END:VEVENT
BEGIN:VEVENT
DTSTART;TZID=America/Phoenix:20210731T010000
DTEND;TZID=America/Phoenix:20210731T040000
DTSTAMP:20260422T153506
CREATED:20210609T204434Z
LAST-MODIFIED:20210609T204434Z
UID:1041-1627693200-1627704000@fishhugger.com
SUMMARY:Los Ranchos Growers Market-July 31
DESCRIPTION:Saturdays 8am-11am\, 6718 Rio Grande Blvd NW\, Los Ranchos NM 87107. Alaska Wild Salmon\, New Mexico Pasture-Finished Beef and so much more!
URL:https://fishhugger.com/event/los-ranchos-growers-market-july-31/
LOCATION:Los Ranchos Growers Market\, 6718 Rio Grande Blvd NW\, Los Ranchos\, NM\, 87107
CATEGORIES:Markets
END:VEVENT
BEGIN:VEVENT
DTSTART;TZID=America/Phoenix:20210724T010000
DTEND;TZID=America/Phoenix:20210724T040000
DTSTAMP:20260422T153506
CREATED:20210609T204357Z
LAST-MODIFIED:20210609T204357Z
UID:1039-1627088400-1627099200@fishhugger.com
SUMMARY:Los Ranchos Growers Market-July 24
DESCRIPTION:Saturdays 8am-11am\, 6718 Rio Grande Blvd NW\, Los Ranchos NM 87107. Alaska Wild Salmon\, New Mexico Pasture-Finished Beef and so much more!
URL:https://fishhugger.com/event/los-ranchos-growers-market-july-24/
LOCATION:Los Ranchos Growers Market\, 6718 Rio Grande Blvd NW\, Los Ranchos\, NM\, 87107
CATEGORIES:Markets
END:VEVENT
BEGIN:VEVENT
DTSTART;TZID=America/Phoenix:20210717T010000
DTEND;TZID=America/Phoenix:20210717T040000
DTSTAMP:20260422T153506
CREATED:20210709T194042Z
LAST-MODIFIED:20210709T194042Z
UID:1100-1626483600-1626494400@fishhugger.com
SUMMARY:Los Ranchos Growers Market-July 17
DESCRIPTION:Saturdays 8am-11am\, 6718 Rio Grande Blvd NW\, Los Ranchos NM 87107. Alaska Wild Salmon\, New Mexico Pasture-Finished Beef and so much more!
URL:https://fishhugger.com/event/los-ranchos-growers-market-july-17/
LOCATION:Los Ranchos Growers Market\, 6718 Rio Grande Blvd NW\, Los Ranchos\, NM\, 87107
CATEGORIES:Markets
END:VEVENT
BEGIN:VEVENT
DTSTART;TZID=America/Phoenix:20210710T010000
DTEND;TZID=America/Phoenix:20210710T040000
DTSTAMP:20260422T153506
CREATED:20210709T193948Z
LAST-MODIFIED:20210709T193948Z
UID:1098-1625878800-1625889600@fishhugger.com
SUMMARY:Los Ranchos Growers Market-July 10
DESCRIPTION:Saturdays 8am-11am\, 6718 Rio Grande Blvd NW\, Los Ranchos NM 87107. Alaska Wild Salmon\, New Mexico Pasture-Finished Beef and so much more!
URL:https://fishhugger.com/event/los-ranchos-growers-market-july-10/
LOCATION:Los Ranchos Growers Market\, 6718 Rio Grande Blvd NW\, Los Ranchos\, NM\, 87107
CATEGORIES:Markets
END:VEVENT
BEGIN:VEVENT
DTSTART;TZID=America/Phoenix:20210707T010000
DTEND;TZID=America/Phoenix:20210708T130000
DTSTAMP:20260422T153506
CREATED:20210529T011010Z
LAST-MODIFIED:20210622T023308Z
UID:1024-1625619600-1625749200@fishhugger.com
SUMMARY:Phoenix July 7&8 - Please Order!
DESCRIPTION:Hello FishHuggers! We’re making a quick trip to Phoenix for those who order in advance. Orders will be picked up at our home (near Thomas Rd & 44th St – address provided upon order) on Wednesday & Thursday\, July 7 & 8. Please place your order via email by Monday\, July 5. We offer several case or stock up options on our current ‘Price List’ Many consumers are best satisfied with a custom order\, it’s a great way to eat what you want when you want it. Should you need assistance determining your freezer needs\, please contact us\, we’re here to help. Payment will be accepted at the time of pick up. \nORDER BY EMAIL: info@fishhugger.com or CALL 602.286.9233 by Monday\, July 5\, 2021
URL:https://fishhugger.com/event/phoenix-in-july-please-order-3/
LOCATION:Fishhugger Central (Phoenix)
CATEGORIES:Markets
ATTACH;FMTTYPE=image/jpeg:https://fishhugger.com/wp-content/uploads/2020/06/AZFlag.jpg
ORGANIZER;CN="Kenny & Brenna":MAILTO:info@fishhugger.com
END:VEVENT
BEGIN:VEVENT
DTSTART;TZID=America/Phoenix:20210703T010000
DTEND;TZID=America/Phoenix:20210703T040000
DTSTAMP:20260422T153506
CREATED:20210529T010613Z
LAST-MODIFIED:20210612T010716Z
UID:1022-1625274000-1625284800@fishhugger.com
SUMMARY:Los Ranchos Growers Market-July 3
DESCRIPTION:Saturdays 8am-11am\, 6718 Rio Grande Blvd NW\, Los Ranchos NM 87107. Alaska Wild Salmon\, New Mexico Pasture-Finished Beef and so much more!
URL:https://fishhugger.com/event/los-ranchos-growers-market-july-3/
LOCATION:Los Ranchos Growers Market\, 6718 Rio Grande Blvd NW\, Los Ranchos\, NM\, 87107
CATEGORIES:Markets
ATTACH;FMTTYPE=image/jpeg:https://fishhugger.com/wp-content/uploads/2021/05/LRFave-e1623434707736.jpg
END:VEVENT
BEGIN:VEVENT
DTSTART;TZID=America/Phoenix:20210626T010000
DTEND;TZID=America/Phoenix:20210626T040000
DTSTAMP:20260422T153506
CREATED:20210529T010538Z
LAST-MODIFIED:20210612T010649Z
UID:1020-1624669200-1624680000@fishhugger.com
SUMMARY:Los Ranchos Growers Market-June 26
DESCRIPTION:Saturdays 8am-11am\, 6718 Rio Grande Blvd NW\, Los Ranchos NM 87107. Alaska Wild Salmon\, New Mexico Pasture-Finished Beef and so much more!
URL:https://fishhugger.com/event/los-ranchos-growers-market-june-26/
LOCATION:Los Ranchos Growers Market\, 6718 Rio Grande Blvd NW\, Los Ranchos\, NM\, 87107
CATEGORIES:Markets
ATTACH;FMTTYPE=image/jpeg:https://fishhugger.com/wp-content/uploads/2021/05/LRFave-e1623434707736.jpg
END:VEVENT
BEGIN:VEVENT
DTSTART;TZID=America/Phoenix:20210619T010000
DTEND;TZID=America/Phoenix:20210619T040000
DTSTAMP:20260422T153506
CREATED:20210529T010510Z
LAST-MODIFIED:20210612T010610Z
UID:1018-1624064400-1624075200@fishhugger.com
SUMMARY:Los Ranchos Growers Market-June 19
DESCRIPTION:Saturdays 8am-11am\, 6718 Rio Grande Blvd NW\, Los Ranchos NM 87107. Alaska Wild Salmon\, New Mexico Pasture-Finished Beef and so much more!
URL:https://fishhugger.com/event/los-ranchos-growers-market-june-19/
LOCATION:Los Ranchos Growers Market\, 6718 Rio Grande Blvd NW\, Los Ranchos\, NM\, 87107
CATEGORIES:Markets
ATTACH;FMTTYPE=image/jpeg:https://fishhugger.com/wp-content/uploads/2021/05/LRFave-e1623434707736.jpg
END:VEVENT
BEGIN:VEVENT
DTSTART;TZID=America/Phoenix:20210612T010000
DTEND;TZID=America/Phoenix:20210612T040000
DTSTAMP:20260422T153506
CREATED:20210529T010444Z
LAST-MODIFIED:20210612T010525Z
UID:1016-1623459600-1623470400@fishhugger.com
SUMMARY:Los Ranchos Growers Market-June 12
DESCRIPTION:Saturdays 8am-11am\, 6718 Rio Grande Blvd NW\, Los Ranchos NM 87107. Alaska Wild Salmon\, New Mexico Pasture-Finished Beef and so much more!
URL:https://fishhugger.com/event/los-ranchos-growers-market-june-12/
LOCATION:Los Ranchos Growers Market\, 6718 Rio Grande Blvd NW\, Los Ranchos\, NM\, 87107
CATEGORIES:Markets
ATTACH;FMTTYPE=image/jpeg:https://fishhugger.com/wp-content/uploads/2021/05/LRFave-e1623434707736.jpg
END:VEVENT
BEGIN:VEVENT
DTSTART;TZID=America/Phoenix:20210605T010000
DTEND;TZID=America/Phoenix:20210605T040000
DTSTAMP:20260422T153506
CREATED:20210529T010358Z
LAST-MODIFIED:20210529T010358Z
UID:1014-1622854800-1622865600@fishhugger.com
SUMMARY:Los Ranchos Growers Market-June 5
DESCRIPTION:Saturdays 8am-11am\, 6718 Rio Grande Blvd NW\, Los Ranchos NM 87107. Alaska Wild Salmon\, New Mexico Pasture-Finished Beef and so much more!
URL:https://fishhugger.com/event/los-ranchos-growers-market-june-5/
LOCATION:Los Ranchos Growers Market\, 6718 Rio Grande Blvd NW\, Los Ranchos\, NM\, 87107
CATEGORIES:Markets
END:VEVENT
END:VCALENDAR