BEGIN:VCALENDAR
VERSION:2.0
PRODID:-//American Surf and Turf - ECPv6.15.18//NONSGML v1.0//EN
CALSCALE:GREGORIAN
METHOD:PUBLISH
X-WR-CALNAME:American Surf and Turf
X-ORIGINAL-URL:https://fishhugger.com
X-WR-CALDESC:Events for American Surf and Turf
REFRESH-INTERVAL;VALUE=DURATION:PT1H
X-Robots-Tag:noindex
X-PUBLISHED-TTL:PT1H
BEGIN:VTIMEZONE
TZID:America/Phoenix
BEGIN:STANDARD
TZOFFSETFROM:-0700
TZOFFSETTO:-0700
TZNAME:MST
DTSTART:20240101T000000
END:STANDARD
END:VTIMEZONE
BEGIN:VEVENT
DTSTART;VALUE=DATE:20250309
DTEND;VALUE=DATE:20250310
DTSTAMP:20260422T015705
CREATED:20250219T192843Z
LAST-MODIFIED:20250219T192843Z
UID:2944-1741478400-1741564799@fishhugger.com
SUMMARY:NO MARKET in Ahwatukee Today
DESCRIPTION:Due to an annual event scheduled by the Ahwatukee HOA\, the farmers market will not be held today. Catch us back next Sunday\, March 16!
URL:https://fishhugger.com/event/no-market-in-ahwatukee-today/
LOCATION:NM
CATEGORIES:Markets
END:VEVENT
END:VCALENDAR