BEGIN:VCALENDAR
VERSION:2.0
PRODID:-//American Surf and Turf - ECPv6.15.18//NONSGML v1.0//EN
CALSCALE:GREGORIAN
METHOD:PUBLISH
X-ORIGINAL-URL:https://fishhugger.com
X-WR-CALDESC:Events for American Surf and Turf
REFRESH-INTERVAL;VALUE=DURATION:PT1H
X-Robots-Tag:noindex
X-PUBLISHED-TTL:PT1H
BEGIN:VTIMEZONE
TZID:America/Phoenix
BEGIN:STANDARD
TZOFFSETFROM:-0700
TZOFFSETTO:-0700
TZNAME:MST
DTSTART:20230101T000000
END:STANDARD
END:VTIMEZONE
BEGIN:VEVENT
DTSTART;VALUE=DATE:20241215
DTEND;VALUE=DATE:20250104
DTSTAMP:20260420T004007
CREATED:20241206T180111Z
LAST-MODIFIED:20241206T180315Z
UID:2836-1734282000-1735923599@fishhugger.com
SUMMARY:Winter Vacation December 15\, 2024 -January 3\, 2025
DESCRIPTION:As usual\, we’re taking some time to ourselves over the holidays. We tentatively plan to return to our favorite Phoenix area farmers markets for the winter-spring season beginning Saturday\, January 4\, 2025. We appreciate you all and wish you a peaceful and healthful December. We look forward to serving you in the new year!
URL:https://fishhugger.com/event/winter-vacation-december-15-january-3/
LOCATION:NM
CATEGORIES:Markets
ATTACH;FMTTYPE=image/jpeg:https://fishhugger.com/wp-content/uploads/2023/11/SnowyTree-scaled.jpg
END:VEVENT
END:VCALENDAR