BEGIN:VCALENDAR
VERSION:2.0
PRODID:-//American Surf and Turf - ECPv6.15.18//NONSGML v1.0//EN
CALSCALE:GREGORIAN
METHOD:PUBLISH
X-ORIGINAL-URL:https://fishhugger.com
X-WR-CALDESC:Events for American Surf and Turf
REFRESH-INTERVAL;VALUE=DURATION:PT1H
X-Robots-Tag:noindex
X-PUBLISHED-TTL:PT1H
BEGIN:VTIMEZONE
TZID:America/Phoenix
BEGIN:STANDARD
TZOFFSETFROM:-0700
TZOFFSETTO:-0700
TZNAME:MST
DTSTART:20230101T000000
END:STANDARD
END:VTIMEZONE
BEGIN:VEVENT
DTSTART;TZID=America/Phoenix:20241214T100000
DTEND;TZID=America/Phoenix:20241214T120000
DTSTAMP:20260420T003920
CREATED:20241022T190713Z
LAST-MODIFIED:20241204T200926Z
UID:2775-1734170400-1734177600@fishhugger.com
SUMMARY:Los Ranchos Growers Market-Albuquerque NM-Saturday December 14
DESCRIPTION:**WINTER MARKET THIS SATURDAY ONLY** 10am-12pm\, 6718 Rio Grande Blvd NW\, Los Ranchos NM 87107. Alaska Wild Salmon\, New Mexico Grass-Finished Beef and Pork\, local New Mexico honey and so much more! This is our last planned event in New Mexico until summer 2025.  Stock up for winter! To be sure to get exactly what you want\, please order in advance
URL:https://fishhugger.com/event/los-ranchos-growers-market-albuquerque-nm-december-14/
LOCATION:Los Ranchos Growers Market\, 6718 Rio Grande Blvd NW\, Los Ranchos\, NM\, 87107
CATEGORIES:Markets
ATTACH;FMTTYPE=image/jpeg:https://fishhugger.com/wp-content/uploads/2021/05/LRFave-e1623434707736.jpg
END:VEVENT
END:VCALENDAR