BEGIN:VCALENDAR
VERSION:2.0
PRODID:-//American Surf and Turf - ECPv6.15.18//NONSGML v1.0//EN
CALSCALE:GREGORIAN
METHOD:PUBLISH
X-ORIGINAL-URL:https://fishhugger.com
X-WR-CALDESC:Events for American Surf and Turf
REFRESH-INTERVAL;VALUE=DURATION:PT1H
X-Robots-Tag:noindex
X-PUBLISHED-TTL:PT1H
BEGIN:VTIMEZONE
TZID:America/Phoenix
BEGIN:STANDARD
TZOFFSETFROM:-0700
TZOFFSETTO:-0700
TZNAME:MST
DTSTART:20230101T000000
END:STANDARD
END:VTIMEZONE
BEGIN:VEVENT
DTSTART;VALUE=DATE:20240309
DTEND;VALUE=DATE:20240310
DTSTAMP:20260421T054657
CREATED:20240212T183016Z
LAST-MODIFIED:20240304T164611Z
UID:2468-1709942400-1710028799@fishhugger.com
SUMMARY:Sorry we'll miss you...
DESCRIPTION:Our plans have unexpectedly changed and we will NOT be available in Phoenix to attend the Roadrunner Park Farmers Market on Saturday\, March 9\, 2024. We thank you for your patience. Roadrunner Park Farmers Market will continue without us this weekend and we expect to be back in attendance next Saturday\, March 16\, 2024. Keep an eye on our calendar page for updates.
URL:https://fishhugger.com/event/roadrunner-park-farmers-market-phoenix-az-march-9/
LOCATION:NM
CATEGORIES:Markets
ATTACH;FMTTYPE=image/jpeg:https://fishhugger.com/wp-content/uploads/2024/02/thank-you-for-your-patience-l.jpg
END:VEVENT
END:VCALENDAR