BEGIN:VCALENDAR
VERSION:2.0
PRODID:-//American Surf and Turf - ECPv6.15.18//NONSGML v1.0//EN
CALSCALE:GREGORIAN
METHOD:PUBLISH
X-WR-CALNAME:American Surf and Turf
X-ORIGINAL-URL:https://fishhugger.com
X-WR-CALDESC:Events for American Surf and Turf
REFRESH-INTERVAL;VALUE=DURATION:PT1H
X-Robots-Tag:noindex
X-PUBLISHED-TTL:PT1H
BEGIN:VTIMEZONE
TZID:America/Phoenix
BEGIN:STANDARD
TZOFFSETFROM:-0700
TZOFFSETTO:-0700
TZNAME:MST
DTSTART:20220101T000000
END:STANDARD
END:VTIMEZONE
BEGIN:VEVENT
DTSTART;VALUE=DATE:20230409
DTEND;VALUE=DATE:20230410
DTSTAMP:20260421T054437
CREATED:20230322T224446Z
LAST-MODIFIED:20230409T185003Z
UID:1967-1680998400-1681084799@fishhugger.com
SUMMARY:Easter Sunday-No Market-April 9
DESCRIPTION:The market will not be held today due to the Easter holiday. Catch us back at the market next Sunday\, April 16\, 2023.
URL:https://fishhugger.com/event/no-market-easter-april-9/
LOCATION:NM
CATEGORIES:Markets
END:VEVENT
END:VCALENDAR