BEGIN:VCALENDAR
VERSION:2.0
PRODID:-//American Surf and Turf - ECPv6.15.18//NONSGML v1.0//EN
CALSCALE:GREGORIAN
METHOD:PUBLISH
X-ORIGINAL-URL:https://fishhugger.com
X-WR-CALDESC:Events for American Surf and Turf
REFRESH-INTERVAL;VALUE=DURATION:PT1H
X-Robots-Tag:noindex
X-PUBLISHED-TTL:PT1H
BEGIN:VTIMEZONE
TZID:America/Phoenix
BEGIN:STANDARD
TZOFFSETFROM:-0700
TZOFFSETTO:-0700
TZNAME:MST
DTSTART:20220101T000000
END:STANDARD
END:VTIMEZONE
BEGIN:VEVENT
DTSTART;VALUE=DATE:20230312
DTEND;VALUE=DATE:20230313
DTSTAMP:20260421T043634
CREATED:20230215T214724Z
LAST-MODIFIED:20230215T214724Z
UID:1948-1678579200-1678665599@fishhugger.com
SUMMARY:No Market in Ahwatukee-March 12
DESCRIPTION:Due to an annual event scheduled by the Ahwatukee HOA\, the farmers market will not be held today. Catch us back next Sunday\, March 19!
URL:https://fishhugger.com/event/no-market-in-ahwatukee-march-12/
LOCATION:NM
CATEGORIES:Markets
END:VEVENT
END:VCALENDAR