BEGIN:VCALENDAR
VERSION:2.0
PRODID:-//American Surf and Turf - ECPv6.15.18//NONSGML v1.0//EN
CALSCALE:GREGORIAN
METHOD:PUBLISH
X-WR-CALNAME:American Surf and Turf
X-ORIGINAL-URL:https://fishhugger.com
X-WR-CALDESC:Events for American Surf and Turf
REFRESH-INTERVAL;VALUE=DURATION:PT1H
X-Robots-Tag:noindex
X-PUBLISHED-TTL:PT1H
BEGIN:VTIMEZONE
TZID:America/Phoenix
BEGIN:STANDARD
TZOFFSETFROM:-0700
TZOFFSETTO:-0700
TZNAME:MST
DTSTART:20210101T000000
END:STANDARD
END:VTIMEZONE
BEGIN:VEVENT
DTSTART;VALUE=DATE:20221009
DTEND;VALUE=DATE:20221029
DTSTAMP:20260422T155345
CREATED:20221011T183328Z
LAST-MODIFIED:20221023T174818Z
UID:1782-1665334800-1666976399@fishhugger.com
SUMMARY:Fall Break October 9-28
DESCRIPTION:We’re taking some time to prepare for our seasonal transition from New Mexico to Arizona. We currently plan to return to our favorite Phoenix area farmers markets for the fall season beginning the weekend of October 29/30\, 2022. We appreciate you all and look forward to seeing you soon! Thank you for your patience\, this fall break is longer than anticipated. We will update our website calendar page with our full fall schedule as soon as possible.
URL:https://fishhugger.com/event/fall-vacation-october-9-21/
LOCATION:NM
CATEGORIES:Markets
ATTACH;FMTTYPE=image/jpeg:https://fishhugger.com/wp-content/uploads/2022/10/FallPhoenix.jpeg
END:VEVENT
END:VCALENDAR