BEGIN:VCALENDAR
VERSION:2.0
PRODID:-//American Surf and Turf - ECPv6.15.18//NONSGML v1.0//EN
CALSCALE:GREGORIAN
METHOD:PUBLISH
X-WR-CALNAME:American Surf and Turf
X-ORIGINAL-URL:https://fishhugger.com
X-WR-CALDESC:Events for American Surf and Turf
REFRESH-INTERVAL;VALUE=DURATION:PT1H
X-Robots-Tag:noindex
X-PUBLISHED-TTL:PT1H
BEGIN:VTIMEZONE
TZID:America/Phoenix
BEGIN:STANDARD
TZOFFSETFROM:-0700
TZOFFSETTO:-0700
TZNAME:MST
DTSTART:20200101T000000
END:STANDARD
END:VTIMEZONE
BEGIN:VEVENT
DTSTART;TZID=America/Phoenix:20210221T020000
DTEND;TZID=America/Phoenix:20210221T060000
DTSTAMP:20260422T225419
CREATED:20210121T031657Z
LAST-MODIFIED:20210121T031657Z
UID:861-1613872800-1613887200@fishhugger.com
SUMMARY:Ahwatukee Farmers Market
DESCRIPTION:Sundays 9am-1pm at Ahwatukee Swim & Tennis Center (4700 E Warner Rd\, Phoenix 85044). Wild Alaska Salmon\, Local NM Grassfed-Grassfinished-GrassFAT Beef\, Local NM Pork\, Arizona Raw Honey and so much more! Ask for the FishHuggers! \nTry our grass fed\, grass finished\, grass FAT Beef!
URL:https://fishhugger.com/event/ahwatukee-farmers-market-21/
LOCATION:Ahwatukee Farmers Market\, 4700 E Warner Rd\, Phoenix\, AZ\, 85044\, United States
CATEGORIES:Markets
END:VEVENT
END:VCALENDAR