BEGIN:VCALENDAR
VERSION:2.0
PRODID:-//American Surf and Turf - ECPv6.15.18//NONSGML v1.0//EN
CALSCALE:GREGORIAN
METHOD:PUBLISH
X-WR-CALNAME:American Surf and Turf
X-ORIGINAL-URL:https://fishhugger.com
X-WR-CALDESC:Events for American Surf and Turf
REFRESH-INTERVAL;VALUE=DURATION:PT1H
X-Robots-Tag:noindex
X-PUBLISHED-TTL:PT1H
BEGIN:VTIMEZONE
TZID:America/Phoenix
BEGIN:STANDARD
TZOFFSETFROM:-0700
TZOFFSETTO:-0700
TZNAME:MST
DTSTART:20190101T000000
END:STANDARD
END:VTIMEZONE
BEGIN:VEVENT
DTSTART;VALUE=DATE:20201019
DTEND;VALUE=DATE:20201021
DTSTAMP:20260425T054725
CREATED:20201017T035331Z
LAST-MODIFIED:20201017T035331Z
UID:761-1603126800-1603213199@fishhugger.com
SUMMARY:Fall Honey Harvest
DESCRIPTION:Spending some time this week harvesting the last fall honey flow. The lack of desert rains and moisture made for a lot of hard work from the bees. The flowers yielded less nectar and the overall honey production for this year has been a bit below average.
URL:https://fishhugger.com/event/fall-honey-harvest/
LOCATION:NM
CATEGORIES:Markets
END:VEVENT
END:VCALENDAR