BEGIN:VCALENDAR
VERSION:2.0
PRODID:-//American Surf and Turf - ECPv6.15.18//NONSGML v1.0//EN
CALSCALE:GREGORIAN
METHOD:PUBLISH
X-ORIGINAL-URL:https://fishhugger.com
X-WR-CALDESC:Events for American Surf and Turf
REFRESH-INTERVAL;VALUE=DURATION:PT1H
X-Robots-Tag:noindex
X-PUBLISHED-TTL:PT1H
BEGIN:VTIMEZONE
TZID:America/Phoenix
BEGIN:STANDARD
TZOFFSETFROM:-0700
TZOFFSETTO:-0700
TZNAME:MST
DTSTART:20190101T000000
END:STANDARD
END:VTIMEZONE
BEGIN:VEVENT
DTSTART;TZID=America/Phoenix:20200816T030000
DTEND;TZID=America/Phoenix:20200816T070000
DTSTAMP:20260425T211107
CREATED:20200801T061238Z
LAST-MODIFIED:20200926T084635Z
UID:668-1597546800-1597561200@fishhugger.com
SUMMARY:Peralta Pop-Up!
DESCRIPTION:We’ll be setting up the FishHugger market booth here at our second year micro-farm! Please order in advance and schedule an appointment during open hours for pick up and a farm tour. We’re located in the beautiful Rio Grande Valley here in Peralta\, New Mexico!
URL:https://fishhugger.com/event/peralta-pop-up/
LOCATION:Fishhugger NM (Peralta)\, 1 Mangham Ct\, Peralta\, NM\, 87042\, United States
CATEGORIES:Markets
ORGANIZER;CN="Kenny & Brenna":MAILTO:info@fishhugger.com
END:VEVENT
END:VCALENDAR