BEGIN:VCALENDAR
VERSION:2.0
PRODID:-//American Surf and Turf - ECPv6.15.18//NONSGML v1.0//EN
CALSCALE:GREGORIAN
METHOD:PUBLISH
X-ORIGINAL-URL:https://fishhugger.com
X-WR-CALDESC:Events for American Surf and Turf
REFRESH-INTERVAL;VALUE=DURATION:PT1H
X-Robots-Tag:noindex
X-PUBLISHED-TTL:PT1H
BEGIN:VTIMEZONE
TZID:America/Phoenix
BEGIN:STANDARD
TZOFFSETFROM:-0700
TZOFFSETTO:-0700
TZNAME:MST
DTSTART:20190101T000000
END:STANDARD
END:VTIMEZONE
BEGIN:VEVENT
DTSTART;TZID=America/Phoenix:20200725T010000
DTEND;TZID=America/Phoenix:20200725T040000
DTSTAMP:20260425T211108
CREATED:20200801T060208Z
LAST-MODIFIED:20200801T060208Z
UID:665-1595638800-1595649600@fishhugger.com
SUMMARY:Los Ranchos Growers Market
DESCRIPTION:Saturdays 8am-11am\, 6718 Rio Grande Blvd NW\, Los Ranchos NM 87107. Alaska Wild Salmon\, New Mexico Pasture-Finished Beef and so much more!
URL:https://fishhugger.com/event/los-ranchos-growers-market-18/
LOCATION:Los Ranchos Growers Market\, 6718 Rio Grande Blvd NW\, Los Ranchos\, NM\, 87107
CATEGORIES:Markets
END:VEVENT
BEGIN:VEVENT
DTSTART;VALUE=DATE:20200725
DTEND;VALUE=DATE:20200727
DTSTAMP:20260425T211108
CREATED:20200704T002301Z
LAST-MODIFIED:20200704T002301Z
UID:626-1595696400-1595782799@fishhugger.com
SUMMARY:Summer Pork Harvest
DESCRIPTION:Our New Mexico heritage breed hogs are alfalfa grazed and finished on hemp seeds\, peanut & pecan hulls. We’ll have a variety of cuts available at the market soon! Advance orders are welcome.
URL:https://fishhugger.com/event/summer-pork-harvest/
LOCATION:NM
CATEGORIES:Markets
END:VEVENT
END:VCALENDAR