BEGIN:VCALENDAR
VERSION:2.0
PRODID:-//American Surf and Turf - ECPv6.15.18//NONSGML v1.0//EN
CALSCALE:GREGORIAN
METHOD:PUBLISH
X-WR-CALNAME:American Surf and Turf
X-ORIGINAL-URL:https://fishhugger.com
X-WR-CALDESC:Events for American Surf and Turf
REFRESH-INTERVAL;VALUE=DURATION:PT1H
X-Robots-Tag:noindex
X-PUBLISHED-TTL:PT1H
BEGIN:VTIMEZONE
TZID:America/Phoenix
BEGIN:STANDARD
TZOFFSETFROM:-0700
TZOFFSETTO:-0700
TZNAME:MST
DTSTART:20240101T000000
END:STANDARD
END:VTIMEZONE
BEGIN:VEVENT
DTSTART;TZID=America/Phoenix:20250405T080000
DTEND;TZID=America/Phoenix:20250405T120000
DTSTAMP:20260422T041909
CREATED:20250219T192049Z
LAST-MODIFIED:20250219T192049Z
UID:2921-1743840000-1743854400@fishhugger.com
SUMMARY:Roadrunner Park Farmers Market-Phoenix AZ-Saturday
DESCRIPTION:Saturdays 8am-12pm at Roadrunner Park (3502 E Cactus Rd\, Phoenix 85032). Alaska Wild Salmon\, New Mexico Grass-Finished Beef\, New Mexico Natural Pork\, Arizona Local Raw Honey and so much more! Ask for the FishHuggers!
URL:https://fishhugger.com/event/roadrunner-park-farmers-market-phoenix-az-saturday-13/
LOCATION:Roadrunner Park Farmers Market\, 3502 E Cactus Rd\, Phoenxi\, AZ\, 85032\, United States
CATEGORIES:Markets
ATTACH;FMTTYPE=image/jpeg:https://fishhugger.com/wp-content/uploads/2024/10/IMG_2014-3.jpg
END:VEVENT
BEGIN:VEVENT
DTSTART;TZID=America/Phoenix:20250406T090000
DTEND;TZID=America/Phoenix:20250406T130000
DTSTAMP:20260422T041909
CREATED:20250219T192329Z
LAST-MODIFIED:20250219T192329Z
UID:2936-1743930000-1743944400@fishhugger.com
SUMMARY:Ahwatukee Farmers Market-Phoenix AZ-Sunday
DESCRIPTION:Sundays 9am-1pm at Ahwatukee Swim & Tennis Center (4700 E Warner Rd\, Phoenix 85044). Wild Alaska Salmon\, New Mexico Grass-Finished Beef\, New Mexico Natural Pork\, Arizona Raw Honey and so much more! Ask for the FishHuggers!
URL:https://fishhugger.com/event/ahwatukee-farmers-market-phoenix-az-sunday-12/
LOCATION:Ahwatukee Farmers Market\, 4700 E Warner Rd\, Phoenix\, AZ\, 85044\, United States
CATEGORIES:Markets
ATTACH;FMTTYPE=image/jpeg:https://fishhugger.com/wp-content/uploads/2025/01/IMG_4723.jpg
END:VEVENT
BEGIN:VEVENT
DTSTART;TZID=America/Phoenix:20250412T080000
DTEND;TZID=America/Phoenix:20250412T120000
DTSTAMP:20260422T041909
CREATED:20250219T192114Z
LAST-MODIFIED:20250219T192114Z
UID:2924-1744444800-1744459200@fishhugger.com
SUMMARY:Roadrunner Park Farmers Market-Phoenix AZ-Saturday
DESCRIPTION:Saturdays 8am-12pm at Roadrunner Park (3502 E Cactus Rd\, Phoenix 85032). Alaska Wild Salmon\, New Mexico Grass-Finished Beef\, New Mexico Natural Pork\, Arizona Local Raw Honey and so much more! Ask for the FishHuggers!
URL:https://fishhugger.com/event/roadrunner-park-farmers-market-phoenix-az-saturday-14/
LOCATION:Roadrunner Park Farmers Market\, 3502 E Cactus Rd\, Phoenxi\, AZ\, 85032\, United States
CATEGORIES:Markets
ATTACH;FMTTYPE=image/jpeg:https://fishhugger.com/wp-content/uploads/2024/10/IMG_2014-3.jpg
END:VEVENT
BEGIN:VEVENT
DTSTART;TZID=America/Phoenix:20250413T090000
DTEND;TZID=America/Phoenix:20250413T130000
DTSTAMP:20260422T041909
CREATED:20250219T192500Z
LAST-MODIFIED:20250219T192500Z
UID:2940-1744534800-1744549200@fishhugger.com
SUMMARY:Ahwatukee Farmers Market-Phoenix AZ-Sunday
DESCRIPTION:Sundays 9am-1pm at Ahwatukee Swim & Tennis Center (4700 E Warner Rd\, Phoenix 85044). Wild Alaska Salmon\, New Mexico Grass-Finished Beef\, New Mexico Natural Pork\, Arizona Raw Honey and so much more! Ask for the FishHuggers!
URL:https://fishhugger.com/event/ahwatukee-farmers-market-phoenix-az-sunday-14/
LOCATION:Ahwatukee Farmers Market\, 4700 E Warner Rd\, Phoenix\, AZ\, 85044\, United States
CATEGORIES:Markets
ATTACH;FMTTYPE=image/jpeg:https://fishhugger.com/wp-content/uploads/2025/01/IMG_4723.jpg
END:VEVENT
BEGIN:VEVENT
DTSTART;TZID=America/Phoenix:20250419T080000
DTEND;TZID=America/Phoenix:20250419T120000
DTSTAMP:20260422T041909
CREATED:20250219T192132Z
LAST-MODIFIED:20250219T192132Z
UID:2926-1745049600-1745064000@fishhugger.com
SUMMARY:Roadrunner Park Farmers Market-Phoenix AZ-Saturday
DESCRIPTION:Saturdays 8am-12pm at Roadrunner Park (3502 E Cactus Rd\, Phoenix 85032). Alaska Wild Salmon\, New Mexico Grass-Finished Beef\, New Mexico Natural Pork\, Arizona Local Raw Honey and so much more! Ask for the FishHuggers!
URL:https://fishhugger.com/event/roadrunner-park-farmers-market-phoenix-az-saturday-15/
LOCATION:Roadrunner Park Farmers Market\, 3502 E Cactus Rd\, Phoenxi\, AZ\, 85032\, United States
CATEGORIES:Markets
ATTACH;FMTTYPE=image/jpeg:https://fishhugger.com/wp-content/uploads/2024/10/IMG_2014-3.jpg
END:VEVENT
BEGIN:VEVENT
DTSTART;VALUE=DATE:20250420
DTEND;VALUE=DATE:20250421
DTSTAMP:20260422T041909
CREATED:20250219T192714Z
LAST-MODIFIED:20250415T221558Z
UID:2942-1745107200-1745193599@fishhugger.com
SUMMARY:EASTER SUNDAY-NO MARKET
DESCRIPTION:The market will not be held today due to Easter. Catch us back at the market next Sunday\, April 27!
URL:https://fishhugger.com/event/easter-sunday-no-market/
LOCATION:NM
CATEGORIES:Markets
END:VEVENT
BEGIN:VEVENT
DTSTART;TZID=America/Phoenix:20250426T080000
DTEND;TZID=America/Phoenix:20250426T120000
DTSTAMP:20260422T041909
CREATED:20250219T192154Z
LAST-MODIFIED:20250219T192154Z
UID:2928-1745654400-1745668800@fishhugger.com
SUMMARY:Roadrunner Park Farmers Market-Phoenix AZ-Saturday
DESCRIPTION:Saturdays 8am-12pm at Roadrunner Park (3502 E Cactus Rd\, Phoenix 85032). Alaska Wild Salmon\, New Mexico Grass-Finished Beef\, New Mexico Natural Pork\, Arizona Local Raw Honey and so much more! Ask for the FishHuggers!
URL:https://fishhugger.com/event/roadrunner-park-farmers-market-phoenix-az-saturday-16/
LOCATION:Roadrunner Park Farmers Market\, 3502 E Cactus Rd\, Phoenxi\, AZ\, 85032\, United States
CATEGORIES:Markets
ATTACH;FMTTYPE=image/jpeg:https://fishhugger.com/wp-content/uploads/2024/10/IMG_2014-3.jpg
END:VEVENT
BEGIN:VEVENT
DTSTART;TZID=America/Phoenix:20250427T090000
DTEND;TZID=America/Phoenix:20250427T130000
DTSTAMP:20260422T041909
CREATED:20250219T192348Z
LAST-MODIFIED:20250219T192425Z
UID:2938-1745744400-1745758800@fishhugger.com
SUMMARY:Ahwatukee Farmers Market-Phoenix AZ-Sunday
DESCRIPTION:Sundays 9am-1pm at Ahwatukee Swim & Tennis Center (4700 E Warner Rd\, Phoenix 85044). Wild Alaska Salmon\, New Mexico Grass-Finished Beef\, New Mexico Natural Pork\, Arizona Raw Honey and so much more! Ask for the FishHuggers!
URL:https://fishhugger.com/event/ahwatukee-farmers-market-phoenix-az-sunday-13/
LOCATION:Ahwatukee Farmers Market\, 4700 E Warner Rd\, Phoenix\, AZ\, 85044\, United States
CATEGORIES:Markets
ATTACH;FMTTYPE=image/jpeg:https://fishhugger.com/wp-content/uploads/2025/01/IMG_4723.jpg
END:VEVENT
END:VCALENDAR