BEGIN:VCALENDAR
VERSION:2.0
PRODID:-//American Surf and Turf - ECPv6.15.18//NONSGML v1.0//EN
CALSCALE:GREGORIAN
METHOD:PUBLISH
X-WR-CALNAME:American Surf and Turf
X-ORIGINAL-URL:https://fishhugger.com
X-WR-CALDESC:Events for American Surf and Turf
REFRESH-INTERVAL;VALUE=DURATION:PT1H
X-Robots-Tag:noindex
X-PUBLISHED-TTL:PT1H
BEGIN:VTIMEZONE
TZID:America/Phoenix
BEGIN:STANDARD
TZOFFSETFROM:-0700
TZOFFSETTO:-0700
TZNAME:MST
DTSTART:20230101T000000
END:STANDARD
END:VTIMEZONE
BEGIN:VEVENT
DTSTART;TZID=America/Phoenix:20240803T080000
DTEND;TZID=America/Phoenix:20240803T110000
DTSTAMP:20260420T003128
CREATED:20240709T132647Z
LAST-MODIFIED:20240709T132647Z
UID:2593-1722672000-1722682800@fishhugger.com
SUMMARY:Los Ranchos Growers Market-Albuquerque NM-August 3
DESCRIPTION:Saturdays 8am-11am\, 6718 Rio Grande Blvd NW\, Los Ranchos NM 87107. Alaska Wild Salmon & Seafood\, New Mexico Grassfed-Grassfinished Beef\, New Mexico Pork\, New Mexico Local Raw Honey\, and so much more! Ask for the FishHugger Family.
URL:https://fishhugger.com/event/los-ranchos-growers-market-albuquerque-nm-august-3/
LOCATION:Los Ranchos Growers Market\, 6718 Rio Grande Blvd NW\, Los Ranchos\, NM\, 87107
CATEGORIES:Markets
ATTACH;FMTTYPE=image/jpeg:https://fishhugger.com/wp-content/uploads/2021/05/LRFave-e1623434707736.jpg
END:VEVENT
BEGIN:VEVENT
DTSTART;TZID=America/Phoenix:20240810T080000
DTEND;TZID=America/Phoenix:20240810T110000
DTSTAMP:20260420T003128
CREATED:20240709T132711Z
LAST-MODIFIED:20240709T132711Z
UID:2595-1723276800-1723287600@fishhugger.com
SUMMARY:Los Ranchos Growers Market-Albuquerque NM-August 10
DESCRIPTION:Saturdays 8am-11am\, 6718 Rio Grande Blvd NW\, Los Ranchos NM 87107. Alaska Wild Salmon & Seafood\, New Mexico Grassfed-Grassfinished Beef\, New Mexico Pork\, New Mexico Local Raw Honey\, and so much more! Ask for the FishHugger Family.
URL:https://fishhugger.com/event/los-ranchos-growers-market-albuquerque-nm-august-10/
LOCATION:Los Ranchos Growers Market\, 6718 Rio Grande Blvd NW\, Los Ranchos\, NM\, 87107
CATEGORIES:Markets
ATTACH;FMTTYPE=image/jpeg:https://fishhugger.com/wp-content/uploads/2021/05/LRFave-e1623434707736.jpg
END:VEVENT
BEGIN:VEVENT
DTSTART;TZID=America/Phoenix:20240817T080000
DTEND;TZID=America/Phoenix:20240817T110000
DTSTAMP:20260420T003128
CREATED:20240709T132746Z
LAST-MODIFIED:20240709T132746Z
UID:2597-1723881600-1723892400@fishhugger.com
SUMMARY:Los Ranchos Growers Market-Albuquerque NM-August 17
DESCRIPTION:Saturdays 8am-11am\, 6718 Rio Grande Blvd NW\, Los Ranchos NM 87107. Alaska Wild Salmon & Seafood\, New Mexico Grassfed-Grassfinished Beef\, New Mexico Pork\, New Mexico Local Raw Honey\, and so much more! Ask for the FishHugger Family.
URL:https://fishhugger.com/event/los-ranchos-growers-market-albuquerque-nm-august-17/
LOCATION:Los Ranchos Growers Market\, 6718 Rio Grande Blvd NW\, Los Ranchos\, NM\, 87107
CATEGORIES:Markets
ATTACH;FMTTYPE=image/jpeg:https://fishhugger.com/wp-content/uploads/2021/05/LRFave-e1623434707736.jpg
END:VEVENT
BEGIN:VEVENT
DTSTART;TZID=America/Phoenix:20240824T080000
DTEND;TZID=America/Phoenix:20240824T110000
DTSTAMP:20260420T003128
CREATED:20240709T132809Z
LAST-MODIFIED:20240709T132809Z
UID:2599-1724486400-1724497200@fishhugger.com
SUMMARY:Los Ranchos Growers Market-Albuquerque NM-August 24
DESCRIPTION:Saturdays 8am-11am\, 6718 Rio Grande Blvd NW\, Los Ranchos NM 87107. Alaska Wild Salmon & Seafood\, New Mexico Grassfed-Grassfinished Beef\, New Mexico Pork\, New Mexico Local Raw Honey\, and so much more! Ask for the FishHugger Family.
URL:https://fishhugger.com/event/los-ranchos-growers-market-albuquerque-nm-august-24/
LOCATION:Los Ranchos Growers Market\, 6718 Rio Grande Blvd NW\, Los Ranchos\, NM\, 87107
CATEGORIES:Markets
ATTACH;FMTTYPE=image/jpeg:https://fishhugger.com/wp-content/uploads/2021/05/LRFave-e1623434707736.jpg
END:VEVENT
BEGIN:VEVENT
DTSTART;TZID=America/Phoenix:20240831T080000
DTEND;TZID=America/Phoenix:20240831T110000
DTSTAMP:20260420T003128
CREATED:20240709T132832Z
LAST-MODIFIED:20240709T132832Z
UID:2601-1725091200-1725102000@fishhugger.com
SUMMARY:Los Ranchos Growers Market-Albuquerque NM-August 31
DESCRIPTION:Saturdays 8am-11am\, 6718 Rio Grande Blvd NW\, Los Ranchos NM 87107. Alaska Wild Salmon & Seafood\, New Mexico Grassfed-Grassfinished Beef\, New Mexico Pork\, New Mexico Local Raw Honey\, and so much more! Ask for the FishHugger Family.
URL:https://fishhugger.com/event/los-ranchos-growers-market-albuquerque-nm-august-31/
LOCATION:Los Ranchos Growers Market\, 6718 Rio Grande Blvd NW\, Los Ranchos\, NM\, 87107
CATEGORIES:Markets
ATTACH;FMTTYPE=image/jpeg:https://fishhugger.com/wp-content/uploads/2021/05/LRFave-e1623434707736.jpg
END:VEVENT
END:VCALENDAR