BEGIN:VCALENDAR
VERSION:2.0
PRODID:-//American Surf and Turf - ECPv6.15.18//NONSGML v1.0//EN
CALSCALE:GREGORIAN
METHOD:PUBLISH
X-WR-CALNAME:American Surf and Turf
X-ORIGINAL-URL:https://fishhugger.com
X-WR-CALDESC:Events for American Surf and Turf
REFRESH-INTERVAL;VALUE=DURATION:PT1H
X-Robots-Tag:noindex
X-PUBLISHED-TTL:PT1H
BEGIN:VTIMEZONE
TZID:America/Phoenix
BEGIN:STANDARD
TZOFFSETFROM:-0700
TZOFFSETTO:-0700
TZNAME:MST
DTSTART:20230101T000000
END:STANDARD
END:VTIMEZONE
BEGIN:VEVENT
DTSTART;TZID=America/Phoenix:20240302T080000
DTEND;TZID=America/Phoenix:20240302T120000
DTSTAMP:20260421T043242
CREATED:20240212T182948Z
LAST-MODIFIED:20240212T182948Z
UID:2466-1709366400-1709380800@fishhugger.com
SUMMARY:Roadrunner Park Farmers Market-Phoenix AZ-March 2
DESCRIPTION:Saturdays 8am-12pm at Roadrunner Park (3502 E Cactus Rd\, Phoenix 85032). Alaska Wild Salmon\, New Mexico Grass-Finished Beef\, New Mexico Natural Pork\, Arizona Local Raw Honey and so much more! Ask for the FishHuggers!
URL:https://fishhugger.com/event/roadrunner-park-farmers-market-phoenix-az-march-2/
LOCATION:Roadrunner Park Farmers Market\, 3502 E Cactus Rd\, Phoenxi\, AZ\, 85032\, United States
CATEGORIES:Markets
ATTACH;FMTTYPE=image/jpeg:https://fishhugger.com/wp-content/uploads/2021/08/IMG_7835-scaled.jpg
END:VEVENT
BEGIN:VEVENT
DTSTART;TZID=America/Phoenix:20240303T090000
DTEND;TZID=America/Phoenix:20240303T130000
DTSTAMP:20260421T043242
CREATED:20240212T183602Z
LAST-MODIFIED:20240212T183602Z
UID:2489-1709456400-1709470800@fishhugger.com
SUMMARY:Ahwatukee Farmers Market-Phoenix AZ-March 3
DESCRIPTION:Sundays 9am-1pm at Ahwatukee Swim & Tennis Center (4700 E Warner Rd\, Phoenix 85044). Wild Alaska Salmon\, New Mexico Grass-Finished Beef\, New Mexico Natural Pork\, Arizona Raw Honey and so much more! Ask for the FishHuggers!
URL:https://fishhugger.com/event/ahwatukee-farmers-market-phoenix-az-march-3/
LOCATION:Ahwatukee Farmers Market\, 4700 E Warner Rd\, Phoenix\, AZ\, 85044\, United States
CATEGORIES:Markets
ATTACH;FMTTYPE=image/jpeg:https://fishhugger.com/wp-content/uploads/2022/01/IMG_8311-scaled.jpg
END:VEVENT
BEGIN:VEVENT
DTSTART;VALUE=DATE:20240309
DTEND;VALUE=DATE:20240310
DTSTAMP:20260421T043243
CREATED:20240212T183016Z
LAST-MODIFIED:20240304T164611Z
UID:2468-1709942400-1710028799@fishhugger.com
SUMMARY:Sorry we'll miss you...
DESCRIPTION:Our plans have unexpectedly changed and we will NOT be available in Phoenix to attend the Roadrunner Park Farmers Market on Saturday\, March 9\, 2024. We thank you for your patience. Roadrunner Park Farmers Market will continue without us this weekend and we expect to be back in attendance next Saturday\, March 16\, 2024. Keep an eye on our calendar page for updates.
URL:https://fishhugger.com/event/roadrunner-park-farmers-market-phoenix-az-march-9/
LOCATION:NM
CATEGORIES:Markets
ATTACH;FMTTYPE=image/jpeg:https://fishhugger.com/wp-content/uploads/2024/02/thank-you-for-your-patience-l.jpg
END:VEVENT
BEGIN:VEVENT
DTSTART;VALUE=DATE:20240310
DTEND;VALUE=DATE:20240311
DTSTAMP:20260421T043243
CREATED:20240212T184127Z
LAST-MODIFIED:20240212T184127Z
UID:2503-1710028800-1710115199@fishhugger.com
SUMMARY:NO MARKET in Ahwatukee-March 10
DESCRIPTION:Due to an annual event scheduled by the Ahwatukee HOA\, the farmers market will not be held today. Catch us back next Sunday\, March 17!
URL:https://fishhugger.com/event/no-market-in-ahwatukee-march-10/
LOCATION:NM
CATEGORIES:Markets
END:VEVENT
BEGIN:VEVENT
DTSTART;TZID=America/Phoenix:20240316T080000
DTEND;TZID=America/Phoenix:20240316T120000
DTSTAMP:20260421T043243
CREATED:20240212T183037Z
LAST-MODIFIED:20240212T183037Z
UID:2470-1710576000-1710590400@fishhugger.com
SUMMARY:Roadrunner Park Farmers Market-Phoenix AZ-March 16
DESCRIPTION:Saturdays 8am-12pm at Roadrunner Park (3502 E Cactus Rd\, Phoenix 85032). Alaska Wild Salmon\, New Mexico Grass-Finished Beef\, New Mexico Natural Pork\, Arizona Local Raw Honey and so much more! Ask for the FishHuggers!
URL:https://fishhugger.com/event/roadrunner-park-farmers-market-phoenix-az-march-16/
LOCATION:Roadrunner Park Farmers Market\, 3502 E Cactus Rd\, Phoenxi\, AZ\, 85032\, United States
CATEGORIES:Markets
ATTACH;FMTTYPE=image/jpeg:https://fishhugger.com/wp-content/uploads/2021/08/IMG_7835-scaled.jpg
END:VEVENT
BEGIN:VEVENT
DTSTART;TZID=America/Phoenix:20240317T090000
DTEND;TZID=America/Phoenix:20240317T130000
DTSTAMP:20260421T043243
CREATED:20240212T183633Z
LAST-MODIFIED:20240212T183633Z
UID:2491-1710666000-1710680400@fishhugger.com
SUMMARY:Ahwatukee Farmers Market-Phoenix AZ-March 17
DESCRIPTION:Sundays 9am-1pm at Ahwatukee Swim & Tennis Center (4700 E Warner Rd\, Phoenix 85044). Wild Alaska Salmon\, New Mexico Grass-Finished Beef\, New Mexico Natural Pork\, Arizona Raw Honey and so much more! Ask for the FishHuggers!
URL:https://fishhugger.com/event/ahwatukee-farmers-market-phoenix-az-march-17/
LOCATION:Ahwatukee Farmers Market\, 4700 E Warner Rd\, Phoenix\, AZ\, 85044\, United States
CATEGORIES:Markets
ATTACH;FMTTYPE=image/jpeg:https://fishhugger.com/wp-content/uploads/2022/01/IMG_8311-scaled.jpg
END:VEVENT
BEGIN:VEVENT
DTSTART;TZID=America/Phoenix:20240323T080000
DTEND;TZID=America/Phoenix:20240323T120000
DTSTAMP:20260421T043243
CREATED:20240212T183108Z
LAST-MODIFIED:20240212T183134Z
UID:2472-1711180800-1711195200@fishhugger.com
SUMMARY:Roadrunner Park Farmers Market-Phoenix AZ-March 23
DESCRIPTION:Saturdays 8am-12pm at Roadrunner Park (3502 E Cactus Rd\, Phoenix 85032). Alaska Wild Salmon\, New Mexico Grass-Finished Beef\, New Mexico Natural Pork\, Arizona Local Raw Honey and so much more! Ask for the FishHuggers!
URL:https://fishhugger.com/event/roadrunner-park-farmers-market-phoenix-az-march-16-2/
LOCATION:Roadrunner Park Farmers Market\, 3502 E Cactus Rd\, Phoenxi\, AZ\, 85032\, United States
CATEGORIES:Markets
ATTACH;FMTTYPE=image/jpeg:https://fishhugger.com/wp-content/uploads/2021/08/IMG_7835-scaled.jpg
END:VEVENT
BEGIN:VEVENT
DTSTART;TZID=America/Phoenix:20240324T090000
DTEND;TZID=America/Phoenix:20240324T130000
DTSTAMP:20260421T043243
CREATED:20240212T183704Z
LAST-MODIFIED:20240212T183704Z
UID:2493-1711270800-1711285200@fishhugger.com
SUMMARY:Ahwatukee Farmers Market-Phoenix AZ-March 24
DESCRIPTION:Sundays 9am-1pm at Ahwatukee Swim & Tennis Center (4700 E Warner Rd\, Phoenix 85044). Wild Alaska Salmon\, New Mexico Grass-Finished Beef\, New Mexico Natural Pork\, Arizona Raw Honey and so much more! Ask for the FishHuggers!
URL:https://fishhugger.com/event/ahwatukee-farmers-market-phoenix-az-march-24/
LOCATION:Ahwatukee Farmers Market\, 4700 E Warner Rd\, Phoenix\, AZ\, 85044\, United States
CATEGORIES:Markets
ATTACH;FMTTYPE=image/jpeg:https://fishhugger.com/wp-content/uploads/2022/01/IMG_8311-scaled.jpg
END:VEVENT
BEGIN:VEVENT
DTSTART;TZID=America/Phoenix:20240330T080000
DTEND;TZID=America/Phoenix:20240330T120000
DTSTAMP:20260421T043243
CREATED:20240212T183158Z
LAST-MODIFIED:20240212T183158Z
UID:2475-1711785600-1711800000@fishhugger.com
SUMMARY:Roadrunner Park Farmers Market-Phoenix AZ-March 30
DESCRIPTION:Saturdays 8am-12pm at Roadrunner Park (3502 E Cactus Rd\, Phoenix 85032). Alaska Wild Salmon\, New Mexico Grass-Finished Beef\, New Mexico Natural Pork\, Arizona Local Raw Honey and so much more! Ask for the FishHuggers!
URL:https://fishhugger.com/event/roadrunner-park-farmers-market-phoenix-az-march-30/
LOCATION:Roadrunner Park Farmers Market\, 3502 E Cactus Rd\, Phoenxi\, AZ\, 85032\, United States
CATEGORIES:Markets
ATTACH;FMTTYPE=image/jpeg:https://fishhugger.com/wp-content/uploads/2021/08/IMG_7835-scaled.jpg
END:VEVENT
BEGIN:VEVENT
DTSTART;VALUE=DATE:20240331
DTEND;VALUE=DATE:20240401
DTSTAMP:20260421T043243
CREATED:20240212T184317Z
LAST-MODIFIED:20240212T184317Z
UID:2505-1711843200-1711929599@fishhugger.com
SUMMARY:Easter Sunday-NO MARKET-March 31
DESCRIPTION:The market will not be held today due to the Easter holiday. Catch us back at the market next Sunday\, April 7!
URL:https://fishhugger.com/event/easter-sunday-no-market-march-31/
LOCATION:NM
CATEGORIES:Markets
END:VEVENT
END:VCALENDAR