BEGIN:VCALENDAR
VERSION:2.0
PRODID:-//American Surf and Turf - ECPv6.15.18//NONSGML v1.0//EN
CALSCALE:GREGORIAN
METHOD:PUBLISH
X-ORIGINAL-URL:https://fishhugger.com
X-WR-CALDESC:Events for American Surf and Turf
REFRESH-INTERVAL;VALUE=DURATION:PT1H
X-Robots-Tag:noindex
X-PUBLISHED-TTL:PT1H
BEGIN:VTIMEZONE
TZID:America/Phoenix
BEGIN:STANDARD
TZOFFSETFROM:-0700
TZOFFSETTO:-0700
TZNAME:MST
DTSTART:20220101T000000
END:STANDARD
END:VTIMEZONE
BEGIN:VEVENT
DTSTART;TZID=America/Phoenix:20231104T080000
DTEND;TZID=America/Phoenix:20231104T120000
DTSTAMP:20260421T070157
CREATED:20231013T194025Z
LAST-MODIFIED:20231013T194025Z
UID:2230-1699084800-1699099200@fishhugger.com
SUMMARY:Roadrunner Park Farmers Market-November 4
DESCRIPTION:Saturdays 8am-12pm at Roadrunner Park (3502 E Cactus Rd\, Phoenix 85032). Alaska Wild Salmon\, New Mexico Grass-Finished Beef\, New Mexico Natural Pork\, Arizona Local Raw Honey and so much more! Ask for the FishHuggers!
URL:https://fishhugger.com/event/roadrunner-park-farmers-market-november-4/
LOCATION:Roadrunner Park Farmers Market\, 3502 E Cactus Rd\, Phoenxi\, AZ\, 85032\, United States
CATEGORIES:Markets
ATTACH;FMTTYPE=image/jpeg:https://fishhugger.com/wp-content/uploads/2021/08/IMG_7835-scaled.jpg
END:VEVENT
BEGIN:VEVENT
DTSTART;TZID=America/Phoenix:20231105T090000
DTEND;TZID=America/Phoenix:20231105T130000
DTSTAMP:20260421T070158
CREATED:20231013T194647Z
LAST-MODIFIED:20231013T194647Z
UID:2246-1699174800-1699189200@fishhugger.com
SUMMARY:Ahwatukee Farmers Market-November 5
DESCRIPTION:Sundays 9am-1pm at Ahwatukee Swim & Tennis Center (4700 E Warner Rd\, Phoenix 85044). Wild Alaska Salmon\, New Mexico Grass-Finished Beef\, New Mexico Natural Pork\, Arizona Raw Honey and so much more! Ask for the FishHuggers!
URL:https://fishhugger.com/event/ahwatukee-farmers-market-november-5/
LOCATION:Ahwatukee Farmers Market\, 4700 E Warner Rd\, Phoenix\, AZ\, 85044\, United States
CATEGORIES:Markets
ATTACH;FMTTYPE=image/jpeg:https://fishhugger.com/wp-content/uploads/2022/01/IMG_8311-scaled.jpg
END:VEVENT
BEGIN:VEVENT
DTSTART;TZID=America/Phoenix:20231111T080000
DTEND;TZID=America/Phoenix:20231111T120000
DTSTAMP:20260421T070158
CREATED:20231013T194231Z
LAST-MODIFIED:20231013T194231Z
UID:2232-1699689600-1699704000@fishhugger.com
SUMMARY:Roadrunner Park Farmers Market-November 11
DESCRIPTION:Saturdays 8am-12pm at Roadrunner Park (3502 E Cactus Rd\, Phoenix 85032). Alaska Wild Salmon\, New Mexico Grass-Finished Beef\, New Mexico Natural Pork\, Arizona Local Raw Honey and so much more! Ask for the FishHuggers!
URL:https://fishhugger.com/event/roadrunner-park-farmers-market-november-11/
LOCATION:Roadrunner Park Farmers Market\, 3502 E Cactus Rd\, Phoenxi\, AZ\, 85032\, United States
CATEGORIES:Markets
ATTACH;FMTTYPE=image/jpeg:https://fishhugger.com/wp-content/uploads/2021/08/IMG_7835-scaled.jpg
END:VEVENT
BEGIN:VEVENT
DTSTART;TZID=America/Phoenix:20231112T090000
DTEND;TZID=America/Phoenix:20231112T130000
DTSTAMP:20260421T070158
CREATED:20231013T194711Z
LAST-MODIFIED:20231013T194711Z
UID:2248-1699779600-1699794000@fishhugger.com
SUMMARY:Ahwatukee Farmers Market-November 12
DESCRIPTION:Sundays 9am-1pm at Ahwatukee Swim & Tennis Center (4700 E Warner Rd\, Phoenix 85044). Wild Alaska Salmon\, New Mexico Grass-Finished Beef\, New Mexico Natural Pork\, Arizona Raw Honey and so much more! Ask for the FishHuggers!
URL:https://fishhugger.com/event/ahwatukee-farmers-market-november-12/
LOCATION:Ahwatukee Farmers Market\, 4700 E Warner Rd\, Phoenix\, AZ\, 85044\, United States
CATEGORIES:Markets
ATTACH;FMTTYPE=image/jpeg:https://fishhugger.com/wp-content/uploads/2022/01/IMG_8311-scaled.jpg
END:VEVENT
BEGIN:VEVENT
DTSTART;TZID=America/Phoenix:20231118T080000
DTEND;TZID=America/Phoenix:20231118T120000
DTSTAMP:20260421T070158
CREATED:20231013T194324Z
LAST-MODIFIED:20231013T194324Z
UID:2234-1700294400-1700308800@fishhugger.com
SUMMARY:Roadrunner Park Farmers Market-November 18
DESCRIPTION:Saturdays 8am-12pm at Roadrunner Park (3502 E Cactus Rd\, Phoenix 85032). Alaska Wild Salmon\, New Mexico Grass-Finished Beef\, New Mexico Natural Pork\, Arizona Local Raw Honey and so much more! Ask for the FishHuggers!
URL:https://fishhugger.com/event/roadrunner-park-farmers-market-november-18/
LOCATION:Roadrunner Park Farmers Market\, 3502 E Cactus Rd\, Phoenxi\, AZ\, 85032\, United States
CATEGORIES:Markets
ATTACH;FMTTYPE=image/jpeg:https://fishhugger.com/wp-content/uploads/2021/08/IMG_7835-scaled.jpg
END:VEVENT
BEGIN:VEVENT
DTSTART;TZID=America/Phoenix:20231119T090000
DTEND;TZID=America/Phoenix:20231119T130000
DTSTAMP:20260421T070158
CREATED:20231013T194751Z
LAST-MODIFIED:20231013T194751Z
UID:2250-1700384400-1700398800@fishhugger.com
SUMMARY:Ahwatukee Farmers Market-November 19
DESCRIPTION:Sundays 9am-1pm at Ahwatukee Swim & Tennis Center (4700 E Warner Rd\, Phoenix 85044). Wild Alaska Salmon\, New Mexico Grass-Finished Beef\, New Mexico Natural Pork\, Arizona Raw Honey and so much more! Ask for the FishHuggers!
URL:https://fishhugger.com/event/ahwatukee-farmers-market-november-19/
LOCATION:Ahwatukee Farmers Market\, 4700 E Warner Rd\, Phoenix\, AZ\, 85044\, United States
CATEGORIES:Markets
ATTACH;FMTTYPE=image/jpeg:https://fishhugger.com/wp-content/uploads/2022/01/IMG_8311-scaled.jpg
END:VEVENT
BEGIN:VEVENT
DTSTART;TZID=America/Phoenix:20231125T080000
DTEND;TZID=America/Phoenix:20231125T120000
DTSTAMP:20260421T070158
CREATED:20231013T194349Z
LAST-MODIFIED:20231013T194349Z
UID:2236-1700899200-1700913600@fishhugger.com
SUMMARY:Roadrunner Park Farmers Market-November 25
DESCRIPTION:Saturdays 8am-12pm at Roadrunner Park (3502 E Cactus Rd\, Phoenix 85032). Alaska Wild Salmon\, New Mexico Grass-Finished Beef\, New Mexico Natural Pork\, Arizona Local Raw Honey and so much more! Ask for the FishHuggers!
URL:https://fishhugger.com/event/roadrunner-park-farmers-market-november-25/
LOCATION:Roadrunner Park Farmers Market\, 3502 E Cactus Rd\, Phoenxi\, AZ\, 85032\, United States
CATEGORIES:Markets
ATTACH;FMTTYPE=image/jpeg:https://fishhugger.com/wp-content/uploads/2021/08/IMG_7835-scaled.jpg
END:VEVENT
BEGIN:VEVENT
DTSTART;TZID=America/Phoenix:20231126T090000
DTEND;TZID=America/Phoenix:20231126T130000
DTSTAMP:20260421T070158
CREATED:20231013T194821Z
LAST-MODIFIED:20231013T194821Z
UID:2252-1700989200-1701003600@fishhugger.com
SUMMARY:Ahwatukee Farmers Market-November 26
DESCRIPTION:Sundays 9am-1pm at Ahwatukee Swim & Tennis Center (4700 E Warner Rd\, Phoenix 85044). Wild Alaska Salmon\, New Mexico Grass-Finished Beef\, New Mexico Natural Pork\, Arizona Raw Honey and so much more! Ask for the FishHuggers!
URL:https://fishhugger.com/event/ahwatukee-farmers-market-november-26/
LOCATION:Ahwatukee Farmers Market\, 4700 E Warner Rd\, Phoenix\, AZ\, 85044\, United States
CATEGORIES:Markets
ATTACH;FMTTYPE=image/jpeg:https://fishhugger.com/wp-content/uploads/2022/01/IMG_8311-scaled.jpg
END:VEVENT
END:VCALENDAR