BEGIN:VCALENDAR
VERSION:2.0
PRODID:-//American Surf and Turf - ECPv6.15.18//NONSGML v1.0//EN
CALSCALE:GREGORIAN
METHOD:PUBLISH
X-WR-CALNAME:American Surf and Turf
X-ORIGINAL-URL:https://fishhugger.com
X-WR-CALDESC:Events for American Surf and Turf
REFRESH-INTERVAL;VALUE=DURATION:PT1H
X-Robots-Tag:noindex
X-PUBLISHED-TTL:PT1H
BEGIN:VTIMEZONE
TZID:America/Phoenix
BEGIN:STANDARD
TZOFFSETFROM:-0700
TZOFFSETTO:-0700
TZNAME:MST
DTSTART:20220101T000000
END:STANDARD
END:VTIMEZONE
BEGIN:VEVENT
DTSTART;TZID=America/Phoenix:20230902T080000
DTEND;TZID=America/Phoenix:20230902T110000
DTSTAMP:20260421T143911
CREATED:20230804T184709Z
LAST-MODIFIED:20230804T184709Z
UID:2173-1693641600-1693652400@fishhugger.com
SUMMARY:Los Ranchos Growers Market-September 2
DESCRIPTION:Saturdays 8am-11am\, 6718 Rio Grande Blvd NW\, Los Ranchos NM 87107. Alaska Wild Salmon & Seafood\, New Mexico Local Raw Honey\, New Mexico Grassfinished-GrassFAT Beef\, New Mexico Pork and so much more! Ask for the FishHugger Family.
URL:https://fishhugger.com/event/los-ranchos-growers-market-september-2/
LOCATION:Los Ranchos Growers Market\, 6718 Rio Grande Blvd NW\, Los Ranchos\, NM\, 87107
CATEGORIES:Markets
ATTACH;FMTTYPE=image/jpeg:https://fishhugger.com/wp-content/uploads/2021/05/LRFave-e1623434707736.jpg
END:VEVENT
BEGIN:VEVENT
DTSTART;TZID=America/Phoenix:20230909T080000
DTEND;TZID=America/Phoenix:20230909T110000
DTSTAMP:20260421T143911
CREATED:20230804T184735Z
LAST-MODIFIED:20230804T184735Z
UID:2175-1694246400-1694257200@fishhugger.com
SUMMARY:Los Ranchos Growers Market-September 9
DESCRIPTION:Saturdays 8am-11am\, 6718 Rio Grande Blvd NW\, Los Ranchos NM 87107. Alaska Wild Salmon & Seafood\, New Mexico Local Raw Honey\, New Mexico Grassfinished-GrassFAT Beef\, New Mexico Pork and so much more! Ask for the FishHugger Family.
URL:https://fishhugger.com/event/los-ranchos-growers-market-september-9/
LOCATION:Los Ranchos Growers Market\, 6718 Rio Grande Blvd NW\, Los Ranchos\, NM\, 87107
CATEGORIES:Markets
ATTACH;FMTTYPE=image/jpeg:https://fishhugger.com/wp-content/uploads/2021/05/LRFave-e1623434707736.jpg
END:VEVENT
BEGIN:VEVENT
DTSTART;TZID=America/Phoenix:20230916T080000
DTEND;TZID=America/Phoenix:20230916T110000
DTSTAMP:20260421T143911
CREATED:20230804T184801Z
LAST-MODIFIED:20230804T184801Z
UID:2177-1694851200-1694862000@fishhugger.com
SUMMARY:Los Ranchos Growers Market-September 16
DESCRIPTION:Saturdays 8am-11am\, 6718 Rio Grande Blvd NW\, Los Ranchos NM 87107. Alaska Wild Salmon & Seafood\, New Mexico Local Raw Honey\, New Mexico Grassfinished-GrassFAT Beef\, New Mexico Pork and so much more! Ask for the FishHugger Family.
URL:https://fishhugger.com/event/los-ranchos-growers-market-september-16/
LOCATION:Los Ranchos Growers Market\, 6718 Rio Grande Blvd NW\, Los Ranchos\, NM\, 87107
CATEGORIES:Markets
ATTACH;FMTTYPE=image/jpeg:https://fishhugger.com/wp-content/uploads/2021/05/LRFave-e1623434707736.jpg
END:VEVENT
BEGIN:VEVENT
DTSTART;TZID=America/Phoenix:20230923T080000
DTEND;TZID=America/Phoenix:20230923T110000
DTSTAMP:20260421T143911
CREATED:20230804T184830Z
LAST-MODIFIED:20230804T184830Z
UID:2179-1695456000-1695466800@fishhugger.com
SUMMARY:Los Ranchos Growers Market-September 23
DESCRIPTION:Saturdays 8am-11am\, 6718 Rio Grande Blvd NW\, Los Ranchos NM 87107. Alaska Wild Salmon & Seafood\, New Mexico Local Raw Honey\, New Mexico Grassfinished-GrassFAT Beef\, New Mexico Pork and so much more! Ask for the FishHugger Family.
URL:https://fishhugger.com/event/los-ranchos-growers-market-september-23/
LOCATION:Los Ranchos Growers Market\, 6718 Rio Grande Blvd NW\, Los Ranchos\, NM\, 87107
CATEGORIES:Markets
ATTACH;FMTTYPE=image/jpeg:https://fishhugger.com/wp-content/uploads/2021/05/LRFave-e1623434707736.jpg
END:VEVENT
BEGIN:VEVENT
DTSTART;TZID=America/Phoenix:20230930T080000
DTEND;TZID=America/Phoenix:20230930T110000
DTSTAMP:20260421T143911
CREATED:20230804T184901Z
LAST-MODIFIED:20230804T184901Z
UID:2181-1696060800-1696071600@fishhugger.com
SUMMARY:Los Ranchos Growers Market-September 30
DESCRIPTION:Saturdays 8am-11am\, 6718 Rio Grande Blvd NW\, Los Ranchos NM 87107. Alaska Wild Salmon & Seafood\, New Mexico Local Raw Honey\, New Mexico Grassfinished-GrassFAT Beef\, New Mexico Pork and so much more! Ask for the FishHugger Family.
URL:https://fishhugger.com/event/los-ranchos-growers-market-september-30/
LOCATION:Los Ranchos Growers Market\, 6718 Rio Grande Blvd NW\, Los Ranchos\, NM\, 87107
CATEGORIES:Markets
ATTACH;FMTTYPE=image/jpeg:https://fishhugger.com/wp-content/uploads/2021/05/LRFave-e1623434707736.jpg
END:VEVENT
END:VCALENDAR