BEGIN:VCALENDAR
VERSION:2.0
PRODID:-//American Surf and Turf - ECPv6.15.18//NONSGML v1.0//EN
CALSCALE:GREGORIAN
METHOD:PUBLISH
X-WR-CALNAME:American Surf and Turf
X-ORIGINAL-URL:https://fishhugger.com
X-WR-CALDESC:Events for American Surf and Turf
REFRESH-INTERVAL;VALUE=DURATION:PT1H
X-Robots-Tag:noindex
X-PUBLISHED-TTL:PT1H
BEGIN:VTIMEZONE
TZID:America/Phoenix
BEGIN:STANDARD
TZOFFSETFROM:-0700
TZOFFSETTO:-0700
TZNAME:MST
DTSTART:20220101T000000
END:STANDARD
END:VTIMEZONE
BEGIN:VEVENT
DTSTART;TZID=America/Phoenix:20230805T080000
DTEND;TZID=America/Phoenix:20230805T110000
DTSTAMP:20260421T132445
CREATED:20230804T183419Z
LAST-MODIFIED:20230804T183419Z
UID:2165-1691222400-1691233200@fishhugger.com
SUMMARY:Los Ranchos Growers Market-August 5
DESCRIPTION:Saturdays 8am-11am\, 6718 Rio Grande Blvd NW\, Los Ranchos NM 87107. Alaska Wild Salmon & Seafood\, New Mexico Local Raw Honey\, New Mexico Grassfinished-GrassFAT Beef\, New Mexico Pork and so much more! Ask for the FishHugger Family.
URL:https://fishhugger.com/event/los-ranchos-growers-market-august-5/
LOCATION:Los Ranchos Growers Market\, 6718 Rio Grande Blvd NW\, Los Ranchos\, NM\, 87107
CATEGORIES:Markets
ATTACH;FMTTYPE=image/jpeg:https://fishhugger.com/wp-content/uploads/2021/05/LRFave-e1623434707736.jpg
END:VEVENT
BEGIN:VEVENT
DTSTART;TZID=America/Phoenix:20230812T080000
DTEND;TZID=America/Phoenix:20230812T110000
DTSTAMP:20260421T132445
CREATED:20230804T183454Z
LAST-MODIFIED:20230804T183454Z
UID:2167-1691827200-1691838000@fishhugger.com
SUMMARY:Los Ranchos Growers Market-August 12
DESCRIPTION:Saturdays 8am-11am\, 6718 Rio Grande Blvd NW\, Los Ranchos NM 87107. Alaska Wild Salmon & Seafood\, New Mexico Local Raw Honey\, New Mexico Grassfinished-GrassFAT Beef\, New Mexico Pork and so much more! Ask for the FishHugger Family.
URL:https://fishhugger.com/event/los-ranchos-growers-market-august-12/
LOCATION:Los Ranchos Growers Market\, 6718 Rio Grande Blvd NW\, Los Ranchos\, NM\, 87107
CATEGORIES:Markets
ATTACH;FMTTYPE=image/jpeg:https://fishhugger.com/wp-content/uploads/2021/05/LRFave-e1623434707736.jpg
END:VEVENT
BEGIN:VEVENT
DTSTART;TZID=America/Phoenix:20230819T080000
DTEND;TZID=America/Phoenix:20230819T110000
DTSTAMP:20260421T132445
CREATED:20230804T183526Z
LAST-MODIFIED:20230804T183526Z
UID:2169-1692432000-1692442800@fishhugger.com
SUMMARY:Los Ranchos Growers Market-August 19
DESCRIPTION:Saturdays 8am-11am\, 6718 Rio Grande Blvd NW\, Los Ranchos NM 87107. Alaska Wild Salmon & Seafood\, New Mexico Local Raw Honey\, New Mexico Grassfinished-GrassFAT Beef\, New Mexico Pork and so much more! Ask for the FishHugger Family.
URL:https://fishhugger.com/event/los-ranchos-growers-market-august-19/
LOCATION:Los Ranchos Growers Market\, 6718 Rio Grande Blvd NW\, Los Ranchos\, NM\, 87107
CATEGORIES:Markets
ATTACH;FMTTYPE=image/jpeg:https://fishhugger.com/wp-content/uploads/2021/05/LRFave-e1623434707736.jpg
END:VEVENT
BEGIN:VEVENT
DTSTART;TZID=America/Phoenix:20230826T080000
DTEND;TZID=America/Phoenix:20230826T110000
DTSTAMP:20260421T132445
CREATED:20230804T183614Z
LAST-MODIFIED:20230804T183614Z
UID:2171-1693036800-1693047600@fishhugger.com
SUMMARY:Los Ranchos Growers Market-August 26
DESCRIPTION:Saturdays 8am-11am\, 6718 Rio Grande Blvd NW\, Los Ranchos NM 87107. Alaska Wild Salmon & Seafood\, New Mexico Local Raw Honey\, New Mexico Grassfinished-GrassFAT Beef\, New Mexico Pork and so much more! Ask for the FishHugger Family.
URL:https://fishhugger.com/event/los-ranchos-growers-market-august-26/
LOCATION:Los Ranchos Growers Market\, 6718 Rio Grande Blvd NW\, Los Ranchos\, NM\, 87107
CATEGORIES:Markets
ATTACH;FMTTYPE=image/jpeg:https://fishhugger.com/wp-content/uploads/2021/05/LRFave-e1623434707736.jpg
END:VEVENT
END:VCALENDAR