BEGIN:VCALENDAR
VERSION:2.0
PRODID:-//American Surf and Turf - ECPv6.15.18//NONSGML v1.0//EN
CALSCALE:GREGORIAN
METHOD:PUBLISH
X-ORIGINAL-URL:https://fishhugger.com
X-WR-CALDESC:Events for American Surf and Turf
REFRESH-INTERVAL;VALUE=DURATION:PT1H
X-Robots-Tag:noindex
X-PUBLISHED-TTL:PT1H
BEGIN:VTIMEZONE
TZID:America/Phoenix
BEGIN:STANDARD
TZOFFSETFROM:-0700
TZOFFSETTO:-0700
TZNAME:MST
DTSTART:20200101T000000
END:STANDARD
END:VTIMEZONE
BEGIN:VEVENT
DTSTART;TZID=America/Phoenix:20211016T010000
DTEND;TZID=America/Phoenix:20211016T060000
DTSTAMP:20260422T044735
CREATED:20210827T025520Z
LAST-MODIFIED:20210827T025520Z
UID:1145-1634346000-1634364000@fishhugger.com
SUMMARY:Roadrunner Park Farmers Market-October 16
DESCRIPTION:Saturdays 8am-1pm at Roadrunner Park (3502 E Cactus Rd\, Phoenix 85032). Alaska Wild Salmon & Seafood\, New Mexico Pasture-Finished Beef\, New Mexico Pork\, Arizona Local Raw Honey and so much more! Ask for the FishHuggers!
URL:https://fishhugger.com/event/roadrunner-park-farmers-market-october-16/
LOCATION:Roadrunner Park Farmers Market\, 3502 E Cactus Rd\, Phoenxi\, AZ\, 85032\, United States
CATEGORIES:Markets
END:VEVENT
BEGIN:VEVENT
DTSTART;TZID=America/Phoenix:20211017T020000
DTEND;TZID=America/Phoenix:20211017T060000
DTSTAMP:20260422T044735
CREATED:20210827T025620Z
LAST-MODIFIED:20210827T025620Z
UID:1149-1634436000-1634450400@fishhugger.com
SUMMARY:Ahwatukee Farmers Market-October 17
DESCRIPTION:Sundays 9am-1pm at Ahwatukee Swim & Tennis Center (4700 E Warner Rd\, Phoenix 85044). Wild Alaska Salmon\, Local NM Grassfed-Grassfinished-GrassFAT Beef\, Arizona Raw Honey and so much more! Ask for the FishHuggers! \nTry our grass fed\, grass finished\, grass FAT Beef!
URL:https://fishhugger.com/event/ahwatukee-farmers-market-october-17/
LOCATION:Ahwatukee Farmers Market\, 4700 E Warner Rd\, Phoenix\, AZ\, 85044\, United States
CATEGORIES:Markets
END:VEVENT
BEGIN:VEVENT
DTSTART;TZID=America/Phoenix:20211023T010000
DTEND;TZID=America/Phoenix:20211023T060000
DTSTAMP:20260422T044735
CREATED:20210827T025454Z
LAST-MODIFIED:20210827T025454Z
UID:1143-1634950800-1634968800@fishhugger.com
SUMMARY:Roadrunner Park Farmers Market-October 23
DESCRIPTION:Saturdays 8am-1pm at Roadrunner Park (3502 E Cactus Rd\, Phoenix 85032). Alaska Wild Salmon & Seafood\, New Mexico Pasture-Finished Beef\, New Mexico Pork\, Arizona Local Raw Honey and so much more! Ask for the FishHuggers!
URL:https://fishhugger.com/event/roadrunner-park-farmers-market-october-23/
LOCATION:Roadrunner Park Farmers Market\, 3502 E Cactus Rd\, Phoenxi\, AZ\, 85032\, United States
CATEGORIES:Markets
END:VEVENT
BEGIN:VEVENT
DTSTART;TZID=America/Phoenix:20211023T110000
DTEND;TZID=America/Phoenix:20211023T160000
DTSTAMP:20260422T044735
CREATED:20211019T053541Z
LAST-MODIFIED:20211019T231741Z
UID:1238-1634986800-1635004800@fishhugger.com
SUMMARY:Saturday Night Supper Club-October 23
DESCRIPTION:Happy autumn Fishhuggers! We’re so glad to be back in Arizona for most of the fall and winter. Please join us this Saturday\, October 23\, 2021 at our home (2031 N 47th St\, Phoenix 85008) from 6pm ’til ??? for a meet and greet with your fellow FishHuggers. We’ll be serving up something from the grill…probably grassfed beef burgers and wild sockeye salmon. You’re welcome (not required) to bring a side dish\, dessert\, snack or beverage to share if you feel so inclined. \nYou’re welcome to order in advance\, shop while you’re here\, or just drop in to say hello. \nWe look forward to seeing you! \nKenny & Brenna
URL:https://fishhugger.com/event/saturday-night-supper-club-october-23/
LOCATION:Fishhugger Central (Phoenix)
CATEGORIES:Markets
END:VEVENT
BEGIN:VEVENT
DTSTART;TZID=America/Phoenix:20211024T020000
DTEND;TZID=America/Phoenix:20211024T060000
DTSTAMP:20260422T044735
CREATED:20210827T025554Z
LAST-MODIFIED:20211019T045601Z
UID:1147-1635040800-1635055200@fishhugger.com
SUMMARY:**MARKET CANCELLED** October 24
DESCRIPTION:The Ahwatukee HOA has cancelled today’s market due to a special weekend event at the location. Catch us back at Ahwatukee Farmers Market next Sunday\, October 31. Fall market hours are 9am-1pm.
URL:https://fishhugger.com/event/ahwatukee-farmers-market-october-24/
LOCATION:Ahwatukee Farmers Market\, 4700 E Warner Rd\, Phoenix\, AZ\, 85044\, United States
CATEGORIES:Markets
END:VEVENT
BEGIN:VEVENT
DTSTART;TZID=America/Phoenix:20211030T010000
DTEND;TZID=America/Phoenix:20211030T060000
DTSTAMP:20260422T044735
CREATED:20210805T020254Z
LAST-MODIFIED:20211025T014414Z
UID:1137-1635555600-1635573600@fishhugger.com
SUMMARY:Roadrunner Park Farmers Market-October 30
DESCRIPTION:Saturdays 8am-1pm at Roadrunner Park (3502 E Cactus Rd\, Phoenix 85032). Alaska Wild Salmon & Seafood\, New Mexico Pasture-Finished Beef\, New Mexico Pork\, Arizona Local Raw Honey and so much more! Ask for the FishHuggers!
URL:https://fishhugger.com/event/roadrunner-park-farmers-market-october-30/
LOCATION:Roadrunner Park Farmers Market\, 3502 E Cactus Rd\, Phoenxi\, AZ\, 85032\, United States
CATEGORIES:Markets
ATTACH;FMTTYPE=image/jpeg:https://fishhugger.com/wp-content/uploads/2021/08/IMG_7835-scaled.jpg
END:VEVENT
BEGIN:VEVENT
DTSTART;TZID=America/Phoenix:20211031T020000
DTEND;TZID=America/Phoenix:20211031T060000
DTSTAMP:20260422T044735
CREATED:20210805T020404Z
LAST-MODIFIED:20210805T020404Z
UID:1140-1635645600-1635660000@fishhugger.com
SUMMARY:Ahwatukee Farmers Market-October 31
DESCRIPTION:Sundays 9am-1pm at Ahwatukee Swim & Tennis Center (4700 E Warner Rd\, Phoenix 85044). Wild Alaska Salmon\, Local NM Grassfed-Grassfinished-GrassFAT Beef\, Arizona Raw Honey and so much more! Ask for the FishHuggers! \nTry our grass fed\, grass finished\, grass FAT Beef!
URL:https://fishhugger.com/event/ahwatukee-farmers-market-october-31/
LOCATION:Ahwatukee Farmers Market\, 4700 E Warner Rd\, Phoenix\, AZ\, 85044\, United States
CATEGORIES:Markets
END:VEVENT
END:VCALENDAR