BEGIN:VCALENDAR
VERSION:2.0
PRODID:-//American Surf and Turf - ECPv6.15.18//NONSGML v1.0//EN
CALSCALE:GREGORIAN
METHOD:PUBLISH
X-ORIGINAL-URL:https://fishhugger.com
X-WR-CALDESC:Events for American Surf and Turf
REFRESH-INTERVAL;VALUE=DURATION:PT1H
X-Robots-Tag:noindex
X-PUBLISHED-TTL:PT1H
BEGIN:VTIMEZONE
TZID:America/Phoenix
BEGIN:STANDARD
TZOFFSETFROM:-0700
TZOFFSETTO:-0700
TZNAME:MST
DTSTART:20200101T000000
END:STANDARD
END:VTIMEZONE
BEGIN:VEVENT
DTSTART;TZID=America/Phoenix:20210501T010000
DTEND;TZID=America/Phoenix:20210501T060000
DTSTAMP:20260422T210915
CREATED:20210309T085838Z
LAST-MODIFIED:20210326T064557Z
UID:922-1619830800-1619848800@fishhugger.com
SUMMARY:Roadrunner Park Farmers Market-May 1
DESCRIPTION:Saturdays 8am-1pm at Roadrunner Park (3502 E Cactus Rd\, Phoenix 85032). Alaska Wild Salmon & Seafood\, New Mexico Pasture-Finished Beef\, New Mexico Pork\, Arizona Local Raw Honey and so much more! Ask for the FishHuggers!
URL:https://fishhugger.com/event/roadrunner-park-farmers-market-32/
LOCATION:Roadrunner Park Farmers Market\, 3502 E Cactus Rd\, Phoenxi\, AZ\, 85032\, United States
CATEGORIES:Markets
END:VEVENT
BEGIN:VEVENT
DTSTART;TZID=America/Phoenix:20210502T020000
DTEND;TZID=America/Phoenix:20210502T060000
DTSTAMP:20260422T210915
CREATED:20210309T090029Z
LAST-MODIFIED:20210326T064618Z
UID:930-1619920800-1619935200@fishhugger.com
SUMMARY:Ahwatukee Farmers Market-May 2
DESCRIPTION:Sundays 9am-1pm at Ahwatukee Swim & Tennis Center (4700 E Warner Rd\, Phoenix 85044). Wild Alaska Salmon\, Local NM Grassfed-Grassfinished-GrassFAT Beef\, Arizona Raw Honey and so much more! Ask for the FishHuggers! \nTry our grass fed\, grass finished\, grass FAT Beef!
URL:https://fishhugger.com/event/ahwatukee-farmers-market-30/
LOCATION:Ahwatukee Farmers Market\, 4700 E Warner Rd\, Phoenix\, AZ\, 85044\, United States
CATEGORIES:Markets
END:VEVENT
BEGIN:VEVENT
DTSTART;TZID=America/Phoenix:20210508T010000
DTEND;TZID=America/Phoenix:20210508T060000
DTSTAMP:20260422T210915
CREATED:20210501T013812Z
LAST-MODIFIED:20210501T013812Z
UID:991-1620435600-1620453600@fishhugger.com
SUMMARY:Roadrunner Park Farmers Market-May 8
DESCRIPTION:Saturdays 8am-1pm at Roadrunner Park (3502 E Cactus Rd\, Phoenix 85032). Alaska Wild Salmon & Seafood\, New Mexico Pasture-Finished Beef\, New Mexico Pork\, Arizona Local Raw Honey and so much more! Ask for the FishHuggers!
URL:https://fishhugger.com/event/roadrunner-park-farmers-market-may-8/
LOCATION:Roadrunner Park Farmers Market\, 3502 E Cactus Rd\, Phoenxi\, AZ\, 85032\, United States
CATEGORIES:Markets
END:VEVENT
BEGIN:VEVENT
DTSTART;TZID=America/Phoenix:20210509T020000
DTEND;TZID=America/Phoenix:20210509T060000
DTSTAMP:20260422T210915
CREATED:20210501T013850Z
LAST-MODIFIED:20210501T013850Z
UID:993-1620525600-1620540000@fishhugger.com
SUMMARY:Ahwatukee Farmers Market-May 9
DESCRIPTION:Sundays 9am-1pm at Ahwatukee Swim & Tennis Center (4700 E Warner Rd\, Phoenix 85044). Wild Alaska Salmon\, Local NM Grassfed-Grassfinished-GrassFAT Beef\, Arizona Raw Honey and so much more! Ask for the FishHuggers! \nTry our grass fed\, grass finished\, grass FAT Beef!
URL:https://fishhugger.com/event/ahwatukee-farmers-market-may-9/
LOCATION:Ahwatukee Farmers Market\, 4700 E Warner Rd\, Phoenix\, AZ\, 85044\, United States
CATEGORIES:Markets
END:VEVENT
BEGIN:VEVENT
DTSTART;TZID=America/Phoenix:20210515T010000
DTEND;TZID=America/Phoenix:20210515T060000
DTSTAMP:20260422T210915
CREATED:20210513T062825Z
LAST-MODIFIED:20210513T062825Z
UID:998-1621040400-1621058400@fishhugger.com
SUMMARY:Roadrunner Park Farmers Market-May 15
DESCRIPTION:Saturdays 8am-1pm at Roadrunner Park (3502 E Cactus Rd\, Phoenix 85032). Alaska Wild Salmon & Seafood\, New Mexico Pasture-Finished Beef\, New Mexico Pork\, Arizona Local Raw Honey and so much more! Ask for the FishHuggers!
URL:https://fishhugger.com/event/roadrunner-park-farmers-market-may-15/
LOCATION:Roadrunner Park Farmers Market\, 3502 E Cactus Rd\, Phoenxi\, AZ\, 85032\, United States
CATEGORIES:Markets
END:VEVENT
BEGIN:VEVENT
DTSTART;TZID=America/Phoenix:20210516T020000
DTEND;TZID=America/Phoenix:20210516T060000
DTSTAMP:20260422T210915
CREATED:20210513T062904Z
LAST-MODIFIED:20210513T062904Z
UID:1000-1621130400-1621144800@fishhugger.com
SUMMARY:Ahwatukee Farmers Market-May 16
DESCRIPTION:Sundays 9am-1pm at Ahwatukee Swim & Tennis Center (4700 E Warner Rd\, Phoenix 85044). Wild Alaska Salmon\, Local NM Grassfed-Grassfinished-GrassFAT Beef\, Arizona Raw Honey and so much more! Ask for the FishHuggers! \nTry our grass fed\, grass finished\, grass FAT Beef!
URL:https://fishhugger.com/event/ahwatukee-farmers-market-may-16/
LOCATION:Ahwatukee Farmers Market\, 4700 E Warner Rd\, Phoenix\, AZ\, 85044\, United States
CATEGORIES:Markets
END:VEVENT
BEGIN:VEVENT
DTSTART;TZID=America/Phoenix:20210529T010000
DTEND;TZID=America/Phoenix:20210529T040000
DTSTAMP:20260422T210915
CREATED:20210513T063025Z
LAST-MODIFIED:20210513T063025Z
UID:1002-1622250000-1622260800@fishhugger.com
SUMMARY:Los Ranchos Growers Market-May 29
DESCRIPTION:Saturdays 8am-11am\, 6718 Rio Grande Blvd NW\, Los Ranchos NM 87107. Alaska Wild Salmon\, New Mexico Pasture-Finished Beef and so much more!
URL:https://fishhugger.com/event/los-ranchos-growers-market-may-29/
LOCATION:Los Ranchos Growers Market\, 6718 Rio Grande Blvd NW\, Los Ranchos\, NM\, 87107
CATEGORIES:Markets
END:VEVENT
END:VCALENDAR