BEGIN:VCALENDAR
VERSION:2.0
PRODID:-//American Surf and Turf - ECPv6.15.18//NONSGML v1.0//EN
CALSCALE:GREGORIAN
METHOD:PUBLISH
X-WR-CALNAME:American Surf and Turf
X-ORIGINAL-URL:https://fishhugger.com
X-WR-CALDESC:Events for American Surf and Turf
REFRESH-INTERVAL;VALUE=DURATION:PT1H
X-Robots-Tag:noindex
X-PUBLISHED-TTL:PT1H
BEGIN:VTIMEZONE
TZID:America/Phoenix
BEGIN:STANDARD
TZOFFSETFROM:-0700
TZOFFSETTO:-0700
TZNAME:MST
DTSTART:20200101T000000
END:STANDARD
END:VTIMEZONE
BEGIN:VEVENT
DTSTART;TZID=America/Phoenix:20210306T010000
DTEND;TZID=America/Phoenix:20210306T060000
DTSTAMP:20260422T204645
CREATED:20210212T061025Z
LAST-MODIFIED:20210212T061025Z
UID:869-1614992400-1615010400@fishhugger.com
SUMMARY:Roadrunner Park Farmers Market
DESCRIPTION:Saturdays 8am-1pm at Roadrunner Park (3502 E Cactus Rd\, Phoenix 85032). Alaska Wild Salmon & Seafood\, New Mexico Pasture-Finished Beef\, New Mexico Pork\, Arizona Local Raw Honey and so much more! Ask for the FishHuggers!
URL:https://fishhugger.com/event/roadrunner-park-farmers-market-24/
LOCATION:Roadrunner Park Farmers Market\, 3502 E Cactus Rd\, Phoenxi\, AZ\, 85032\, United States
CATEGORIES:Markets
END:VEVENT
BEGIN:VEVENT
DTSTART;TZID=America/Phoenix:20210307T020000
DTEND;TZID=America/Phoenix:20210307T060000
DTSTAMP:20260422T204645
CREATED:20210212T061217Z
LAST-MODIFIED:20210212T061303Z
UID:877-1615082400-1615096800@fishhugger.com
SUMMARY:Ahwatukee Farmers Market
DESCRIPTION:Sundays 9am-1pm at Ahwatukee Swim & Tennis Center (4700 E Warner Rd\, Phoenix 85044). Wild Alaska Salmon\, Local NM Grassfed-Grassfinished-GrassFAT Beef\, Arizona Raw Honey and so much more! Ask for the FishHuggers! \nTry our grass fed\, grass finished\, grass FAT Beef!
URL:https://fishhugger.com/event/ahwatukee-farmers-market-23/
LOCATION:Ahwatukee Farmers Market\, 4700 E Warner Rd\, Phoenix\, AZ\, 85044\, United States
CATEGORIES:Markets
END:VEVENT
BEGIN:VEVENT
DTSTART;TZID=America/Phoenix:20210309T010000
DTEND;TZID=America/Phoenix:20210309T100000
DTSTAMP:20260422T204645
CREATED:20210212T061929Z
LAST-MODIFIED:20210309T201743Z
UID:886-1615251600-1615284000@fishhugger.com
SUMMARY:Albuquerque Delivery - March 9
DESCRIPTION:We’re making an essential trip to New Mexico and now taking orders for delivery in the Albuquerque area on Tuesday\, March 9\, 2021. Everything is current on our website\, including our product list and pricing. Please review it before ordering as some of our menu items have recently changed. Orders accepted through Friday\, March 5 and can be placed by email or phone. Further inquiry welcome. \nThank you!
URL:https://fishhugger.com/event/albuquerque-delivery-march-9-order-now/
LOCATION:NM
CATEGORIES:Markets
ATTACH;FMTTYPE=image/jpeg:https://fishhugger.com/wp-content/uploads/2021/02/ABQBallon.jpg
END:VEVENT
BEGIN:VEVENT
DTSTART;TZID=America/Phoenix:20210313T010000
DTEND;TZID=America/Phoenix:20210313T060000
DTSTAMP:20260422T204645
CREATED:20210212T061051Z
LAST-MODIFIED:20210309T201808Z
UID:871-1615597200-1615615200@fishhugger.com
SUMMARY:Roadrunner Park Farmers Market - March 13
DESCRIPTION:Saturdays 8am-1pm at Roadrunner Park (3502 E Cactus Rd\, Phoenix 85032). Alaska Wild Salmon & Seafood\, New Mexico Pasture-Finished Beef\, New Mexico Pork\, Arizona Local Raw Honey and so much more! Ask for the FishHuggers!
URL:https://fishhugger.com/event/roadrunner-park-farmers-market-25/
LOCATION:Roadrunner Park Farmers Market\, 3502 E Cactus Rd\, Phoenxi\, AZ\, 85032\, United States
CATEGORIES:Markets
END:VEVENT
BEGIN:VEVENT
DTSTART;TZID=America/Phoenix:20210314T020000
DTEND;TZID=America/Phoenix:20210314T060000
DTSTAMP:20260422T204645
CREATED:20210212T061328Z
LAST-MODIFIED:20210309T201831Z
UID:880-1615687200-1615701600@fishhugger.com
SUMMARY:Ahwatukee Farmers Market - March 14
DESCRIPTION:Sundays 9am-1pm at Ahwatukee Swim & Tennis Center (4700 E Warner Rd\, Phoenix 85044). Wild Alaska Salmon\, Local NM Grassfed-Grassfinished-GrassFAT Beef\, Arizona Raw Honey and so much more! Ask for the FishHuggers! \nTry our grass fed\, grass finished\, grass FAT Beef!
URL:https://fishhugger.com/event/ahwatukee-farmers-market-24/
LOCATION:Ahwatukee Farmers Market\, 4700 E Warner Rd\, Phoenix\, AZ\, 85044\, United States
CATEGORIES:Markets
END:VEVENT
BEGIN:VEVENT
DTSTART;TZID=America/Phoenix:20210320T010000
DTEND;TZID=America/Phoenix:20210320T060000
DTSTAMP:20260422T204645
CREATED:20210212T061114Z
LAST-MODIFIED:20210309T201908Z
UID:873-1616202000-1616220000@fishhugger.com
SUMMARY:Roadrunner Park Farmers Market - March 20
DESCRIPTION:Saturdays 8am-1pm at Roadrunner Park (3502 E Cactus Rd\, Phoenix 85032). Alaska Wild Salmon & Seafood\, New Mexico Pasture-Finished Beef\, New Mexico Pork\, Arizona Local Raw Honey and so much more! Ask for the FishHuggers!
URL:https://fishhugger.com/event/roadrunner-park-farmers-market-26/
LOCATION:Roadrunner Park Farmers Market\, 3502 E Cactus Rd\, Phoenxi\, AZ\, 85032\, United States
CATEGORIES:Markets
END:VEVENT
BEGIN:VEVENT
DTSTART;TZID=America/Phoenix:20210321T020000
DTEND;TZID=America/Phoenix:20210321T060000
DTSTAMP:20260422T204645
CREATED:20210212T061352Z
LAST-MODIFIED:20210309T201932Z
UID:882-1616292000-1616306400@fishhugger.com
SUMMARY:Ahwatukee Farmers Market - March 21
DESCRIPTION:Sundays 9am-1pm at Ahwatukee Swim & Tennis Center (4700 E Warner Rd\, Phoenix 85044). Wild Alaska Salmon\, Local NM Grassfed-Grassfinished-GrassFAT Beef\, Arizona Raw Honey and so much more! Ask for the FishHuggers! \nTry our grass fed\, grass finished\, grass FAT Beef!
URL:https://fishhugger.com/event/ahwatukee-farmers-market-25/
LOCATION:Ahwatukee Farmers Market\, 4700 E Warner Rd\, Phoenix\, AZ\, 85044\, United States
CATEGORIES:Markets
END:VEVENT
BEGIN:VEVENT
DTSTART;TZID=America/Phoenix:20210327T010000
DTEND;TZID=America/Phoenix:20210327T060000
DTSTAMP:20260422T204645
CREATED:20210212T061144Z
LAST-MODIFIED:20210318T034038Z
UID:875-1616806800-1616824800@fishhugger.com
SUMMARY:Roadrunner Park Farmers Market-March 27
DESCRIPTION:Saturdays 8am-1pm at Roadrunner Park (3502 E Cactus Rd\, Phoenix 85032). Alaska Wild Salmon & Seafood\, New Mexico Pasture-Finished Beef\, New Mexico Pork\, Arizona Local Raw Honey and so much more! Ask for the FishHuggers!
URL:https://fishhugger.com/event/roadrunner-park-farmers-market-27/
LOCATION:Roadrunner Park Farmers Market\, 3502 E Cactus Rd\, Phoenxi\, AZ\, 85032\, United States
CATEGORIES:Markets
END:VEVENT
BEGIN:VEVENT
DTSTART;TZID=America/Phoenix:20210328T020000
DTEND;TZID=America/Phoenix:20210328T060000
DTSTAMP:20260422T204645
CREATED:20210212T061412Z
LAST-MODIFIED:20210318T034104Z
UID:884-1616896800-1616911200@fishhugger.com
SUMMARY:Ahwatukee Farmers Market-March 28
DESCRIPTION:Sundays 9am-1pm at Ahwatukee Swim & Tennis Center (4700 E Warner Rd\, Phoenix 85044). Wild Alaska Salmon\, Local NM Grassfed-Grassfinished-GrassFAT Beef\, Arizona Raw Honey and so much more! Ask for the FishHuggers! \nTry our grass fed\, grass finished\, grass FAT Beef!
URL:https://fishhugger.com/event/ahwatukee-farmers-market-26/
LOCATION:Ahwatukee Farmers Market\, 4700 E Warner Rd\, Phoenix\, AZ\, 85044\, United States
CATEGORIES:Markets
END:VEVENT
END:VCALENDAR