BEGIN:VCALENDAR
VERSION:2.0
PRODID:-//American Surf and Turf - ECPv6.15.18//NONSGML v1.0//EN
CALSCALE:GREGORIAN
METHOD:PUBLISH
X-WR-CALNAME:American Surf and Turf
X-ORIGINAL-URL:https://fishhugger.com
X-WR-CALDESC:Events for American Surf and Turf
REFRESH-INTERVAL;VALUE=DURATION:PT1H
X-Robots-Tag:noindex
X-PUBLISHED-TTL:PT1H
BEGIN:VTIMEZONE
TZID:America/Phoenix
BEGIN:STANDARD
TZOFFSETFROM:-0700
TZOFFSETTO:-0700
TZNAME:MST
DTSTART:20190101T000000
END:STANDARD
END:VTIMEZONE
BEGIN:VEVENT
DTSTART;VALUE=DATE:20201214
DTEND;VALUE=DATE:20210102
DTSTAMP:20260422T225227
CREATED:20201128T024900Z
LAST-MODIFIED:20201204T054826Z
UID:785-1607965200-1609520399@fishhugger.com
SUMMARY:Winter Vacation
DESCRIPTION:As usual\, we’re taking some time to ourselves over the holidays. We’ll return to our favorite Phoenix area farmers markets for the winter/spring season beginning Saturday\, January 2\, 2021. You may order in advance for the markets (Roadrunner Park & Ahwatukee) at any time via phone or email. We appreciate you all and wish you a wonderful and healthful holiday season. We look forward to serving you in the new year!
URL:https://fishhugger.com/event/winter-vacation/
LOCATION:NM
CATEGORIES:Markets
END:VEVENT
BEGIN:VEVENT
DTSTART;TZID=America/Phoenix:20210102T010000
DTEND;TZID=America/Phoenix:20210102T060000
DTSTAMP:20260422T225227
CREATED:20201010T020948Z
LAST-MODIFIED:20201017T034957Z
UID:751-1609549200-1609567200@fishhugger.com
SUMMARY:Roadrunner Park Farmers Market
DESCRIPTION:Saturdays 8am-1pm at Roadrunner Park (3502 E Cactus Rd\, Phoenix 85032). Alaska Wild Salmon & Seafood\, New Mexico Pasture-Finished Beef\, New Mexico Pork\, Arizona Local Raw Honey and so much more! Ask for the FishHugger Family!
URL:https://fishhugger.com/event/roadrunner-park-farmers-market-12/
LOCATION:Roadrunner Park Farmers Market\, 3502 E Cactus Rd\, Phoenxi\, AZ\, 85032\, United States
CATEGORIES:Markets
END:VEVENT
BEGIN:VEVENT
DTSTART;TZID=America/Phoenix:20210103T020000
DTEND;TZID=America/Phoenix:20210103T060000
DTSTAMP:20260422T225227
CREATED:20201010T021029Z
LAST-MODIFIED:20201010T021029Z
UID:753-1609639200-1609653600@fishhugger.com
SUMMARY:Ahwatukee Farmers Market
DESCRIPTION:Sundays 9am-1pm at Ahwatukee Swim & Tennis Center (4700 E Warner Rd\, Phoenix 85044). Wild Alaska Salmon\, Local NM Grassfed-Grassfinished-GrassFAT Beef\, Local NM Pork\, Arizona Raw Honey and so much more! Ask for the FishHugger Family! \nTry our grass fed\, grass finished\, grass FAT Beef!
URL:https://fishhugger.com/event/ahwatukee-farmers-market-11/
LOCATION:Ahwatukee Farmers Market\, 4700 E Warner Rd\, Phoenix\, AZ\, 85044\, United States
CATEGORIES:Markets
END:VEVENT
BEGIN:VEVENT
DTSTART;TZID=America/Phoenix:20210109T010000
DTEND;TZID=America/Phoenix:20210109T060000
DTSTAMP:20260422T225227
CREATED:20210109T061033Z
LAST-MODIFIED:20210109T061033Z
UID:826-1610154000-1610172000@fishhugger.com
SUMMARY:Roadrunner Park Farmers Market
DESCRIPTION:Saturdays 8am-1pm at Roadrunner Park (3502 E Cactus Rd\, Phoenix 85032). Alaska Wild Salmon & Seafood\, New Mexico Pasture-Finished Beef\, New Mexico Pork\, Arizona Local Raw Honey and so much more! Ask for the FishHugger Family!
URL:https://fishhugger.com/event/roadrunner-park-farmers-market-16/
LOCATION:Roadrunner Park Farmers Market\, 3502 E Cactus Rd\, Phoenxi\, AZ\, 85032\, United States
CATEGORIES:Markets
END:VEVENT
BEGIN:VEVENT
DTSTART;TZID=America/Phoenix:20210110T020000
DTEND;TZID=America/Phoenix:20210110T060000
DTSTAMP:20260422T225227
CREATED:20210109T061309Z
LAST-MODIFIED:20210109T061309Z
UID:835-1610244000-1610258400@fishhugger.com
SUMMARY:Ahwatukee Farmers Market
DESCRIPTION:Sundays 9am-1pm at Ahwatukee Swim & Tennis Center (4700 E Warner Rd\, Phoenix 85044). Wild Alaska Salmon\, Local NM Grassfed-Grassfinished-GrassFAT Beef\, Local NM Pork\, Arizona Raw Honey and so much more! Ask for the FishHuggers! \nTry our grass fed\, grass finished\, grass FAT Beef!
URL:https://fishhugger.com/event/ahwatukee-farmers-market-15/
LOCATION:Ahwatukee Farmers Market\, 4700 E Warner Rd\, Phoenix\, AZ\, 85044\, United States
CATEGORIES:Markets
END:VEVENT
BEGIN:VEVENT
DTSTART;TZID=America/Phoenix:20210116T010000
DTEND;TZID=America/Phoenix:20210116T060000
DTSTAMP:20260422T225227
CREATED:20210109T061124Z
LAST-MODIFIED:20210109T061124Z
UID:829-1610758800-1610776800@fishhugger.com
SUMMARY:Roadrunner Park Farmers Market
DESCRIPTION:Saturdays 8am-1pm at Roadrunner Park (3502 E Cactus Rd\, Phoenix 85032). Alaska Wild Salmon & Seafood\, New Mexico Pasture-Finished Beef\, New Mexico Pork\, Arizona Local Raw Honey and so much more! Ask for the FishHugger Family!
URL:https://fishhugger.com/event/roadrunner-park-farmers-market-17/
LOCATION:Roadrunner Park Farmers Market\, 3502 E Cactus Rd\, Phoenxi\, AZ\, 85032\, United States
CATEGORIES:Markets
END:VEVENT
BEGIN:VEVENT
DTSTART;TZID=America/Phoenix:20210117T020000
DTEND;TZID=America/Phoenix:20210117T060000
DTSTAMP:20260422T225227
CREATED:20210109T061340Z
LAST-MODIFIED:20210109T061340Z
UID:837-1610848800-1610863200@fishhugger.com
SUMMARY:Ahwatukee Farmers Market
DESCRIPTION:Sundays 9am-1pm at Ahwatukee Swim & Tennis Center (4700 E Warner Rd\, Phoenix 85044). Wild Alaska Salmon\, Local NM Grassfed-Grassfinished-GrassFAT Beef\, Local NM Pork\, Arizona Raw Honey and so much more! Ask for the FishHuggers! \nTry our grass fed\, grass finished\, grass FAT Beef!
URL:https://fishhugger.com/event/ahwatukee-farmers-market-16/
LOCATION:Ahwatukee Farmers Market\, 4700 E Warner Rd\, Phoenix\, AZ\, 85044\, United States
CATEGORIES:Markets
END:VEVENT
BEGIN:VEVENT
DTSTART;TZID=America/Phoenix:20210123T010000
DTEND;TZID=America/Phoenix:20210123T060000
DTSTAMP:20260422T225227
CREATED:20210109T061201Z
LAST-MODIFIED:20210109T061201Z
UID:831-1611363600-1611381600@fishhugger.com
SUMMARY:Roadrunner Park Farmers Market
DESCRIPTION:Saturdays 8am-1pm at Roadrunner Park (3502 E Cactus Rd\, Phoenix 85032). Alaska Wild Salmon & Seafood\, New Mexico Pasture-Finished Beef\, New Mexico Pork\, Arizona Local Raw Honey and so much more! Ask for the FishHuggers!
URL:https://fishhugger.com/event/roadrunner-park-farmers-market-18/
LOCATION:Roadrunner Park Farmers Market\, 3502 E Cactus Rd\, Phoenxi\, AZ\, 85032\, United States
CATEGORIES:Markets
END:VEVENT
BEGIN:VEVENT
DTSTART;TZID=America/Phoenix:20210124T020000
DTEND;TZID=America/Phoenix:20210124T060000
DTSTAMP:20260422T225227
CREATED:20210109T061402Z
LAST-MODIFIED:20210109T061402Z
UID:839-1611453600-1611468000@fishhugger.com
SUMMARY:Ahwatukee Farmers Market
DESCRIPTION:Sundays 9am-1pm at Ahwatukee Swim & Tennis Center (4700 E Warner Rd\, Phoenix 85044). Wild Alaska Salmon\, Local NM Grassfed-Grassfinished-GrassFAT Beef\, Local NM Pork\, Arizona Raw Honey and so much more! Ask for the FishHuggers! \nTry our grass fed\, grass finished\, grass FAT Beef!
URL:https://fishhugger.com/event/ahwatukee-farmers-market-17/
LOCATION:Ahwatukee Farmers Market\, 4700 E Warner Rd\, Phoenix\, AZ\, 85044\, United States
CATEGORIES:Markets
END:VEVENT
BEGIN:VEVENT
DTSTART;TZID=America/Phoenix:20210130T010000
DTEND;TZID=America/Phoenix:20210130T060000
DTSTAMP:20260422T225227
CREATED:20210109T061227Z
LAST-MODIFIED:20210109T061227Z
UID:833-1611968400-1611986400@fishhugger.com
SUMMARY:Roadrunner Park Farmers Market
DESCRIPTION:Saturdays 8am-1pm at Roadrunner Park (3502 E Cactus Rd\, Phoenix 85032). Alaska Wild Salmon & Seafood\, New Mexico Pasture-Finished Beef\, New Mexico Pork\, Arizona Local Raw Honey and so much more! Ask for the FishHuggers!
URL:https://fishhugger.com/event/roadrunner-park-farmers-market-19/
LOCATION:Roadrunner Park Farmers Market\, 3502 E Cactus Rd\, Phoenxi\, AZ\, 85032\, United States
CATEGORIES:Markets
END:VEVENT
BEGIN:VEVENT
DTSTART;TZID=America/Phoenix:20210131T020000
DTEND;TZID=America/Phoenix:20210131T060000
DTSTAMP:20260422T225227
CREATED:20210109T061426Z
LAST-MODIFIED:20210109T061426Z
UID:841-1612058400-1612072800@fishhugger.com
SUMMARY:Ahwatukee Farmers Market
DESCRIPTION:Sundays 9am-1pm at Ahwatukee Swim & Tennis Center (4700 E Warner Rd\, Phoenix 85044). Wild Alaska Salmon\, Local NM Grassfed-Grassfinished-GrassFAT Beef\, Local NM Pork\, Arizona Raw Honey and so much more! Ask for the FishHuggers! \nTry our grass fed\, grass finished\, grass FAT Beef!
URL:https://fishhugger.com/event/ahwatukee-farmers-market-18/
LOCATION:Ahwatukee Farmers Market\, 4700 E Warner Rd\, Phoenix\, AZ\, 85044\, United States
CATEGORIES:Markets
END:VEVENT
END:VCALENDAR