BEGIN:VCALENDAR
VERSION:2.0
PRODID:-//American Surf and Turf - ECPv6.15.18//NONSGML v1.0//EN
CALSCALE:GREGORIAN
METHOD:PUBLISH
X-WR-CALNAME:American Surf and Turf
X-ORIGINAL-URL:https://fishhugger.com
X-WR-CALDESC:Events for American Surf and Turf
REFRESH-INTERVAL;VALUE=DURATION:PT1H
X-Robots-Tag:noindex
X-PUBLISHED-TTL:PT1H
BEGIN:VTIMEZONE
TZID:America/Phoenix
BEGIN:STANDARD
TZOFFSETFROM:-0700
TZOFFSETTO:-0700
TZNAME:MST
DTSTART:20190101T000000
END:STANDARD
END:VTIMEZONE
BEGIN:VEVENT
DTSTART;TZID=America/Phoenix:20201205T010000
DTEND;TZID=America/Phoenix:20201205T060000
DTSTAMP:20260425T041051
CREATED:20201201T030041Z
LAST-MODIFIED:20201201T030041Z
UID:801-1607130000-1607148000@fishhugger.com
SUMMARY:Roadrunner Park Farmers Market
DESCRIPTION:Saturdays 8am-1pm at Roadrunner Park (3502 E Cactus Rd\, Phoenix 85032). Alaska Wild Salmon & Seafood\, New Mexico Pasture-Finished Beef\, New Mexico Pork\, Arizona Local Raw Honey and so much more! Ask for the FishHugger Family!
URL:https://fishhugger.com/event/roadrunner-park-farmers-market-14/
LOCATION:Roadrunner Park Farmers Market\, 3502 E Cactus Rd\, Phoenxi\, AZ\, 85032\, United States
CATEGORIES:Markets
END:VEVENT
BEGIN:VEVENT
DTSTART;TZID=America/Phoenix:20201206T020000
DTEND;TZID=America/Phoenix:20201206T060000
DTSTAMP:20260425T041051
CREATED:20201201T030150Z
LAST-MODIFIED:20201201T030150Z
UID:805-1607220000-1607234400@fishhugger.com
SUMMARY:Ahwatukee Farmers Market
DESCRIPTION:Sundays 9am-1pm at Ahwatukee Swim & Tennis Center (4700 E Warner Rd\, Phoenix 85044). Wild Alaska Salmon\, Local NM Grassfed-Grassfinished-GrassFAT Beef\, Local NM Pork\, Arizona Raw Honey and so much more! Ask for the FishHugger Family! \nTry our grass fed\, grass finished\, grass FAT Beef!
URL:https://fishhugger.com/event/ahwatukee-farmers-market-13/
LOCATION:Ahwatukee Farmers Market\, 4700 E Warner Rd\, Phoenix\, AZ\, 85044\, United States
CATEGORIES:Markets
END:VEVENT
BEGIN:VEVENT
DTSTART;TZID=America/Phoenix:20201212T010000
DTEND;TZID=America/Phoenix:20201212T060000
DTSTAMP:20260425T041051
CREATED:20201201T030113Z
LAST-MODIFIED:20201201T030113Z
UID:803-1607734800-1607752800@fishhugger.com
SUMMARY:Roadrunner Park Farmers Market
DESCRIPTION:Saturdays 8am-1pm at Roadrunner Park (3502 E Cactus Rd\, Phoenix 85032). Alaska Wild Salmon & Seafood\, New Mexico Pasture-Finished Beef\, New Mexico Pork\, Arizona Local Raw Honey and so much more! Ask for the FishHugger Family!
URL:https://fishhugger.com/event/roadrunner-park-farmers-market-15/
LOCATION:Roadrunner Park Farmers Market\, 3502 E Cactus Rd\, Phoenxi\, AZ\, 85032\, United States
CATEGORIES:Markets
END:VEVENT
BEGIN:VEVENT
DTSTART;TZID=America/Phoenix:20201213T020000
DTEND;TZID=America/Phoenix:20201213T060000
DTSTAMP:20260425T041051
CREATED:20201201T030219Z
LAST-MODIFIED:20201201T030219Z
UID:807-1607824800-1607839200@fishhugger.com
SUMMARY:Ahwatukee Farmers Market
DESCRIPTION:Sundays 9am-1pm at Ahwatukee Swim & Tennis Center (4700 E Warner Rd\, Phoenix 85044). Wild Alaska Salmon\, Local NM Grassfed-Grassfinished-GrassFAT Beef\, Local NM Pork\, Arizona Raw Honey and so much more! Ask for the FishHugger Family! \nTry our grass fed\, grass finished\, grass FAT Beef!
URL:https://fishhugger.com/event/ahwatukee-farmers-market-14/
LOCATION:Ahwatukee Farmers Market\, 4700 E Warner Rd\, Phoenix\, AZ\, 85044\, United States
CATEGORIES:Markets
END:VEVENT
BEGIN:VEVENT
DTSTART;VALUE=DATE:20201213
DTEND;VALUE=DATE:20201215
DTSTAMP:20260425T041051
CREATED:20200926T085928Z
LAST-MODIFIED:20201204T054015Z
UID:714-1607878800-1607965199@fishhugger.com
SUMMARY:Fall Beef Harvest
DESCRIPTION:Our New Mexico pasture-finished grass-fed beef is dry aged 21 days! Reserve your quarter\, side or whole beef today.
URL:https://fishhugger.com/event/fall-beef-harvest/
LOCATION:NM
CATEGORIES:Markets
END:VEVENT
BEGIN:VEVENT
DTSTART;VALUE=DATE:20201214
DTEND;VALUE=DATE:20210102
DTSTAMP:20260425T041051
CREATED:20201128T024900Z
LAST-MODIFIED:20201204T054826Z
UID:785-1607965200-1609520399@fishhugger.com
SUMMARY:Winter Vacation
DESCRIPTION:As usual\, we’re taking some time to ourselves over the holidays. We’ll return to our favorite Phoenix area farmers markets for the winter/spring season beginning Saturday\, January 2\, 2021. You may order in advance for the markets (Roadrunner Park & Ahwatukee) at any time via phone or email. We appreciate you all and wish you a wonderful and healthful holiday season. We look forward to serving you in the new year!
URL:https://fishhugger.com/event/winter-vacation/
LOCATION:NM
CATEGORIES:Markets
END:VEVENT
END:VCALENDAR