BEGIN:VCALENDAR
VERSION:2.0
PRODID:-//American Surf and Turf - ECPv6.15.18//NONSGML v1.0//EN
CALSCALE:GREGORIAN
METHOD:PUBLISH
X-WR-CALNAME:American Surf and Turf
X-ORIGINAL-URL:https://fishhugger.com
X-WR-CALDESC:Events for American Surf and Turf
REFRESH-INTERVAL;VALUE=DURATION:PT1H
X-Robots-Tag:noindex
X-PUBLISHED-TTL:PT1H
BEGIN:VTIMEZONE
TZID:America/Phoenix
BEGIN:STANDARD
TZOFFSETFROM:-0700
TZOFFSETTO:-0700
TZNAME:MST
DTSTART:20190101T000000
END:STANDARD
END:VTIMEZONE
BEGIN:VEVENT
DTSTART;TZID=America/Phoenix:20200801T010000
DTEND;TZID=America/Phoenix:20200801T040000
DTSTAMP:20260425T152909
CREATED:20200704T001751Z
LAST-MODIFIED:20200704T001751Z
UID:622-1596243600-1596254400@fishhugger.com
SUMMARY:Los Ranchos Growers Market
DESCRIPTION:Saturdays 8am-11am\, 6718 Rio Grande Blvd NW\, Los Ranchos NM 87107. Alaska Wild Salmon\, New Mexico Pasture-Finished Beef and so much more!
URL:https://fishhugger.com/event/los-ranchos-growers-market-9/
LOCATION:Los Ranchos Growers Market\, 6718 Rio Grande Blvd NW\, Los Ranchos\, NM\, 87107
CATEGORIES:Markets
END:VEVENT
BEGIN:VEVENT
DTSTART;TZID=America/Phoenix:20200808T010000
DTEND;TZID=America/Phoenix:20200808T040000
DTSTAMP:20260425T152909
CREATED:20200801T055817Z
LAST-MODIFIED:20200801T055817Z
UID:649-1596848400-1596859200@fishhugger.com
SUMMARY:Los Ranchos Growers Market
DESCRIPTION:Saturdays 8am-11am\, 6718 Rio Grande Blvd NW\, Los Ranchos NM 87107. Alaska Wild Salmon\, New Mexico Pasture-Finished Beef and so much more!
URL:https://fishhugger.com/event/los-ranchos-growers-market-10/
LOCATION:Los Ranchos Growers Market\, 6718 Rio Grande Blvd NW\, Los Ranchos\, NM\, 87107
CATEGORIES:Markets
END:VEVENT
BEGIN:VEVENT
DTSTART;TZID=America/Phoenix:20200815T010000
DTEND;TZID=America/Phoenix:20200815T040000
DTSTAMP:20260425T152909
CREATED:20200801T055847Z
LAST-MODIFIED:20200801T055847Z
UID:651-1597453200-1597464000@fishhugger.com
SUMMARY:Los Ranchos Growers Market
DESCRIPTION:Saturdays 8am-11am\, 6718 Rio Grande Blvd NW\, Los Ranchos NM 87107. Alaska Wild Salmon\, New Mexico Pasture-Finished Beef and so much more!
URL:https://fishhugger.com/event/los-ranchos-growers-market-11/
LOCATION:Los Ranchos Growers Market\, 6718 Rio Grande Blvd NW\, Los Ranchos\, NM\, 87107
CATEGORIES:Markets
END:VEVENT
BEGIN:VEVENT
DTSTART;TZID=America/Phoenix:20200816T030000
DTEND;TZID=America/Phoenix:20200816T070000
DTSTAMP:20260425T152909
CREATED:20200801T061238Z
LAST-MODIFIED:20200926T084635Z
UID:668-1597546800-1597561200@fishhugger.com
SUMMARY:Peralta Pop-Up!
DESCRIPTION:We’ll be setting up the FishHugger market booth here at our second year micro-farm! Please order in advance and schedule an appointment during open hours for pick up and a farm tour. We’re located in the beautiful Rio Grande Valley here in Peralta\, New Mexico!
URL:https://fishhugger.com/event/peralta-pop-up/
LOCATION:Fishhugger NM (Peralta)\, 1 Mangham Ct\, Peralta\, NM\, 87042\, United States
CATEGORIES:Markets
ORGANIZER;CN="Kenny & Brenna":MAILTO:info@fishhugger.com
END:VEVENT
BEGIN:VEVENT
DTSTART;TZID=America/Phoenix:20200822T010000
DTEND;TZID=America/Phoenix:20200822T040000
DTSTAMP:20260425T152909
CREATED:20200801T055911Z
LAST-MODIFIED:20200801T055911Z
UID:653-1598058000-1598068800@fishhugger.com
SUMMARY:Los Ranchos Growers Market
DESCRIPTION:Saturdays 8am-11am\, 6718 Rio Grande Blvd NW\, Los Ranchos NM 87107. Alaska Wild Salmon\, New Mexico Pasture-Finished Beef and so much more!
URL:https://fishhugger.com/event/los-ranchos-growers-market-12/
LOCATION:Los Ranchos Growers Market\, 6718 Rio Grande Blvd NW\, Los Ranchos\, NM\, 87107
CATEGORIES:Markets
END:VEVENT
BEGIN:VEVENT
DTSTART;TZID=America/Phoenix:20200829T010000
DTEND;TZID=America/Phoenix:20200829T040000
DTSTAMP:20260425T152909
CREATED:20200801T055936Z
LAST-MODIFIED:20200801T055936Z
UID:655-1598662800-1598673600@fishhugger.com
SUMMARY:Los Ranchos Growers Market
DESCRIPTION:Saturdays 8am-11am\, 6718 Rio Grande Blvd NW\, Los Ranchos NM 87107. Alaska Wild Salmon\, New Mexico Pasture-Finished Beef and so much more!
URL:https://fishhugger.com/event/los-ranchos-growers-market-13/
LOCATION:Los Ranchos Growers Market\, 6718 Rio Grande Blvd NW\, Los Ranchos\, NM\, 87107
CATEGORIES:Markets
END:VEVENT
END:VCALENDAR