BEGIN:VCALENDAR
VERSION:2.0
PRODID:-//American Surf and Turf - ECPv6.15.18//NONSGML v1.0//EN
CALSCALE:GREGORIAN
METHOD:PUBLISH
X-ORIGINAL-URL:https://fishhugger.com
X-WR-CALDESC:Events for American Surf and Turf
REFRESH-INTERVAL;VALUE=DURATION:PT1H
X-Robots-Tag:noindex
X-PUBLISHED-TTL:PT1H
BEGIN:VTIMEZONE
TZID:America/Phoenix
BEGIN:STANDARD
TZOFFSETFROM:-0700
TZOFFSETTO:-0700
TZNAME:MST
DTSTART:20240101T000000
END:STANDARD
END:VTIMEZONE
BEGIN:VEVENT
DTSTART;VALUE=DATE:20251222
DTEND;VALUE=DATE:20260102
DTSTAMP:20260422T042234
CREATED:20251119T234624Z
LAST-MODIFIED:20251205T205110Z
UID:3227-1766422800-1767286799@fishhugger.com
SUMMARY:Winter Vacation December 22\, 2025 - January 1\, 2026
DESCRIPTION:As usual\, we’re taking some time to ourselves over the holidays. We tentatively plan to return to our favorite Phoenix area farmers markets for the winter-spring season beginning Saturday\, January 3\, 2026. We appreciate you all and wish you a peaceful and healthful December. We look forward to serving you in the new year!
URL:https://fishhugger.com/event/winter-vacation-december-22-2025-january-1-2026/
LOCATION:NM
CATEGORIES:Markets
ATTACH;FMTTYPE=image/jpeg:https://fishhugger.com/wp-content/uploads/2023/11/SnowyTree-scaled.jpg
END:VEVENT
END:VCALENDAR