BEGIN:VCALENDAR
VERSION:2.0
PRODID:-//American Surf and Turf - ECPv6.15.18//NONSGML v1.0//EN
CALSCALE:GREGORIAN
METHOD:PUBLISH
X-WR-CALNAME:American Surf and Turf
X-ORIGINAL-URL:https://fishhugger.com
X-WR-CALDESC:Events for American Surf and Turf
REFRESH-INTERVAL;VALUE=DURATION:PT1H
X-Robots-Tag:noindex
X-PUBLISHED-TTL:PT1H
BEGIN:VTIMEZONE
TZID:America/Phoenix
BEGIN:STANDARD
TZOFFSETFROM:-0700
TZOFFSETTO:-0700
TZNAME:MST
DTSTART:20240101T000000
END:STANDARD
END:VTIMEZONE
BEGIN:VEVENT
DTSTART;TZID=America/Phoenix:20250806T080000
DTEND;TZID=America/Phoenix:20250806T200000
DTSTAMP:20260422T091145
CREATED:20250723T190042Z
LAST-MODIFIED:20250723T190042Z
UID:3107-1754467200-1754510400@fishhugger.com
SUMMARY:Phoenix August 5&6 - Please Order!
DESCRIPTION:Hello FishHuggers! We’re making a quick trip to Phoenix for those who order in advance. Orders will be picked up at our home (near Thomas Rd & 44th St – address provided upon order) on Tuesday\, August 5 and Wednesday\, August 6. Please place your order via email  by 11:59pm on Saturday\, August 2. We offer several bundle and stock up options on our current price list. Many consumers are best satisfied with a custom order\, it’s a great way to eat what you want when you want it. Should you need assistance determining your freezer needs\, please contact us\, we’re here to help. Payment will be accepted at the time of pick up.
URL:https://fishhugger.com/event/phoenix-august-56-please-order-2/
LOCATION:Fishhugger Central (Phoenix)
CATEGORIES:Markets
ATTACH;FMTTYPE=image/jpeg:https://fishhugger.com/wp-content/uploads/2020/06/AZFlag.jpg
ORGANIZER;CN="Kenny & Brenna":MAILTO:info@fishhugger.com
END:VEVENT
END:VCALENDAR