BEGIN:VCALENDAR
VERSION:2.0
PRODID:-//American Surf and Turf - ECPv6.15.18//NONSGML v1.0//EN
CALSCALE:GREGORIAN
METHOD:PUBLISH
X-WR-CALNAME:American Surf and Turf
X-ORIGINAL-URL:https://fishhugger.com
X-WR-CALDESC:Events for American Surf and Turf
REFRESH-INTERVAL;VALUE=DURATION:PT1H
X-Robots-Tag:noindex
X-PUBLISHED-TTL:PT1H
BEGIN:VTIMEZONE
TZID:America/Phoenix
BEGIN:STANDARD
TZOFFSETFROM:-0700
TZOFFSETTO:-0700
TZNAME:MST
DTSTART:20230101T000000
END:STANDARD
END:VTIMEZONE
BEGIN:VEVENT
DTSTART;TZID=America/Phoenix:20240608T080000
DTEND;TZID=America/Phoenix:20240608T110000
DTSTAMP:20260421T060302
CREATED:20240524T154210Z
LAST-MODIFIED:20240524T154210Z
UID:2567-1717833600-1717844400@fishhugger.com
SUMMARY:Los Ranchos Growers Market-Albuquerque NM-June 8
DESCRIPTION:Saturdays 8am-11am\, 6718 Rio Grande Blvd NW\, Los Ranchos NM 87107. Alaska Wild Salmon & Seafood\, New Mexico Local Raw Honey\, New Mexico Pork and so much more! Ask for the FishHugger Family. \nWe have beef and pork harvest dates scheduled throughout the summer and early fall. We anticipate having a full inventory of New Mexico Grassfed-Grassfinished-GrassFAT Beef available around the middle to the end of July 2024. We welcome orders for quarter\, side or whole beef or pig. Please order or further inquire via email: info@fishhugger.com
URL:https://fishhugger.com/event/los-ranchos-growers-market-albuquerque-nm-june-8/
LOCATION:Los Ranchos Growers Market\, 6718 Rio Grande Blvd NW\, Los Ranchos\, NM\, 87107
CATEGORIES:Markets
ATTACH;FMTTYPE=image/jpeg:https://fishhugger.com/wp-content/uploads/2021/05/LRFave-e1623434707736.jpg
END:VEVENT
END:VCALENDAR