BEGIN:VCALENDAR
VERSION:2.0
PRODID:-//American Surf and Turf - ECPv6.15.18//NONSGML v1.0//EN
CALSCALE:GREGORIAN
METHOD:PUBLISH
X-WR-CALNAME:American Surf and Turf
X-ORIGINAL-URL:https://fishhugger.com
X-WR-CALDESC:Events for American Surf and Turf
REFRESH-INTERVAL;VALUE=DURATION:PT1H
X-Robots-Tag:noindex
X-PUBLISHED-TTL:PT1H
BEGIN:VTIMEZONE
TZID:America/Phoenix
BEGIN:STANDARD
TZOFFSETFROM:-0700
TZOFFSETTO:-0700
TZNAME:MST
DTSTART:20230101T000000
END:STANDARD
END:VTIMEZONE
BEGIN:VEVENT
DTSTART;VALUE=DATE:20240310
DTEND;VALUE=DATE:20240311
DTSTAMP:20260421T094126
CREATED:20240212T184127Z
LAST-MODIFIED:20240212T184127Z
UID:2503-1710028800-1710115199@fishhugger.com
SUMMARY:NO MARKET in Ahwatukee-March 10
DESCRIPTION:Due to an annual event scheduled by the Ahwatukee HOA\, the farmers market will not be held today. Catch us back next Sunday\, March 17!
URL:https://fishhugger.com/event/no-market-in-ahwatukee-march-10/
LOCATION:NM
CATEGORIES:Markets
END:VEVENT
END:VCALENDAR