BEGIN:VCALENDAR
VERSION:2.0
PRODID:-//American Surf and Turf - ECPv6.15.18//NONSGML v1.0//EN
CALSCALE:GREGORIAN
METHOD:PUBLISH
X-WR-CALNAME:American Surf and Turf
X-ORIGINAL-URL:https://fishhugger.com
X-WR-CALDESC:Events for American Surf and Turf
REFRESH-INTERVAL;VALUE=DURATION:PT1H
X-Robots-Tag:noindex
X-PUBLISHED-TTL:PT1H
BEGIN:VTIMEZONE
TZID:America/Phoenix
BEGIN:STANDARD
TZOFFSETFROM:-0700
TZOFFSETTO:-0700
TZNAME:MST
DTSTART:20220101T000000
END:STANDARD
END:VTIMEZONE
BEGIN:VEVENT
DTSTART;TZID=America/Phoenix:20231209T100000
DTEND;TZID=America/Phoenix:20231209T120000
DTSTAMP:20260421T131623
CREATED:20231013T195014Z
LAST-MODIFIED:20231204T195509Z
UID:2257-1702116000-1702123200@fishhugger.com
SUMMARY:Los Ranchos Growers Market-Albuquerque NM-December 9
DESCRIPTION:**WINTER MARKET THIS SATURDAY ONLY** 10am-12pm\, 6718 Rio Grande Blvd NW\, Los Ranchos NM 87107. Alaska Wild Salmon\, New Mexico Grass-Finished Beef and Pork\, local New Mexico honey and so much more! This is our last planned event in New Mexico until summer 2024. Stock up for winter!
URL:https://fishhugger.com/event/los-ranchos-growers-market-december-9/
LOCATION:Los Ranchos Growers Market\, 6718 Rio Grande Blvd NW\, Los Ranchos\, NM\, 87107
CATEGORIES:Markets
ATTACH;FMTTYPE=image/jpeg:https://fishhugger.com/wp-content/uploads/2021/05/LRFave-e1623434707736.jpg
END:VEVENT
END:VCALENDAR